PDS_VERSION_ID = PDS3
/* FILE DATA ELEMENTS */
RECORD_TYPE = STREAM
/* POINTERS TO DATA OBJECTS */
^COMPRESSED_FILE = "H0438_0000_P23.JP2"
/* IDENTIFICATION DATA ELEMENTS */
DATA_SET_ID = "MEX-M-HRSC-5-REFDR-MAPPROJECTED-V3.0"
DATA_SET_NAME = "MARS EXPRESS HRSC MAP PROJECTED REFDR V3.0"
DETECTOR_ID = MEX_HRSC_P2
EVENT_TYPE = "MARS-REGIONAL-MAPPING-Fl-Gl-Mw"
INSTRUMENT_HOST_ID = MEX
INSTRUMENT_HOST_NAME = "MARS EXPRESS"
INSTRUMENT_ID = HRSC
INSTRUMENT_NAME = "HIGH RESOLUTION STEREO CAMERA"
MISSION_NAME = "MARS EXPRESS"
MISSION_PHASE_NAME = MC_Phase_6
PROCESSING_LEVEL_ID = 3
PRODUCT_CREATION_TIME = 2016-03-03T04:31:40.000Z
PRODUCT_ID = "H0438_0000_P23.JP2"
RELEASE_ID = 0007
REVISION_ID = 0000
/* QUALITY DATA ELEMENTS */
DATA_QUALITY_ID = 1
DATA_QUALITY_DESC = "Data calculated based on original SPICE kernels"
/* TIME DATA ELEMENTS */
SPACECRAFT_CLOCK_START_COUNT = "1/0033557580.57959"
SPACECRAFT_CLOCK_STOP_COUNT = "1/0033558273.56228"
START_TIME = 2004-05-25T09:35:42.167Z
STOP_TIME = 2004-05-25T09:51:31.373Z
/* ORBITAL DATA ELEMENTS */
ASCENDING_NODE_LONGITUDE = 219.9
MAXIMUM_RESOLUTION = 73.1
FOOTPRINT_POINT_LATITUDE = (-46.5891,-45.8427,-45.0199,-44.189, -42.891,-41.7146,-40.7986,-39.8733, -38.9258,-37.9564,-36.9596,-35.9522, -34.9599,-33.9793,-33.0122,-32.0568, -31.1143,-30.1832,-29.2649,-28.3579, -27.4621,-26.5795,-25.7096,-24.8491, -24.0028,-23.1681,-22.345,-21.5329, -20.7329,-19.9442,-19.1674,-18.4008, -17.6456,-16.9014,-16.1684,-15.4794, -14.7408,-14.0507,-13.3383,-12.6564, -11.9838,-11.3221,-10.6702,-10.0343, -9.39826,-8.78322,-7.25819,-6.08284, -5.78291,-5.85367,-5.93028,-6.00429, -6.05027,-7.18837,-8.36184,-9.57151, -10.1898,-10.8189,-11.4579,-12.1071, -12.7667,-13.4824,-14.1243,-14.8122, -15.5081,-16.2189,-16.9398,-17.6667, -18.4083,-19.1734,-19.9445,-20.7228, -21.5144,-22.3163,-23.1288,-23.9558, -25.2226,-26.0732,-26.946,-27.8289, -28.7291,-29.636,-30.5548,-31.4841, -32.4273,-33.3829,-34.3515,-35.3329, -36.3282,-37.823,-38.7951,-39.7444, -40.6703,-41.5755,-42.7542,-44.0409, -44.8812,-45.7046,-46.5034,-46.5891)
FOOTPRINT_POINT_LONGITUDE = (302.463,303.316,303.372,303.433,303.51 ,303.582,303.629,303.683,303.735, 303.787,303.835,303.882,303.929,303.973 ,304.015,304.056,304.095,304.132, 304.169,304.203,304.236,304.269,304.3, 304.33,304.36,304.39,304.418,304.446, 304.474,304.501,304.528,304.555,304.581 ,304.607,304.633,304.677,304.689,304.72 ,304.735,304.761,304.786,304.811, 304.837,304.866,304.891,304.921,304.984 ,305.037,303.978,302.583,301.189, 300.007,299.288,299.432,299.573,299.712 ,299.78,299.848,299.914,299.979,300.043 ,300.087,300.166,300.228,300.29,300.35, 300.408,300.468,300.524,300.574,300.625 ,300.676,300.724,300.772,300.819, 300.862,300.922,300.964,300.998,301.032 ,301.06,301.089,301.115,301.139,301.16, 301.177,301.191,301.201,301.206,301.208 ,301.203,301.194,301.182,301.166, 301.137,301.099,301.067,301.031,300.998 ,302.463)
ORBIT_NUMBER = 438
ORBITAL_ECCENTRICITY = 0.573
ORBITAL_INCLINATION = 86.56
ORBITAL_SEMIMAJOR_AXIS = 8535.16
PERIAPSIS_ALTITUDE = 265.34
PERIAPSIS_ARGUMENT_ANGLE = 285.05
PERIAPSIS_TIME = 2004-05-25T09:28:04.000Z
SPACECRAFT_ORIENTATION = (0.0,-1.0,0.0)
^MEX_ORIENTATION_DESC = "MEX_ORIENTATION_DESC.TXT"
SPACECRAFT_POINTING_MODE = NADIR
^MEX_POINTING_DESC = "MEX_POINTING_DESC.TXT"
RIGHT_ASCENSION = -1e+32
DECLINATION = -1e+32
OFFSET_ANGLE = -1e+32
SPACECRAFT_SOLAR_DISTANCE = 2.45197e+08
TARGET_NAME = MARS
/* CAMERA DATA ELEMENTS */
DETECTOR_TEMPERATURE = 18.5744
FOCAL_PLANE_TEMPERATURE = 8.1755
INST_CMPRS_NAME = "DISCRETE COSINE TRANSFORMATION (DCT)"
INST_CMPRS_RATIO = 13.3991
INST_CMPRS_QUALITY = 0
INST_CMPRS_QUANTZ_TBL_ID = 0
INSTRUMENT_TEMPERATURE = 10.8262
LENS_TEMPERATURE = 8.7872
MACROPIXEL_SIZE = 4
MISSING_FRAMES = 81
PIXEL_SUBSAMPLING_FLAG = N
SIGNAL_CHAIN_ID = 3
/* RADIOMETRIC DATA ELEMENTS */
BANDWIDTH = 177.0
CENTER_FILTER_WAVELENGTH = 676.5
RADIANCE_OFFSET = 1.12631
RADIANCE_SCALING_FACTOR = 0.0228876
REFLECTANCE_SCALING_FACTOR = 0.000729607
MEX:REFLECTANCE_OFFSET = 0.0359043
/* IMAGE OBJECT DEFINITIONS */
OBJECT = IMAGE
  INTERCHANGE_FORMAT = BINARY
  LINES = 46105
  LINE_SAMPLES = 5807
  SAMPLE_TYPE = UNSIGNED_INTEGER
  SAMPLE_BITS = 8
  BANDS = 1
  BAND_STORAGE_TYPE = BAND_SEQUENTIAL
  MAXIMUM = 217
  MEAN = 100.788
  MINIMUM = 28
  STANDARD_DEVIATION = 29.8763
END_OBJECT = IMAGE
/* MAP OBJECT DEFINITIONS */
OBJECT = IMAGE_MAP_PROJECTION
  ^DATA_SET_MAP_PROJECTION_CATALOG= "DSMAP.CAT"
  A_AXIS_RADIUS = 3396.0
  B_AXIS_RADIUS = 3396.0
  C_AXIS_RADIUS = 3396.0
  CENTER_LATITUDE = 0.0
  CENTER_LONGITUDE = 303.0
  COORDINATE_SYSTEM_NAME = PLANETOGRAPHIC
  COORDINATE_SYSTEM_TYPE = "BODY-FIXED ROTATING"
  EASTERNMOST_LONGITUDE = 305.037
  FIRST_STANDARD_PARALLEL = "N/A"
  LINE_FIRST_PIXEL = 1
  LINE_LAST_PIXEL = 46105
  LINE_PROJECTION_OFFSET = -6847.125
  MAP_PROJECTION_ROTATION = 0.0
  MAP_PROJECTION_TYPE = SINUSOIDAL
  MAP_RESOLUTION = 1185.42760773333
  MAP_SCALE = 0.05
  MAXIMUM_LATITUDE = -5.78291
  MINIMUM_LATITUDE = -46.5891
  POSITIVE_LONGITUDE_DIRECTION = EAST
  REFERENCE_LATITUDE = "N/A"
  REFERENCE_LONGITUDE = "N/A"
  SAMPLE_FIRST_PIXEL = 1
  SAMPLE_LAST_PIXEL = 5807
  SAMPLE_PROJECTION_OFFSET = 3925.125
  SECOND_STANDARD_PARALLEL = "N/A"
  WESTERNMOST_LONGITUDE = 299.288
END_OBJECT = IMAGE_MAP_PROJECTION
/* The JPEG2000 image data file associated with this label. */
OBJECT = COMPRESSED_FILE
  FILE_NAME = "H0438_0000_P23.JP2"
  RECORD_TYPE = UNDEFINED
  FILE_RECORDS = UNK
  ENCODING_TYPE = "JP2"
  INTERCHANGE_FORMAT = BINARY
  UNCOMPRESSED_FILE_NAME = "H0438_0000_P23.IMG"
  REQUIRED_STORAGE_BYTES = "267760770"
  ^DESCRIPTION = "JP2INFO.TXT"
END_OBJECT = COMPRESSED_FILE
END
