PDS_VERSION_ID = PDS3
/* FILE DATA ELEMENTS */
RECORD_TYPE = STREAM
/* POINTERS TO DATA OBJECTS */
^COMPRESSED_FILE = "H0438_0005_SR3.JP2"
/* IDENTIFICATION DATA ELEMENTS */
DATA_SET_ID = "MEX-M-HRSC-5-REFDR-MAPPROJECTED-V3.0"
DATA_SET_NAME = "MARS EXPRESS HRSC MAP PROJECTED REFDR V3.0"
DETECTOR_ID = MEX_HRSC_SRC
EVENT_TYPE = "MARS-REGIONAL-MAPPING-Fl-Gl-Mw"
INSTRUMENT_HOST_ID = MEX
INSTRUMENT_HOST_NAME = "MARS EXPRESS"
INSTRUMENT_ID = HRSC
INSTRUMENT_NAME = "HIGH RESOLUTION STEREO CAMERA"
MISSION_NAME = "MARS EXPRESS"
MISSION_PHASE_NAME = MC_Phase_6
PROCESSING_LEVEL_ID = 3
PRODUCT_CREATION_TIME = 2016-03-03T04:31:40.000Z
PRODUCT_ID = "H0438_0005_SR3.JP2"
RELEASE_ID = 0007
REVISION_ID = 0000
/* QUALITY DATA ELEMENTS */
DATA_QUALITY_ID = 1
DATA_QUALITY_DESC = "Data calculated based on original SPICE kernels"
/* TIME DATA ELEMENTS */
SPACECRAFT_CLOCK_START_COUNT = "1/0033557580.57959"
SPACECRAFT_CLOCK_STOP_COUNT = "1/0033558273.56228"
IMAGE_TIME = 2004-05-25T09:36:29.135Z
START_TIME = 2004-05-25T09:36:29.133Z
STOP_TIME = 2004-05-25T09:36:29.138Z
/* ORBITAL DATA ELEMENTS */
ASCENDING_NODE_LONGITUDE = 219.9
MAXIMUM_RESOLUTION = 4.377
FOOTPRINT_POINT_LATITUDE = (-42.0103,-42.0146,-42.0176,-42.0208, -42.0232,-42.0258,-42.0283,-42.0319, -42.0353,-42.038,-42.0425,-42.0458, -42.0504,-42.0526,-42.0563,-42.0587, -42.0621,-42.0646,-42.0674,-42.0694, -42.0717,-42.0742,-42.0778,-42.0806, -42.0828,-42.0841,-42.084,-42.0839, -42.0839,-42.0838,-42.0837,-42.0836, -42.0835,-42.0834,-42.0833,-42.0832, -42.0831,-42.0831,-42.083,-42.0829, -42.0828,-42.0827,-42.0826,-42.0825, -42.0824,-42.0823,-42.0822,-42.0821, -42.0821,-42.082,-42.0819,-42.0801, -42.078,-42.0754,-42.072,-42.0694, -42.0657,-42.0626,-42.0581,-42.0555, -42.052,-42.0497,-42.0468,-42.0424, -42.0396,-42.0371,-42.0349,-42.0315, -42.0269,-42.0241,-42.02,-42.0178, -42.0142,-42.0121,-42.0079,-42.0075, -42.0076,-42.0077,-42.0078,-42.0079, -42.008,-42.0081,-42.0081,-42.0082, -42.0083,-42.0084,-42.0085,-42.0085, -42.0086,-42.0087,-42.0088,-42.0089, -42.009,-42.0091,-42.0092,-42.0093, -42.0094,-42.0095,-42.0096,-42.0103)
FOOTPRINT_POINT_LONGITUDE = (302.399,302.399,302.399,302.399, 302.399,302.398,302.398,302.398,302.398 ,302.398,302.398,302.398,302.398, 302.397,302.397,302.397,302.397,302.397 ,302.397,302.397,302.397,302.397, 302.396,302.396,302.396,302.394,302.39, 302.386,302.382,302.378,302.374,302.37, 302.366,302.362,302.358,302.354,302.35, 302.346,302.342,302.338,302.334,302.331 ,302.327,302.323,302.319,302.315, 302.311,302.307,302.303,302.3,302.296, 302.295,302.295,302.295,302.295,302.295 ,302.296,302.296,302.296,302.296, 302.296,302.296,302.296,302.296,302.297 ,302.297,302.297,302.297,302.297, 302.297,302.297,302.298,302.298,302.298 ,302.298,302.303,302.307,302.31,302.315 ,302.318,302.323,302.326,302.329, 302.333,302.337,302.34,302.344,302.347, 302.351,302.356,302.36,302.363,302.368, 302.373,302.377,302.381,302.385,302.39, 302.395,302.399)
ORBIT_NUMBER = 438
ORBITAL_ECCENTRICITY = 0.573
ORBITAL_INCLINATION = 86.56
ORBITAL_SEMIMAJOR_AXIS = 8535.16
PERIAPSIS_ALTITUDE = 265.34
PERIAPSIS_ARGUMENT_ANGLE = 285.05
PERIAPSIS_TIME = 2004-05-25T09:28:04.000Z
SPACECRAFT_ORIENTATION = (0.0,-1.0,0.0)
^MEX_ORIENTATION_DESC = "MEX_ORIENTATION_DESC.TXT"
SPACECRAFT_POINTING_MODE = NADIR
^MEX_POINTING_DESC = "MEX_POINTING_DESC.TXT"
RIGHT_ASCENSION = -1e+32
DECLINATION = -1e+32
OFFSET_ANGLE = -1e+32
SPACECRAFT_SOLAR_DISTANCE = 2.45197e+08
TARGET_NAME = MARS
/* CAMERA DATA ELEMENTS */
BUFFER_MODE_ID = BUFFER_8
EXPOSURE_DURATION = 5.04
INST_CMPRS_NAME = NONE
INST_CMPRS_RATIO = 1.0
INST_CMPRS_QUALITY = -2147483648
INST_CMPRS_QUANTZ_TBL_ID = -2147483648
INSTRUMENT_TEMPERATURE = 11.2121
MISSING_FRAMES = 0
START_BIT = 0
/* RADIOMETRIC DATA ELEMENTS */
BANDWIDTH = 250.0
CENTER_FILTER_WAVELENGTH = 600.0
RADIANCE_OFFSET = -9.99e+31
RADIANCE_SCALING_FACTOR = -9.99e+31
REFLECTANCE_SCALING_FACTOR = -9.99e+31
MEX:REFLECTANCE_OFFSET = -9.99e+31
/* IMAGE OBJECT DEFINITIONS */
OBJECT = IMAGE
  INTERCHANGE_FORMAT = BINARY
  LINES = 967
  LINE_SAMPLES = 979
  SAMPLE_TYPE = UNSIGNED_INTEGER
  SAMPLE_BITS = 8
  BANDS = 1
  BAND_STORAGE_TYPE = BAND_SEQUENTIAL
  MAXIMUM = 2779
  MEAN = 2069.16
  MINIMUM = 1584
  STANDARD_DEVIATION = 158.555
END_OBJECT = IMAGE
/* MAP OBJECT DEFINITIONS */
OBJECT = IMAGE_MAP_PROJECTION
  ^DATA_SET_MAP_PROJECTION_CATALOG= "DSMAP.CAT"
  A_AXIS_RADIUS = 3396.19
  B_AXIS_RADIUS = 3396.19
  C_AXIS_RADIUS = 3396.19
  CENTER_LATITUDE = 0.0
  CENTER_LONGITUDE = 302.0
  COORDINATE_SYSTEM_NAME = PLANETOGRAPHIC
  COORDINATE_SYSTEM_TYPE = "BODY-FIXED ROTATING"
  EASTERNMOST_LONGITUDE = 302.399
  FIRST_STANDARD_PARALLEL = "N/A"
  LINE_FIRST_PIXEL = 1
  LINE_LAST_PIXEL = 967
  LINE_PROJECTION_OFFSET = -497502.0
  MAP_PROJECTION_ROTATION = 0.0
  MAP_PROJECTION_TYPE = SINUSOIDAL
  MAP_RESOLUTION = 11854.9393024378
  MAP_SCALE = 0.005
  MAXIMUM_LATITUDE = -42.0075
  MINIMUM_LATITUDE = -42.0841
  POSITIVE_LONGITUDE_DIRECTION = EAST
  REFERENCE_LATITUDE = "N/A"
  REFERENCE_LONGITUDE = "N/A"
  SAMPLE_FIRST_PIXEL = 1
  SAMPLE_LAST_PIXEL = 979
  SAMPLE_PROJECTION_OFFSET = -2557.0
  SECOND_STANDARD_PARALLEL = "N/A"
  WESTERNMOST_LONGITUDE = 302.295
END_OBJECT = IMAGE_MAP_PROJECTION
/* The JPEG2000 image data file associated with this label. */
OBJECT = COMPRESSED_FILE
  FILE_NAME = "H0438_0005_SR3.JP2"
  RECORD_TYPE = UNDEFINED
  FILE_RECORDS = UNK
  ENCODING_TYPE = "JP2"
  INTERCHANGE_FORMAT = BINARY
  UNCOMPRESSED_FILE_NAME = "H0438_0005_SR3.IMG"
  REQUIRED_STORAGE_BYTES = "965294"
  ^DESCRIPTION = "JP2INFO.TXT"
END_OBJECT = COMPRESSED_FILE
END
