PDS_VERSION_ID = PDS3
/* FILE DATA ELEMENTS */
RECORD_TYPE = STREAM
/* POINTERS TO DATA OBJECTS */
^COMPRESSED_FILE = "H0438_0006_SR3.JP2"
/* IDENTIFICATION DATA ELEMENTS */
DATA_SET_ID = "MEX-M-HRSC-5-REFDR-MAPPROJECTED-V3.0"
DATA_SET_NAME = "MARS EXPRESS HRSC MAP PROJECTED REFDR V3.0"
DETECTOR_ID = MEX_HRSC_SRC
EVENT_TYPE = "MARS-REGIONAL-MAPPING-Fl-Gl-Mw"
INSTRUMENT_HOST_ID = MEX
INSTRUMENT_HOST_NAME = "MARS EXPRESS"
INSTRUMENT_ID = HRSC
INSTRUMENT_NAME = "HIGH RESOLUTION STEREO CAMERA"
MISSION_NAME = "MARS EXPRESS"
MISSION_PHASE_NAME = MC_Phase_6
PROCESSING_LEVEL_ID = 3
PRODUCT_CREATION_TIME = 2016-03-03T04:31:40.000Z
PRODUCT_ID = "H0438_0006_SR3.JP2"
RELEASE_ID = 0007
REVISION_ID = 0000
/* QUALITY DATA ELEMENTS */
DATA_QUALITY_ID = 1
DATA_QUALITY_DESC = "Data calculated based on original SPICE kernels"
/* TIME DATA ELEMENTS */
SPACECRAFT_CLOCK_START_COUNT = "1/0033557580.57959"
SPACECRAFT_CLOCK_STOP_COUNT = "1/0033558273.56228"
IMAGE_TIME = 2004-05-25T09:36:30.225Z
START_TIME = 2004-05-25T09:36:30.223Z
STOP_TIME = 2004-05-25T09:36:30.228Z
/* ORBITAL DATA ELEMENTS */
ASCENDING_NODE_LONGITUDE = 219.9
MAXIMUM_RESOLUTION = 4.385
FOOTPRINT_POINT_LATITUDE = (-41.9474,-41.9493,-41.9519,-41.9554, -41.9587,-41.9627,-41.9654,-41.9688, -41.9711,-41.9742,-41.9765,-41.9794, -41.9817,-41.9837,-41.9862,-41.9889, -41.993,-41.9969,-42.0003,-42.0038, -42.0058,-42.0089,-42.0125,-42.0149, -42.019,-42.0189,-42.0189,-42.0188, -42.0187,-42.0186,-42.0185,-42.0184, -42.0183,-42.0182,-42.0181,-42.0181, -42.018,-42.0179,-42.0178,-42.0177, -42.0176,-42.0175,-42.0174,-42.0173, -42.0172,-42.0171,-42.0171,-42.017, -42.0169,-42.0131,-42.0095,-42.0067, -42.0044,-42.0017,-41.9994,-41.9957, -41.9935,-41.9904,-41.9875,-41.985, -41.9807,-41.9766,-41.9735,-41.9714, -41.9692,-41.9659,-41.963,-41.9599, -41.9578,-41.9552,-41.9516,-41.9497, -41.9469,-41.9449,-41.9422,-41.9424, -41.9424,-41.9426,-41.9426,-41.9427, -41.9428,-41.9429,-41.943,-41.9431, -41.9432,-41.9433,-41.9434,-41.9435, -41.9436,-41.9437,-41.9437,-41.9438, -41.9439,-41.944,-41.9441,-41.9442, -41.9443,-41.9443,-41.9444,-41.9474)
FOOTPRINT_POINT_LONGITUDE = (302.402,302.402,302.402,302.401, 302.401,302.401,302.401,302.401,302.401 ,302.401,302.401,302.4,302.4,302.4, 302.4,302.4,302.4,302.4,302.4,302.4, 302.399,302.399,302.399,302.399,302.397 ,302.392,302.389,302.385,302.381, 302.375,302.371,302.367,302.363,302.359 ,302.356,302.352,302.348,302.344,302.34 ,302.337,302.333,302.329,302.325, 302.321,302.317,302.313,302.309,302.305 ,302.301,302.298,302.298,302.298, 302.298,302.298,302.298,302.298,302.299 ,302.299,302.299,302.299,302.299, 302.299,302.299,302.299,302.3,302.3, 302.3,302.3,302.3,302.3,302.3,302.3, 302.3,302.301,302.302,302.307,302.311, 302.316,302.32,302.324,302.328,302.332, 302.336,302.341,302.346,302.35,302.354, 302.358,302.361,302.365,302.368,302.372 ,302.376,302.38,302.384,302.388,302.392 ,302.395,302.399,302.402)
ORBIT_NUMBER = 438
ORBITAL_ECCENTRICITY = 0.573
ORBITAL_INCLINATION = 86.56
ORBITAL_SEMIMAJOR_AXIS = 8535.16
PERIAPSIS_ALTITUDE = 265.34
PERIAPSIS_ARGUMENT_ANGLE = 285.05
PERIAPSIS_TIME = 2004-05-25T09:28:04.000Z
SPACECRAFT_ORIENTATION = (0.0,-1.0,0.0)
^MEX_ORIENTATION_DESC = "MEX_ORIENTATION_DESC.TXT"
SPACECRAFT_POINTING_MODE = NADIR
^MEX_POINTING_DESC = "MEX_POINTING_DESC.TXT"
RIGHT_ASCENSION = -1e+32
DECLINATION = -1e+32
OFFSET_ANGLE = -1e+32
SPACECRAFT_SOLAR_DISTANCE = 2.45197e+08
TARGET_NAME = MARS
/* CAMERA DATA ELEMENTS */
BUFFER_MODE_ID = BUFFER_8
EXPOSURE_DURATION = 5.04
INST_CMPRS_NAME = NONE
INST_CMPRS_RATIO = 1.0
INST_CMPRS_QUALITY = -2147483648
INST_CMPRS_QUANTZ_TBL_ID = -2147483648
INSTRUMENT_TEMPERATURE = 11.2121
MISSING_FRAMES = 0
START_BIT = 0
/* RADIOMETRIC DATA ELEMENTS */
BANDWIDTH = 250.0
CENTER_FILTER_WAVELENGTH = 600.0
RADIANCE_OFFSET = -9.99e+31
RADIANCE_SCALING_FACTOR = -9.99e+31
REFLECTANCE_SCALING_FACTOR = -9.99e+31
MEX:REFLECTANCE_OFFSET = -9.99e+31
/* IMAGE OBJECT DEFINITIONS */
OBJECT = IMAGE
  INTERCHANGE_FORMAT = BINARY
  LINES = 969
  LINE_SAMPLES = 979
  SAMPLE_TYPE = UNSIGNED_INTEGER
  SAMPLE_BITS = 8
  BANDS = 1
  BAND_STORAGE_TYPE = BAND_SEQUENTIAL
  MAXIMUM = 2563
  MEAN = 1954.48
  MINIMUM = 1486
  STANDARD_DEVIATION = 87.8932
END_OBJECT = IMAGE
/* MAP OBJECT DEFINITIONS */
OBJECT = IMAGE_MAP_PROJECTION
  ^DATA_SET_MAP_PROJECTION_CATALOG= "DSMAP.CAT"
  A_AXIS_RADIUS = 3396.19
  B_AXIS_RADIUS = 3396.19
  C_AXIS_RADIUS = 3396.19
  CENTER_LATITUDE = 0.0
  CENTER_LONGITUDE = 302.0
  COORDINATE_SYSTEM_NAME = PLANETOGRAPHIC
  COORDINATE_SYSTEM_TYPE = "BODY-FIXED ROTATING"
  EASTERNMOST_LONGITUDE = 302.402
  FIRST_STANDARD_PARALLEL = "N/A"
  LINE_FIRST_PIXEL = 1
  LINE_LAST_PIXEL = 969
  LINE_PROJECTION_OFFSET = -496731.0
  MAP_PROJECTION_ROTATION = 0.0
  MAP_PROJECTION_TYPE = SINUSOIDAL
  MAP_RESOLUTION = 11854.9393024378
  MAP_SCALE = 0.005
  MAXIMUM_LATITUDE = -41.9422
  MINIMUM_LATITUDE = -42.019
  POSITIVE_LONGITUDE_DIRECTION = EAST
  REFERENCE_LATITUDE = "N/A"
  REFERENCE_LONGITUDE = "N/A"
  SAMPLE_FIRST_PIXEL = 1
  SAMPLE_LAST_PIXEL = 979
  SAMPLE_PROJECTION_OFFSET = -2584.0
  SECOND_STANDARD_PARALLEL = "N/A"
  WESTERNMOST_LONGITUDE = 302.298
END_OBJECT = IMAGE_MAP_PROJECTION
/* The JPEG2000 image data file associated with this label. */
OBJECT = COMPRESSED_FILE
  FILE_NAME = "H0438_0006_SR3.JP2"
  RECORD_TYPE = UNDEFINED
  FILE_RECORDS = UNK
  ENCODING_TYPE = "JP2"
  INTERCHANGE_FORMAT = BINARY
  UNCOMPRESSED_FILE_NAME = "H0438_0006_SR3.IMG"
  REQUIRED_STORAGE_BYTES = "967252"
  ^DESCRIPTION = "JP2INFO.TXT"
END_OBJECT = COMPRESSED_FILE
END
