PDS_VERSION_ID = PDS3
/* FILE DATA ELEMENTS */
RECORD_TYPE = STREAM
/* POINTERS TO DATA OBJECTS */
^COMPRESSED_FILE = "H0438_0007_SR3.JP2"
/* IDENTIFICATION DATA ELEMENTS */
DATA_SET_ID = "MEX-M-HRSC-5-REFDR-MAPPROJECTED-V3.0"
DATA_SET_NAME = "MARS EXPRESS HRSC MAP PROJECTED REFDR V3.0"
DETECTOR_ID = MEX_HRSC_SRC
EVENT_TYPE = "MARS-REGIONAL-MAPPING-Fl-Gl-Mw"
INSTRUMENT_HOST_ID = MEX
INSTRUMENT_HOST_NAME = "MARS EXPRESS"
INSTRUMENT_ID = HRSC
INSTRUMENT_NAME = "HIGH RESOLUTION STEREO CAMERA"
MISSION_NAME = "MARS EXPRESS"
MISSION_PHASE_NAME = MC_Phase_6
PROCESSING_LEVEL_ID = 3
PRODUCT_CREATION_TIME = 2016-03-03T04:31:40.000Z
PRODUCT_ID = "H0438_0007_SR3.JP2"
RELEASE_ID = 0007
REVISION_ID = 0000
/* QUALITY DATA ELEMENTS */
DATA_QUALITY_ID = 1
DATA_QUALITY_DESC = "Data calculated based on original SPICE kernels"
/* TIME DATA ELEMENTS */
SPACECRAFT_CLOCK_START_COUNT = "1/0033557580.57959"
SPACECRAFT_CLOCK_STOP_COUNT = "1/0033558273.56228"
IMAGE_TIME = 2004-05-25T09:36:31.315Z
START_TIME = 2004-05-25T09:36:31.313Z
STOP_TIME = 2004-05-25T09:36:31.318Z
/* ORBITAL DATA ELEMENTS */
ASCENDING_NODE_LONGITUDE = 219.9
MAXIMUM_RESOLUTION = 4.392
FOOTPRINT_POINT_LATITUDE = (-41.8833,-41.8855,-41.8881,-41.8914, -41.894,-41.8962,-41.8998,-41.902, -41.9046,-41.9073,-41.91,-41.9137, -41.9158,-41.918,-41.9211,-41.925, -41.9296,-41.9339,-41.9371,-41.9399, -41.9436,-41.9475,-41.9515,-41.954, -41.9539,-41.9538,-41.9538,-41.9537, -41.9536,-41.9535,-41.9534,-41.9533, -41.9532,-41.9532,-41.9531,-41.953, -41.9529,-41.9528,-41.9527,-41.9525, -41.9524,-41.9524,-41.9523,-41.9522, -41.9521,-41.952,-41.9519,-41.9518, -41.951,-41.9486,-41.9466,-41.944, -41.9397,-41.9367,-41.9342,-41.9315, -41.9278,-41.9247,-41.921,-41.9188, -41.916,-41.9121,-41.9099,-41.9077, -41.9041,-41.9008,-41.8985,-41.8954, -41.8916,-41.8895,-41.8859,-41.8807, -41.8786,-41.8771,-41.8772,-41.8773, -41.8773,-41.8774,-41.8775,-41.8776, -41.8777,-41.8778,-41.8779,-41.878, -41.8781,-41.8782,-41.8783,-41.8784, -41.8785,-41.8786,-41.8786,-41.8787, -41.8788,-41.8789,-41.8789,-41.879, -41.8791,-41.8791,-41.8792,-41.8833)
FOOTPRINT_POINT_LONGITUDE = (302.404,302.404,302.404,302.404, 302.404,302.404,302.404,302.404,302.404 ,302.403,302.403,302.403,302.403, 302.403,302.403,302.403,302.403,302.402 ,302.402,302.402,302.402,302.402, 302.402,302.402,302.397,302.393,302.39, 302.386,302.382,302.377,302.373,302.369 ,302.365,302.362,302.358,302.353, 302.349,302.345,302.341,302.335,302.331 ,302.328,302.324,302.32,302.316,302.312 ,302.308,302.304,302.3,302.3,302.301, 302.301,302.301,302.301,302.301,302.301 ,302.301,302.301,302.302,302.302, 302.302,302.302,302.302,302.302,302.302 ,302.302,302.302,302.303,302.303, 302.303,302.303,302.303,302.303,302.306 ,302.309,302.313,302.316,302.321, 302.324,302.328,302.332,302.336,302.342 ,302.346,302.35,302.355,302.359,302.364 ,302.368,302.372,302.375,302.379, 302.383,302.386,302.389,302.392,302.396 ,302.399,302.403,302.404)
ORBIT_NUMBER = 438
ORBITAL_ECCENTRICITY = 0.573
ORBITAL_INCLINATION = 86.56
ORBITAL_SEMIMAJOR_AXIS = 8535.16
PERIAPSIS_ALTITUDE = 265.34
PERIAPSIS_ARGUMENT_ANGLE = 285.05
PERIAPSIS_TIME = 2004-05-25T09:28:04.000Z
SPACECRAFT_ORIENTATION = (0.0,-1.0,0.0)
^MEX_ORIENTATION_DESC = "MEX_ORIENTATION_DESC.TXT"
SPACECRAFT_POINTING_MODE = NADIR
^MEX_POINTING_DESC = "MEX_POINTING_DESC.TXT"
RIGHT_ASCENSION = -1e+32
DECLINATION = -1e+32
OFFSET_ANGLE = -1e+32
SPACECRAFT_SOLAR_DISTANCE = 2.45197e+08
TARGET_NAME = MARS
/* CAMERA DATA ELEMENTS */
BUFFER_MODE_ID = BUFFER_8
EXPOSURE_DURATION = 5.04
INST_CMPRS_NAME = NONE
INST_CMPRS_RATIO = 1.0
INST_CMPRS_QUALITY = -2147483648
INST_CMPRS_QUANTZ_TBL_ID = -2147483648
INSTRUMENT_TEMPERATURE = 11.2121
MISSING_FRAMES = 0
START_BIT = 0
/* RADIOMETRIC DATA ELEMENTS */
BANDWIDTH = 250.0
CENTER_FILTER_WAVELENGTH = 600.0
RADIANCE_OFFSET = -9.99e+31
RADIANCE_SCALING_FACTOR = -9.99e+31
REFLECTANCE_SCALING_FACTOR = -9.99e+31
MEX:REFLECTANCE_OFFSET = -9.99e+31
/* IMAGE OBJECT DEFINITIONS */
OBJECT = IMAGE
  INTERCHANGE_FORMAT = BINARY
  LINES = 971
  LINE_SAMPLES = 981
  SAMPLE_TYPE = UNSIGNED_INTEGER
  SAMPLE_BITS = 8
  BANDS = 1
  BAND_STORAGE_TYPE = BAND_SEQUENTIAL
  MAXIMUM = 2337
  MEAN = 1950.81
  MINIMUM = 1494
  STANDARD_DEVIATION = 65.7239
END_OBJECT = IMAGE
/* MAP OBJECT DEFINITIONS */
OBJECT = IMAGE_MAP_PROJECTION
  ^DATA_SET_MAP_PROJECTION_CATALOG= "DSMAP.CAT"
  A_AXIS_RADIUS = 3396.19
  B_AXIS_RADIUS = 3396.19
  C_AXIS_RADIUS = 3396.19
  CENTER_LATITUDE = 0.0
  CENTER_LONGITUDE = 302.0
  COORDINATE_SYSTEM_NAME = PLANETOGRAPHIC
  COORDINATE_SYSTEM_TYPE = "BODY-FIXED ROTATING"
  EASTERNMOST_LONGITUDE = 302.404
  FIRST_STANDARD_PARALLEL = "N/A"
  LINE_FIRST_PIXEL = 1
  LINE_LAST_PIXEL = 971
  LINE_PROJECTION_OFFSET = -495960.0
  MAP_PROJECTION_ROTATION = 0.0
  MAP_PROJECTION_TYPE = SINUSOIDAL
  MAP_RESOLUTION = 11854.9393024378
  MAP_SCALE = 0.005
  MAXIMUM_LATITUDE = -41.8771
  MINIMUM_LATITUDE = -41.954
  POSITIVE_LONGITUDE_DIRECTION = EAST
  REFERENCE_LATITUDE = "N/A"
  REFERENCE_LONGITUDE = "N/A"
  SAMPLE_FIRST_PIXEL = 1
  SAMPLE_LAST_PIXEL = 981
  SAMPLE_PROJECTION_OFFSET = -2610.0
  SECOND_STANDARD_PARALLEL = "N/A"
  WESTERNMOST_LONGITUDE = 302.3
END_OBJECT = IMAGE_MAP_PROJECTION
/* The JPEG2000 image data file associated with this label. */
OBJECT = COMPRESSED_FILE
  FILE_NAME = "H0438_0007_SR3.JP2"
  RECORD_TYPE = UNDEFINED
  FILE_RECORDS = UNK
  ENCODING_TYPE = "JP2"
  INTERCHANGE_FORMAT = BINARY
  UNCOMPRESSED_FILE_NAME = "H0438_0007_SR3.IMG"
  REQUIRED_STORAGE_BYTES = "971190"
  ^DESCRIPTION = "JP2INFO.TXT"
END_OBJECT = COMPRESSED_FILE
END
