PDS_VERSION_ID = PDS3
/* FILE DATA ELEMENTS */
RECORD_TYPE = STREAM
/* POINTERS TO DATA OBJECTS */
^COMPRESSED_FILE = "H0442_0008_S23.JP2"
/* IDENTIFICATION DATA ELEMENTS */
DATA_SET_ID = "MEX-M-HRSC-5-REFDR-MAPPROJECTED-V3.0"
DATA_SET_NAME = "MARS EXPRESS HRSC MAP PROJECTED REFDR V3.0"
DETECTOR_ID = MEX_HRSC_S2
EVENT_TYPE = "MARS-REGIONAL-MAPPING-Vo-Te-Fl"
INSTRUMENT_HOST_ID = MEX
INSTRUMENT_HOST_NAME = "MARS EXPRESS"
INSTRUMENT_ID = HRSC
INSTRUMENT_NAME = "HIGH RESOLUTION STEREO CAMERA"
MISSION_NAME = "MARS EXPRESS"
MISSION_PHASE_NAME = MC_Phase_6
PROCESSING_LEVEL_ID = 3
PRODUCT_CREATION_TIME = 2016-03-03T04:31:40.000Z
PRODUCT_ID = "H0442_0008_S23.JP2"
RELEASE_ID = 0007
REVISION_ID = 0000
/* QUALITY DATA ELEMENTS */
DATA_QUALITY_ID = 1
DATA_QUALITY_DESC = "Data calculated based on original SPICE kernels"
/* TIME DATA ELEMENTS */
SPACECRAFT_CLOCK_START_COUNT = "1/0033654997.57310"
SPACECRAFT_CLOCK_STOP_COUNT = "1/0033656708.32999"
START_TIME = 2004-05-26T12:42:08.508Z
STOP_TIME = 2004-05-26T13:05:15.132Z
/* ORBITAL DATA ELEMENTS */
ASCENDING_NODE_LONGITUDE = 219.82
MAXIMUM_RESOLUTION = 121.3
FOOTPRINT_POINT_LATITUDE = (-14.3111,-14.2718,-14.2354,-14.2022, -14.1719,-14.0967,-13.2731,-12.4697, -11.6873,-10.9244,-10.1805,-9.45532, -8.74652,-8.05538,-7.38834,-6.76885, -6.09143,-5.48119,-4.8715,-3.99617, -3.42721,-2.87911,-2.34383,-1.82236, -1.31333,-0.817068,-0.333815,0.136584, 1.0391,1.89326,2.70112,3.46504,4.18652, 4.86739,5.51029,6.11505,6.6836,7.218, 7.71785,8.18391,8.944,8.95427,8.95913, 8.95901,8.95342,8.94244,8.92723,8.90726 ,8.88172,8.85134,8.8166,8.77719,8.73275 ,8.68371,8.6302,8.57206,8.50735,8.43773 ,8.36241,8.28182,8.19581,8.10393, 8.00741,7.90599,7.79857,7.68587,6.89814 ,6.46478,5.9982,5.49914,4.96544,4.39639 ,3.78969,3.14273,2.45522,1.7256, 0.950669,0.130137,-0.739956,-1.65607, -2.13204,-2.62305,-3.12741,-3.64661, -4.18103,-4.73119,-5.33025,-6.18015, -6.80002,-7.41377,-8.09626,-9.07804, -9.73927,-10.4465,-11.1711,-11.9149, -12.6792,-13.4646,-14.271,-14.3111)
FOOTPRINT_POINT_LONGITUDE = (267.536,268.338,269.14,269.941,270.743 ,271.853,271.903,271.952,272.003, 272.055,272.106,272.159,272.212,272.265 ,272.322,272.39,272.432,272.493,272.55, 272.64,272.699,272.761,272.824,272.887, 272.951,273.015,273.08,273.145,273.279, 273.415,273.554,273.696,273.84,273.985, 274.132,274.281,274.431,274.582,274.734 ,274.888,274.759,274.22,273.683,273.149 ,272.618,272.089,271.561,271.036, 270.512,269.99,269.469,268.948,268.429, 267.91,267.391,266.873,266.355,265.837, 265.319,264.801,264.282,263.762,263.242 ,262.721,262.199,261.675,262.051, 262.262,262.472,262.682,262.892,263.101 ,263.31,263.518,263.726,263.934,264.14, 264.347,264.552,264.758,264.86,264.962, 265.065,265.166,265.267,265.368,265.46, 265.616,265.711,265.811,265.898,266.045 ,266.146,266.239,266.332,266.423, 266.514,266.603,266.69,267.536)
ORBIT_NUMBER = 442
ORBITAL_ECCENTRICITY = 0.573
ORBITAL_INCLINATION = 86.55
ORBITAL_SEMIMAJOR_AXIS = 8534.94
PERIAPSIS_ALTITUDE = 264.88
PERIAPSIS_ARGUMENT_ANGLE = 284.33
PERIAPSIS_TIME = 2004-05-26T12:21:12.000Z
SPACECRAFT_ORIENTATION = (0.0,-1.0,0.0)
^MEX_ORIENTATION_DESC = "MEX_ORIENTATION_DESC.TXT"
SPACECRAFT_POINTING_MODE = NADIR
^MEX_POINTING_DESC = "MEX_POINTING_DESC.TXT"
RIGHT_ASCENSION = -1e+32
DECLINATION = -1e+32
OFFSET_ANGLE = -1e+32
SPACECRAFT_SOLAR_DISTANCE = 2.45315e+08
TARGET_NAME = MARS
/* CAMERA DATA ELEMENTS */
DETECTOR_TEMPERATURE = 20.4095
FOCAL_PLANE_TEMPERATURE = 7.7677
INST_CMPRS_NAME = "DISCRETE COSINE TRANSFORMATION (DCT)"
INST_CMPRS_RATIO = 11.9539
INST_CMPRS_QUALITY = 0
INST_CMPRS_QUANTZ_TBL_ID = 0
INSTRUMENT_TEMPERATURE = 12.8652
LENS_TEMPERATURE = 8.1755
MACROPIXEL_SIZE = 2
MISSING_FRAMES = 0
PIXEL_SUBSAMPLING_FLAG = N
SIGNAL_CHAIN_ID = 1
/* RADIOMETRIC DATA ELEMENTS */
BANDWIDTH = 178.0
CENTER_FILTER_WAVELENGTH = 679.0
RADIANCE_OFFSET = 3.44446
RADIANCE_SCALING_FACTOR = 0.0337693
REFLECTANCE_SCALING_FACTOR = 0.00107623
MEX:REFLECTANCE_OFFSET = 0.109776
/* IMAGE OBJECT DEFINITIONS */
OBJECT = IMAGE
  INTERCHANGE_FORMAT = BINARY
  LINES = 13752
  LINE_SAMPLES = 4286
  SAMPLE_TYPE = UNSIGNED_INTEGER
  SAMPLE_BITS = 8
  BANDS = 1
  BAND_STORAGE_TYPE = BAND_SEQUENTIAL
  MAXIMUM = 184
  MEAN = 132.338
  MINIMUM = 44
  STANDARD_DEVIATION = 21.1409
END_OBJECT = IMAGE
/* MAP OBJECT DEFINITIONS */
OBJECT = IMAGE_MAP_PROJECTION
  ^DATA_SET_MAP_PROJECTION_CATALOG= "DSMAP.CAT"
  A_AXIS_RADIUS = 3396.0
  B_AXIS_RADIUS = 3396.0
  C_AXIS_RADIUS = 3396.0
  CENTER_LATITUDE = 0.0
  CENTER_LONGITUDE = 269.0
  COORDINATE_SYSTEM_NAME = PLANETOGRAPHIC
  COORDINATE_SYSTEM_TYPE = "BODY-FIXED ROTATING"
  EASTERNMOST_LONGITUDE = 274.888
  FIRST_STANDARD_PARALLEL = "N/A"
  LINE_FIRST_PIXEL = 1
  LINE_LAST_PIXEL = 13752
  LINE_PROJECTION_OFFSET = 5306.75
  MAP_PROJECTION_ROTATION = 0.0
  MAP_PROJECTION_TYPE = SINUSOIDAL
  MAP_RESOLUTION = 592.713803866667
  MAP_SCALE = 0.1
  MAXIMUM_LATITUDE = 8.95913
  MINIMUM_LATITUDE = -14.3111
  POSITIVE_LONGITUDE_DIRECTION = EAST
  REFERENCE_LATITUDE = "N/A"
  REFERENCE_LONGITUDE = "N/A"
  SAMPLE_FIRST_PIXEL = 1
  SAMPLE_LAST_PIXEL = 4286
  SAMPLE_PROJECTION_OFFSET = 2677.75
  SECOND_STANDARD_PARALLEL = "N/A"
  WESTERNMOST_LONGITUDE = 261.675
END_OBJECT = IMAGE_MAP_PROJECTION
/* The JPEG2000 image data file associated with this label. */
OBJECT = COMPRESSED_FILE
  FILE_NAME = "H0442_0008_S23.JP2"
  RECORD_TYPE = UNDEFINED
  FILE_RECORDS = UNK
  ENCODING_TYPE = "JP2"
  INTERCHANGE_FORMAT = BINARY
  UNCOMPRESSED_FILE_NAME = "H0442_0008_S23.IMG"
  REQUIRED_STORAGE_BYTES = "58966788"
  ^DESCRIPTION = "JP2INFO.TXT"
END_OBJECT = COMPRESSED_FILE
END
