PDS_VERSION_ID = PDS3
/* FILE DATA ELEMENTS */
RECORD_TYPE = STREAM
/* POINTERS TO DATA OBJECTS */
^COMPRESSED_FILE = "H0451_0000_IR3.JP2"
/* IDENTIFICATION DATA ELEMENTS */
DATA_SET_ID = "MEX-M-HRSC-5-REFDR-MAPPROJECTED-V3.0"
DATA_SET_NAME = "MARS EXPRESS HRSC MAP PROJECTED REFDR V3.0"
DETECTOR_ID = MEX_HRSC_IR
EVENT_TYPE = "MARS-REGIONAL-STEREO-Vo-Fl-Gl"
INSTRUMENT_HOST_ID = MEX
INSTRUMENT_HOST_NAME = "MARS EXPRESS"
INSTRUMENT_ID = HRSC
INSTRUMENT_NAME = "HIGH RESOLUTION STEREO CAMERA"
MISSION_NAME = "MARS EXPRESS"
MISSION_PHASE_NAME = MC_Phase_6
PROCESSING_LEVEL_ID = 3
PRODUCT_CREATION_TIME = 2016-03-03T04:31:40.000Z
PRODUCT_ID = "H0451_0000_IR3.JP2"
RELEASE_ID = 0007
REVISION_ID = 0000
/* QUALITY DATA ELEMENTS */
DATA_QUALITY_ID = 1
DATA_QUALITY_DESC = "Data calculated based on original SPICE kernels"
/* TIME DATA ELEMENTS */
SPACECRAFT_CLOCK_START_COUNT = "1/0033872268.57968"
SPACECRAFT_CLOCK_STOP_COUNT = "1/0033873191.42469"
START_TIME = 2004-05-29T00:58:03.972Z
STOP_TIME = 2004-05-29T01:07:27.270Z
/* ORBITAL DATA ELEMENTS */
ASCENDING_NODE_LONGITUDE = 219.62
MAXIMUM_RESOLUTION = 72
FOOTPRINT_POINT_LATITUDE = (-46.1306,-46.1854,-46.2343,-45.6812, -44.8065,-44.0931,-43.3663,-42.6263, -42.25,-41.8761,-41.4931,-41.104, -40.7152,-40.3204,-39.7247,-39.3247, -38.9151,-38.508,-38.0876,-37.6775, -37.2526,-36.8152,-36.1602,-35.7177, -35.2717,-34.8199,-34.3636,-33.9016, -33.4339,-32.9606,-32.4823,-31.9983, -31.5083,-31.0123,-30.5099,-21.0468, -20.4067,-19.7577,-19.0998,-18.4326, -17.7557,-17.0687,-16.3707,-15.6619, -14.9425,-14.2084,-13.8385,-13.4657, -13.0897,-13.0672,-13.0667,-13.0637, -13.059,-13.0466,-13.0321,-13.3991, -13.7697,-14.139,-14.8667,-15.5807, -16.2843,-16.9788,-17.6621,-18.3353, -18.9985,-19.6519,-20.2957,-20.9301, -30.3525,-30.85,-31.5963,-32.09, -32.5569,-33.0355,-33.732,-34.1915, -34.6582,-35.1081,-35.5478,-35.9863, -36.4209,-36.8527,-37.2794,-37.7015, -38.1194,-38.53,-38.9376,-39.5415, -40.1374,-40.5315,-40.9171,-41.2953, -41.6808,-42.2518,-42.8087,-43.7128, -44.2638,-45.1433,-46.0046,-46.1306)
FOOTPRINT_POINT_LONGITUDE = (102.058,102.71,103.348,103.628,103.712 ,103.777,103.841,103.903,103.933, 103.964,103.994,104.023,104.052,104.081 ,104.124,104.152,104.18,104.207,104.234 ,104.261,104.288,104.313,104.351, 104.376,104.401,104.425,104.449,104.473 ,104.496,104.519,104.542,104.564, 104.586,104.608,104.629,104.932,104.947 ,104.961,104.975,104.989,105.002, 105.014,105.027,105.038,105.049,105.06, 105.066,105.071,105.076,104.558,104.036 ,103.476,102.878,102.168,101.595, 101.318,101.342,101.367,101.412,101.453 ,101.492,101.53,101.565,101.599,101.63, 101.659,101.686,101.712,101.909,101.907 ,101.912,101.917,101.904,101.905, 101.894,101.887,101.89,101.883,101.869, 101.857,101.847,101.838,101.825,101.813 ,101.801,101.784,101.768,101.743, 101.717,101.699,101.679,101.651,101.636 ,101.61,101.575,101.509,101.484,101.418 ,101.348,102.058)
ORBIT_NUMBER = 451
ORBITAL_ECCENTRICITY = 0.573
ORBITAL_INCLINATION = 86.56
ORBITAL_SEMIMAJOR_AXIS = 8535.19
PERIAPSIS_ALTITUDE = 264.43
PERIAPSIS_ARGUMENT_ANGLE = 282.75
PERIAPSIS_TIME = 2004-05-29T00:50:44.000Z
SPACECRAFT_ORIENTATION = (0.0,-1.0,0.0)
^MEX_ORIENTATION_DESC = "MEX_ORIENTATION_DESC.TXT"
SPACECRAFT_POINTING_MODE = ACROSSTRACK
^MEX_POINTING_DESC = "MEX_POINTING_DESC.TXT"
RIGHT_ASCENSION = -1e+32
DECLINATION = -1e+32
OFFSET_ANGLE = 1.16
SPACECRAFT_SOLAR_DISTANCE = 2.45575e+08
TARGET_NAME = MARS
/* CAMERA DATA ELEMENTS */
DETECTOR_TEMPERATURE = 17.1471
FOCAL_PLANE_TEMPERATURE = 7.7677
INST_CMPRS_NAME = "DISCRETE COSINE TRANSFORMATION (DCT)"
INST_CMPRS_RATIO = 10.1267
INST_CMPRS_QUALITY = 0
INST_CMPRS_QUANTZ_TBL_ID = 0
INSTRUMENT_TEMPERATURE = 11.0301
LENS_TEMPERATURE = 8.3794
MACROPIXEL_SIZE = 4
MISSING_FRAMES = 622
PIXEL_SUBSAMPLING_FLAG = N
SIGNAL_CHAIN_ID = 2
/* RADIOMETRIC DATA ELEMENTS */
BANDWIDTH = 81.0
CENTER_FILTER_WAVELENGTH = 955.5
RADIANCE_OFFSET = 0.286375
RADIANCE_SCALING_FACTOR = 0.00530075
REFLECTANCE_SCALING_FACTOR = 0.000689661
MEX:REFLECTANCE_OFFSET = 0.0372593
/* IMAGE OBJECT DEFINITIONS */
OBJECT = IMAGE
  INTERCHANGE_FORMAT = BINARY
  LINES = 39304
  LINE_SAMPLES = 5073
  SAMPLE_TYPE = UNSIGNED_INTEGER
  SAMPLE_BITS = 8
  BANDS = 1
  BAND_STORAGE_TYPE = BAND_SEQUENTIAL
  MAXIMUM = 155
  MEAN = 62.9515
  MINIMUM = 21
  STANDARD_DEVIATION = 12.1176
END_OBJECT = IMAGE
/* MAP OBJECT DEFINITIONS */
OBJECT = IMAGE_MAP_PROJECTION
  ^DATA_SET_MAP_PROJECTION_CATALOG= "DSMAP.CAT"
  A_AXIS_RADIUS = 3396.0
  B_AXIS_RADIUS = 3396.0
  C_AXIS_RADIUS = 3396.0
  CENTER_LATITUDE = 0.0
  CENTER_LONGITUDE = 103.0
  COORDINATE_SYSTEM_NAME = PLANETOGRAPHIC
  COORDINATE_SYSTEM_TYPE = "BODY-FIXED ROTATING"
  EASTERNMOST_LONGITUDE = 105.076
  FIRST_STANDARD_PARALLEL = "N/A"
  LINE_FIRST_PIXEL = 1
  LINE_LAST_PIXEL = 39304
  LINE_PROJECTION_OFFSET = -15418.625
  MAP_PROJECTION_ROTATION = 0.0
  MAP_PROJECTION_TYPE = SINUSOIDAL
  MAP_RESOLUTION = 1185.42760773333
  MAP_SCALE = 0.05
  MAXIMUM_LATITUDE = -13.0321
  MINIMUM_LATITUDE = -46.2343
  POSITIVE_LONGITUDE_DIRECTION = EAST
  REFERENCE_LATITUDE = "N/A"
  REFERENCE_LONGITUDE = "N/A"
  SAMPLE_FIRST_PIXEL = 1
  SAMPLE_LAST_PIXEL = 5073
  SAMPLE_PROJECTION_OFFSET = 2340.625
  SECOND_STANDARD_PARALLEL = "N/A"
  WESTERNMOST_LONGITUDE = 101.318
END_OBJECT = IMAGE_MAP_PROJECTION
/* The JPEG2000 image data file associated with this label. */
OBJECT = COMPRESSED_FILE
  FILE_NAME = "H0451_0000_IR3.JP2"
  RECORD_TYPE = UNDEFINED
  FILE_RECORDS = UNK
  ENCODING_TYPE = "JP2"
  INTERCHANGE_FORMAT = BINARY
  UNCOMPRESSED_FILE_NAME = "H0451_0000_IR3.IMG"
  REQUIRED_STORAGE_BYTES = "199414557"
  ^DESCRIPTION = "JP2INFO.TXT"
END_OBJECT = COMPRESSED_FILE
END
