PDS_VERSION_ID = PDS3
/* FILE DATA ELEMENTS */
RECORD_TYPE = STREAM
/* POINTERS TO DATA OBJECTS */
^COMPRESSED_FILE = "H0451_0000_P13.JP2"
/* IDENTIFICATION DATA ELEMENTS */
DATA_SET_ID = "MEX-M-HRSC-5-REFDR-MAPPROJECTED-V3.0"
DATA_SET_NAME = "MARS EXPRESS HRSC MAP PROJECTED REFDR V3.0"
DETECTOR_ID = MEX_HRSC_P1
EVENT_TYPE = "MARS-REGIONAL-STEREO-Vo-Fl-Gl"
INSTRUMENT_HOST_ID = MEX
INSTRUMENT_HOST_NAME = "MARS EXPRESS"
INSTRUMENT_ID = HRSC
INSTRUMENT_NAME = "HIGH RESOLUTION STEREO CAMERA"
MISSION_NAME = "MARS EXPRESS"
MISSION_PHASE_NAME = MC_Phase_6
PROCESSING_LEVEL_ID = 3
PRODUCT_CREATION_TIME = 2016-03-03T04:31:40.000Z
PRODUCT_ID = "H0451_0000_P13.JP2"
RELEASE_ID = 0007
REVISION_ID = 0000
/* QUALITY DATA ELEMENTS */
DATA_QUALITY_ID = 1
DATA_QUALITY_DESC = "Data calculated based on original SPICE kernels"
/* TIME DATA ELEMENTS */
SPACECRAFT_CLOCK_START_COUNT = "1/0033872268.57968"
SPACECRAFT_CLOCK_STOP_COUNT = "1/0033873191.42469"
START_TIME = 2004-05-29T00:58:10.800Z
STOP_TIME = 2004-05-29T01:07:43.992Z
/* ORBITAL DATA ELEMENTS */
ASCENDING_NODE_LONGITUDE = 219.62
MAXIMUM_RESOLUTION = 35.8
FOOTPRINT_POINT_LATITUDE = (-46.1194,-46.1714,-46.2173,-45.6905, -45.009,-44.4883,-43.7868,-43.2529, -42.7109,-42.3427,-41.798,-41.2301, -40.8489,-40.274,-39.8865,-39.4951, -38.9009,-38.2959,-37.8931,-37.4853, -36.8518,-36.4265,-35.9992,-35.5673, -34.9097,-34.4654,-33.7837,-33.3274, -32.8642,-32.3966,-31.9238,-31.2033, -21.8919,-21.2831,-20.664,-20.0362, -19.3994,-18.755,-18.1011,-17.4376, -16.7643,-16.0809,-15.3773,-14.9987, -14.2862,-13.6367,-13.2737,-13.2795, -13.2825,-13.2833,-13.283,-13.2778, -13.2691,-13.2622,-14.2286,-14.9338, -15.3102,-16.0077,-16.6872,-17.3558, -18.0156,-18.6658,-19.3062,-19.9382, -20.5616,-21.1753,-21.7806,-31.0477, -31.5338,-32.2492,-32.7068,-33.1763, -33.8549,-34.3047,-34.7553,-35.1917, -35.6226,-36.0489,-36.4733,-36.8937, -37.3091,-37.7216,-38.1294,-38.529, -39.1283,-39.5181,-40.1,-40.4837, -40.8623,-41.4217,-41.7971,-42.1664, -42.5295,-42.8913,-43.2502,-43.9576, -44.6549,-45.3364,-45.8407,-46.1194)
FOOTPRINT_POINT_LONGITUDE = (101.994,102.681,103.353,103.645, 103.712,103.76,103.823,103.87,103.916, 103.945,103.992,104.034,104.063,104.106 ,104.134,104.161,104.202,104.243, 104.269,104.296,104.334,104.359,104.384 ,104.408,104.445,104.468,104.504, 104.527,104.55,104.572,104.594,104.627, 104.948,104.964,104.979,104.994,105.009 ,105.023,105.036,105.05,105.063,105.075 ,105.088,105.094,105.106,105.116, 105.121,104.534,103.943,103.312,102.901 ,102.3,101.694,101.26,101.325,101.37, 101.392,101.433,101.472,101.508,101.543 ,101.575,101.606,101.634,101.661, 101.686,101.71,101.883,101.889,101.893, 101.882,101.888,101.872,101.868,101.871 ,101.862,101.851,101.838,101.829,101.82 ,101.808,101.797,101.786,101.768, 101.749,101.729,101.705,101.687,101.667 ,101.635,101.619,101.602,101.578, 101.558,101.535,101.489,101.444,101.392 ,101.352,101.994)
ORBIT_NUMBER = 451
ORBITAL_ECCENTRICITY = 0.573
ORBITAL_INCLINATION = 86.56
ORBITAL_SEMIMAJOR_AXIS = 8535.19
PERIAPSIS_ALTITUDE = 264.43
PERIAPSIS_ARGUMENT_ANGLE = 282.75
PERIAPSIS_TIME = 2004-05-29T00:50:44.000Z
SPACECRAFT_ORIENTATION = (0.0,-1.0,0.0)
^MEX_ORIENTATION_DESC = "MEX_ORIENTATION_DESC.TXT"
SPACECRAFT_POINTING_MODE = ACROSSTRACK
^MEX_POINTING_DESC = "MEX_POINTING_DESC.TXT"
RIGHT_ASCENSION = -1e+32
DECLINATION = -1e+32
OFFSET_ANGLE = 1.16
SPACECRAFT_SOLAR_DISTANCE = 2.45575e+08
TARGET_NAME = MARS
/* CAMERA DATA ELEMENTS */
DETECTOR_TEMPERATURE = 17.1471
FOCAL_PLANE_TEMPERATURE = 7.7677
INST_CMPRS_NAME = "DISCRETE COSINE TRANSFORMATION (DCT)"
INST_CMPRS_RATIO = 10.0204
INST_CMPRS_QUALITY = 0
INST_CMPRS_QUANTZ_TBL_ID = 0
INSTRUMENT_TEMPERATURE = 11.0301
LENS_TEMPERATURE = 8.3794
MACROPIXEL_SIZE = 2
MISSING_FRAMES = 1318
PIXEL_SUBSAMPLING_FLAG = N
SIGNAL_CHAIN_ID = 3
/* RADIOMETRIC DATA ELEMENTS */
BANDWIDTH = 174.0
CENTER_FILTER_WAVELENGTH = 675.0
RADIANCE_OFFSET = 1.19639
RADIANCE_SCALING_FACTOR = 0.0189136
REFLECTANCE_SCALING_FACTOR = 0.000613524
MEX:REFLECTANCE_OFFSET = 0.038809
/* IMAGE OBJECT DEFINITIONS */
OBJECT = IMAGE
  INTERCHANGE_FORMAT = BINARY
  LINES = 78607
  LINE_SAMPLES = 10146
  SAMPLE_TYPE = UNSIGNED_INTEGER
  SAMPLE_BITS = 8
  BANDS = 1
  BAND_STORAGE_TYPE = BAND_SEQUENTIAL
  MAXIMUM = 172
  MEAN = 79.8644
  MINIMUM = 29
  STANDARD_DEVIATION = 12.8427
END_OBJECT = IMAGE
/* MAP OBJECT DEFINITIONS */
OBJECT = IMAGE_MAP_PROJECTION
  ^DATA_SET_MAP_PROJECTION_CATALOG= "DSMAP.CAT"
  A_AXIS_RADIUS = 3396.0
  B_AXIS_RADIUS = 3396.0
  C_AXIS_RADIUS = 3396.0
  CENTER_LATITUDE = 0.0
  CENTER_LONGITUDE = 103.0
  COORDINATE_SYSTEM_NAME = PLANETOGRAPHIC
  COORDINATE_SYSTEM_TYPE = "BODY-FIXED ROTATING"
  EASTERNMOST_LONGITUDE = 105.121
  FIRST_STANDARD_PARALLEL = "N/A"
  LINE_FIRST_PIXEL = 1
  LINE_LAST_PIXEL = 78607
  LINE_PROJECTION_OFFSET = -30836.75
  MAP_PROJECTION_ROTATION = 0.0
  MAP_PROJECTION_TYPE = SINUSOIDAL
  MAP_RESOLUTION = 2370.85521546667
  MAP_SCALE = 0.025
  MAXIMUM_LATITUDE = -13.2622
  MINIMUM_LATITUDE = -46.2173
  POSITIVE_LONGITUDE_DIRECTION = EAST
  REFERENCE_LATITUDE = "N/A"
  REFERENCE_LONGITUDE = "N/A"
  SAMPLE_FIRST_PIXEL = 1
  SAMPLE_LAST_PIXEL = 10146
  SAMPLE_PROJECTION_OFFSET = 4681.75
  SECOND_STANDARD_PARALLEL = "N/A"
  WESTERNMOST_LONGITUDE = 101.26
END_OBJECT = IMAGE_MAP_PROJECTION
/* The JPEG2000 image data file associated with this label. */
OBJECT = COMPRESSED_FILE
  FILE_NAME = "H0451_0000_P13.JP2"
  RECORD_TYPE = UNDEFINED
  FILE_RECORDS = UNK
  ENCODING_TYPE = "JP2"
  INTERCHANGE_FORMAT = BINARY
  UNCOMPRESSED_FILE_NAME = "H0451_0000_P13.IMG"
  REQUIRED_STORAGE_BYTES = "797577060"
  ^DESCRIPTION = "JP2INFO.TXT"
END_OBJECT = COMPRESSED_FILE
END
