PDS_VERSION_ID = PDS3
/* FILE DATA ELEMENTS */
RECORD_TYPE = STREAM
/* POINTERS TO DATA OBJECTS */
^COMPRESSED_FILE = "H0453_0000_RE3.JP2"
/* IDENTIFICATION DATA ELEMENTS */
DATA_SET_ID = "MEX-M-HRSC-5-REFDR-MAPPROJECTED-V3.0"
DATA_SET_NAME = "MARS EXPRESS HRSC MAP PROJECTED REFDR V3.0"
DETECTOR_ID = MEX_HRSC_RED
EVENT_TYPE = "MARS-REGIONAL-STEREO-Te-Fl"
INSTRUMENT_HOST_ID = MEX
INSTRUMENT_HOST_NAME = "MARS EXPRESS"
INSTRUMENT_ID = HRSC
INSTRUMENT_NAME = "HIGH RESOLUTION STEREO CAMERA"
MISSION_NAME = "MARS EXPRESS"
MISSION_PHASE_NAME = MC_Phase_6
PROCESSING_LEVEL_ID = 3
PRODUCT_CREATION_TIME = 2016-03-03T04:31:40.000Z
PRODUCT_ID = "H0453_0000_RE3.JP2"
RELEASE_ID = 0007
REVISION_ID = 0000
/* QUALITY DATA ELEMENTS */
DATA_QUALITY_ID = 1
DATA_QUALITY_DESC = "Data calculated based on original SPICE kernels"
/* TIME DATA ELEMENTS */
SPACECRAFT_CLOCK_START_COUNT = "1/0033920644.57930"
SPACECRAFT_CLOCK_STOP_COUNT = "1/0033920992.27614"
START_TIME = 2004-05-29T14:25:29.844Z
STOP_TIME = 2004-05-29T14:29:42.934Z
/* ORBITAL DATA ELEMENTS */
ASCENDING_NODE_LONGITUDE = 219.59
MAXIMUM_RESOLUTION = 78.5
FOOTPRINT_POINT_LATITUDE = (-47.7542,-47.7678,-47.7832,-47.7986, -47.8488,-47.6196,-47.3949,-47.164, -46.8208,-46.5889,-46.356,-46.0045, -45.7687,-45.5335,-45.1763,-44.9383, -44.5791,-44.2095,-43.9639,-43.7182, -43.468,-43.2183,-42.831,-42.5727, -42.3155,-42.0553,-41.7931,-41.3964, -41.1324,-40.8658,-40.6015,-40.3335, -39.9283,-39.5209,-39.1114,-38.6962, -38.4159,-38.1328,-37.8474,-37.4157, -36.9784,-36.6855,-36.3891,-35.9448, -35.4989,-35.1972,-34.8925,-34.6878, -34.6885,-34.6923,-34.6921,-34.6913, -34.6895,-34.6854,-34.6821,-34.9896, -35.2918,-35.7356,-36.0351,-36.3307, -36.6224,-36.9108,-37.3435,-37.7723, -38.195,-38.4759,-38.7532,-39.0284, -39.4442,-39.7168,-39.9801,-40.2422, -40.5089,-40.7775,-41.0445,-41.4439, -41.7067,-41.9675,-42.2266,-42.4834, -42.7382,-43.1177,-43.3726,-43.6218, -43.8722,-44.1181,-44.3623,-44.6033, -44.965,-45.2035,-45.5595,-45.9085, -46.1431,-46.4915,-46.7239,-46.9523, -47.1809,-47.5197,-47.7444,-47.7542)
FOOTPRINT_POINT_LONGITUDE = (266.733,267.18,267.739,268.388,268.73, 268.747,268.765,268.782,268.809,268.827 ,268.845,268.871,268.888,268.906, 268.933,268.951,268.979,269.003,269.02, 269.037,269.053,269.07,269.091,269.105, 269.121,269.136,269.151,269.173,269.188 ,269.204,269.221,269.237,269.261, 269.285,269.31,269.335,269.35,269.366, 269.381,269.403,269.425,269.44,269.454, 269.478,269.502,269.518,269.533,269.287 ,268.973,268.576,268.291,267.835,267.55 ,267.123,266.608,266.488,266.493, 266.502,266.504,266.507,266.511,266.514 ,266.517,266.519,266.521,266.521, 266.522,266.522,266.519,266.518,266.519 ,266.521,266.519,266.515,266.51,266.501 ,266.496,266.49,266.484,266.478,266.473 ,266.463,266.454,266.447,266.438,266.43 ,266.423,266.416,266.404,266.395, 266.382,266.371,266.361,266.345,266.334 ,266.324,266.312,266.296,266.284, 266.733)
ORBIT_NUMBER = 453
ORBITAL_ECCENTRICITY = 0.573
ORBITAL_INCLINATION = 86.56
ORBITAL_SEMIMAJOR_AXIS = 8533.62
PERIAPSIS_ALTITUDE = 264.91
PERIAPSIS_ARGUMENT_ANGLE = 282.41
PERIAPSIS_TIME = 2004-05-29T14:17:19.000Z
SPACECRAFT_ORIENTATION = (0.0,-1.0,0.0)
^MEX_ORIENTATION_DESC = "MEX_ORIENTATION_DESC.TXT"
SPACECRAFT_POINTING_MODE = NADIR
^MEX_POINTING_DESC = "MEX_POINTING_DESC.TXT"
RIGHT_ASCENSION = -1e+32
DECLINATION = -1e+32
OFFSET_ANGLE = -1e+32
SPACECRAFT_SOLAR_DISTANCE = 2.45632e+08
TARGET_NAME = MARS
/* CAMERA DATA ELEMENTS */
DETECTOR_TEMPERATURE = 18.5744
FOCAL_PLANE_TEMPERATURE = 8.3794
INST_CMPRS_NAME = "DISCRETE COSINE TRANSFORMATION (DCT)"
INST_CMPRS_RATIO = 9.03883
INST_CMPRS_QUALITY = 0
INST_CMPRS_QUANTZ_TBL_ID = 0
INSTRUMENT_TEMPERATURE = 10.8262
LENS_TEMPERATURE = 8.7872
MACROPIXEL_SIZE = 4
MISSING_FRAMES = 0
PIXEL_SUBSAMPLING_FLAG = N
SIGNAL_CHAIN_ID = 2
/* RADIOMETRIC DATA ELEMENTS */
BANDWIDTH = 48.0
CENTER_FILTER_WAVELENGTH = 748.0
RADIANCE_OFFSET = 0.158957
RADIANCE_SCALING_FACTOR = 0.00531692
REFLECTANCE_SCALING_FACTOR = 0.000732079
MEX:REFLECTANCE_OFFSET = 0.0218866
/* IMAGE OBJECT DEFINITIONS */
OBJECT = IMAGE
  INTERCHANGE_FORMAT = BINARY
  LINES = 15610
  LINE_SAMPLES = 2737
  SAMPLE_TYPE = UNSIGNED_INTEGER
  SAMPLE_BITS = 8
  BANDS = 1
  BAND_STORAGE_TYPE = BAND_SEQUENTIAL
  MAXIMUM = 173
  MEAN = 68.197
  MINIMUM = 13
  STANDARD_DEVIATION = 19.3268
END_OBJECT = IMAGE
/* MAP OBJECT DEFINITIONS */
OBJECT = IMAGE_MAP_PROJECTION
  ^DATA_SET_MAP_PROJECTION_CATALOG= "DSMAP.CAT"
  A_AXIS_RADIUS = 3396.0
  B_AXIS_RADIUS = 3396.0
  C_AXIS_RADIUS = 3396.0
  CENTER_LATITUDE = 0.0
  CENTER_LONGITUDE = 268.0
  COORDINATE_SYSTEM_NAME = PLANETOGRAPHIC
  COORDINATE_SYSTEM_TYPE = "BODY-FIXED ROTATING"
  EASTERNMOST_LONGITUDE = 269.533
  FIRST_STANDARD_PARALLEL = "N/A"
  LINE_FIRST_PIXEL = 1
  LINE_LAST_PIXEL = 15610
  LINE_PROJECTION_OFFSET = -41109.125
  MAP_PROJECTION_ROTATION = 0.0
  MAP_PROJECTION_TYPE = SINUSOIDAL
  MAP_RESOLUTION = 1185.42760773333
  MAP_SCALE = 0.05
  MAXIMUM_LATITUDE = -34.6821
  MINIMUM_LATITUDE = -47.8488
  POSITIVE_LONGITUDE_DIRECTION = EAST
  REFERENCE_LATITUDE = "N/A"
  REFERENCE_LONGITUDE = "N/A"
  SAMPLE_FIRST_PIXEL = 1
  SAMPLE_LAST_PIXEL = 2737
  SAMPLE_PROJECTION_OFFSET = 1372.625
  SECOND_STANDARD_PARALLEL = "N/A"
  WESTERNMOST_LONGITUDE = 266.284
END_OBJECT = IMAGE_MAP_PROJECTION
/* The JPEG2000 image data file associated with this label. */
OBJECT = COMPRESSED_FILE
  FILE_NAME = "H0453_0000_RE3.JP2"
  RECORD_TYPE = UNDEFINED
  FILE_RECORDS = UNK
  ENCODING_TYPE = "JP2"
  INTERCHANGE_FORMAT = BINARY
  UNCOMPRESSED_FILE_NAME = "H0453_0000_RE3.IMG"
  REQUIRED_STORAGE_BYTES = "42746466"
  ^DESCRIPTION = "JP2INFO.TXT"
END_OBJECT = COMPRESSED_FILE
END
