PDS_VERSION_ID = PDS3
/* FILE DATA ELEMENTS */
RECORD_TYPE = STREAM
/* POINTERS TO DATA OBJECTS */
^COMPRESSED_FILE = "H0456_0000_BL3.JP2"
/* IDENTIFICATION DATA ELEMENTS */
DATA_SET_ID = "MEX-M-HRSC-5-REFDR-MAPPROJECTED-V3.0"
DATA_SET_NAME = "MARS EXPRESS HRSC MAP PROJECTED REFDR V3.0"
DETECTOR_ID = MEX_HRSC_BLUE
EVENT_TYPE = "MARS-REGIONAL-STEREO-Te-Fl-Mw"
INSTRUMENT_HOST_ID = MEX
INSTRUMENT_HOST_NAME = "MARS EXPRESS"
INSTRUMENT_ID = HRSC
INSTRUMENT_NAME = "HIGH RESOLUTION STEREO CAMERA"
MISSION_NAME = "MARS EXPRESS"
MISSION_PHASE_NAME = MC_Phase_6
PROCESSING_LEVEL_ID = 3
PRODUCT_CREATION_TIME = 2016-03-03T04:31:40.000Z
PRODUCT_ID = "H0456_0000_BL3.JP2"
RELEASE_ID = 0007
REVISION_ID = 0000
/* QUALITY DATA ELEMENTS */
DATA_QUALITY_ID = 1
DATA_QUALITY_DESC = "Data calculated based on original SPICE kernels"
/* TIME DATA ELEMENTS */
SPACECRAFT_CLOCK_START_COUNT = "1/0033993312.58001"
SPACECRAFT_CLOCK_STOP_COUNT = "1/0033994791.34117"
START_TIME = 2004-05-30T10:36:16.487Z
STOP_TIME = 2004-05-30T10:52:12.951Z
/* ORBITAL DATA ELEMENTS */
ASCENDING_NODE_LONGITUDE = 219.52
MAXIMUM_RESOLUTION = 83.2
FOOTPRINT_POINT_LATITUDE = (-43.1144,-43.1413,-42.7359,-42.0936, -41.2243,-40.3305,-39.4194,-38.4866, -37.531,-36.8848,-35.749,-35.0177, -33.9503,-33.4533,-32.5133,-31.9632, -31.407,-30.842,-30.2715,-29.6896, -29.1026,-28.5068,-27.9023,-26.794, -15.1347,-14.4166,-13.7046,-13.0015, -12.3063,-11.6188,-10.9393,-10.2661, -9.60168,-8.94541,-8.29541,-7.6515, -7.01622,-6.38765,-5.76704,-5.15496, -4.54684,-3.94426,-3.34999,-2.76333, -2.18075,-1.60573,-1.0372,-0.96359, -1.03192,-1.06935,-1.10082,-1.14745, -1.18355,-1.2195,-1.26022,-1.84309, -2.40378,-2.97008,-3.54292,-4.12442, -4.70979,-5.30406,-5.90756,-6.51682, -7.13345,-7.75678,-8.38551,-9.01975, -9.6639,-10.3184,-10.9757,-11.644, -12.3202,-13.004,-13.696,-14.3967, -15.1053,-26.6766,-27.7806,-28.3829, -28.9764,-29.5626,-30.1403,-30.7109, -31.2736,-31.8304,-32.3772,-33.3159, -34.4301,-35.2737,-35.9749,-36.9867, -37.628,-38.3453,-39.2734,-40.1845, -41.0754,-41.9464,-42.7989,-43.1144)
FOOTPRINT_POINT_LONGITUDE = (332.349,333.574,334.126,334.163, 334.218,334.26,334.307,334.353,334.398, 334.427,334.476,334.506,334.549,334.568 ,334.603,334.622,334.642,334.661, 334.682,334.699,334.719,334.738,334.756 ,334.79,335.083,335.101,335.115,335.13, 335.146,335.161,335.176,335.189,335.204 ,335.22,335.234,335.246,335.26,335.274, 335.289,335.308,335.321,335.332,335.346 ,335.363,335.375,335.389,335.403, 334.484,333.33,332.697,332.179,331.43, 330.853,330.276,329.64,329.294,329.371, 329.449,329.526,329.599,329.677,329.75, 329.819,329.89,329.959,330.028,330.1, 330.173,330.242,330.306,330.376,330.441 ,330.504,330.567,330.629,330.689, 330.748,331.462,331.508,331.529,331.55, 331.569,331.587,331.603,331.618,331.629 ,331.643,331.66,331.676,331.685,331.69, 331.695,331.695,331.686,331.688,331.678 ,331.666,331.649,331.633,332.349)
ORBIT_NUMBER = 456
ORBITAL_ECCENTRICITY = 0.573
ORBITAL_INCLINATION = 86.57
ORBITAL_SEMIMAJOR_AXIS = 8532.28
PERIAPSIS_ALTITUDE = 265.11
PERIAPSIS_ARGUMENT_ANGLE = 281.89
PERIAPSIS_TIME = 2004-05-30T10:27:08.000Z
SPACECRAFT_ORIENTATION = (0.0,-1.0,0.0)
^MEX_ORIENTATION_DESC = "MEX_ORIENTATION_DESC.TXT"
SPACECRAFT_POINTING_MODE = NADIR
^MEX_POINTING_DESC = "MEX_POINTING_DESC.TXT"
RIGHT_ASCENSION = -1e+32
DECLINATION = -1e+32
OFFSET_ANGLE = -1e+32
SPACECRAFT_SOLAR_DISTANCE = 2.45716e+08
TARGET_NAME = MARS
/* CAMERA DATA ELEMENTS */
DETECTOR_TEMPERATURE = 16.7393
FOCAL_PLANE_TEMPERATURE = 6.9521
INST_CMPRS_NAME = "DISCRETE COSINE TRANSFORMATION (DCT)"
INST_CMPRS_RATIO = 12.3468
INST_CMPRS_QUALITY = 0
INST_CMPRS_QUANTZ_TBL_ID = 0
INSTRUMENT_TEMPERATURE = 11.0301
LENS_TEMPERATURE = 8.7872
MACROPIXEL_SIZE = 4
MISSING_FRAMES = 902
PIXEL_SUBSAMPLING_FLAG = N
SIGNAL_CHAIN_ID = 2
/* RADIOMETRIC DATA ELEMENTS */
BANDWIDTH = 76.0
CENTER_FILTER_WAVELENGTH = 444.0
RADIANCE_OFFSET = 0.253354
RADIANCE_SCALING_FACTOR = 0.00287264
REFLECTANCE_SCALING_FACTOR = 0.0001782
MEX:REFLECTANCE_OFFSET = 0.0157165
/* IMAGE OBJECT DEFINITIONS */
OBJECT = IMAGE
  INTERCHANGE_FORMAT = BINARY
  LINES = 25048
  LINE_SAMPLES = 3564
  SAMPLE_TYPE = UNSIGNED_INTEGER
  SAMPLE_BITS = 8
  BANDS = 1
  BAND_STORAGE_TYPE = BAND_SEQUENTIAL
  MAXIMUM = 205
  MEAN = 109.44
  MINIMUM = 0
  STANDARD_DEVIATION = 29.0994
END_OBJECT = IMAGE
/* MAP OBJECT DEFINITIONS */
OBJECT = IMAGE_MAP_PROJECTION
  ^DATA_SET_MAP_PROJECTION_CATALOG= "DSMAP.CAT"
  A_AXIS_RADIUS = 3396.0
  B_AXIS_RADIUS = 3396.0
  C_AXIS_RADIUS = 3396.0
  CENTER_LATITUDE = 0.0
  CENTER_LONGITUDE = 333.0
  COORDINATE_SYSTEM_NAME = PLANETOGRAPHIC
  COORDINATE_SYSTEM_TYPE = "BODY-FIXED ROTATING"
  EASTERNMOST_LONGITUDE = 335.403
  FIRST_STANDARD_PARALLEL = "N/A"
  LINE_FIRST_PIXEL = 1
  LINE_LAST_PIXEL = 25048
  LINE_PROJECTION_OFFSET = -541.125
  MAP_PROJECTION_ROTATION = 0.0
  MAP_PROJECTION_TYPE = SINUSOIDAL
  MAP_RESOLUTION = 592.713803866667
  MAP_SCALE = 0.1
  MAXIMUM_LATITUDE = -0.96359
  MINIMUM_LATITUDE = -43.1413
  POSITIVE_LONGITUDE_DIRECTION = EAST
  REFERENCE_LATITUDE = "N/A"
  REFERENCE_LONGITUDE = "N/A"
  SAMPLE_FIRST_PIXEL = 1
  SAMPLE_LAST_PIXEL = 3564
  SAMPLE_PROJECTION_OFFSET = 2170.125
  SECOND_STANDARD_PARALLEL = "N/A"
  WESTERNMOST_LONGITUDE = 329.294
END_OBJECT = IMAGE_MAP_PROJECTION
/* The JPEG2000 image data file associated with this label. */
OBJECT = COMPRESSED_FILE
  FILE_NAME = "H0456_0000_BL3.JP2"
  RECORD_TYPE = UNDEFINED
  FILE_RECORDS = UNK
  ENCODING_TYPE = "JP2"
  INTERCHANGE_FORMAT = BINARY
  UNCOMPRESSED_FILE_NAME = "H0456_0000_BL3.IMG"
  REQUIRED_STORAGE_BYTES = "89296020"
  ^DESCRIPTION = "JP2INFO.TXT"
END_OBJECT = COMPRESSED_FILE
END
