PDS_VERSION_ID = PDS3
/* FILE DATA ELEMENTS */
RECORD_TYPE = STREAM
/* POINTERS TO DATA OBJECTS */
^COMPRESSED_FILE = "H0456_0003_SR3.JP2"
/* IDENTIFICATION DATA ELEMENTS */
DATA_SET_ID = "MEX-M-HRSC-5-REFDR-MAPPROJECTED-V3.0"
DATA_SET_NAME = "MARS EXPRESS HRSC MAP PROJECTED REFDR V3.0"
DETECTOR_ID = MEX_HRSC_SRC
EVENT_TYPE = "MARS-REGIONAL-STEREO-Te-Fl-Mw"
INSTRUMENT_HOST_ID = MEX
INSTRUMENT_HOST_NAME = "MARS EXPRESS"
INSTRUMENT_ID = HRSC
INSTRUMENT_NAME = "HIGH RESOLUTION STEREO CAMERA"
MISSION_NAME = "MARS EXPRESS"
MISSION_PHASE_NAME = MC_Phase_6
PROCESSING_LEVEL_ID = 3
PRODUCT_CREATION_TIME = 2016-03-03T04:31:40.000Z
PRODUCT_ID = "H0456_0003_SR3.JP2"
RELEASE_ID = 0007
REVISION_ID = 0000
/* QUALITY DATA ELEMENTS */
DATA_QUALITY_ID = 1
DATA_QUALITY_DESC = "Data calculated based on original SPICE kernels"
/* TIME DATA ELEMENTS */
SPACECRAFT_CLOCK_START_COUNT = "1/0033993312.58001"
SPACECRAFT_CLOCK_STOP_COUNT = "1/0033994791.34117"
IMAGE_TIME = 2004-05-30T10:36:58.110Z
START_TIME = 2004-05-30T10:36:58.107Z
STOP_TIME = 2004-05-30T10:36:58.112Z
/* ORBITAL DATA ELEMENTS */
ASCENDING_NODE_LONGITUDE = 219.52
MAXIMUM_RESOLUTION = 5.104
FOOTPRINT_POINT_LATITUDE = (-40.1289,-40.1315,-40.1351,-40.1377, -40.1405,-40.1442,-40.147,-40.1512, -40.1556,-40.1591,-40.1619,-40.1664, -40.1701,-40.1752,-40.1786,-40.1836, -40.1875,-40.1907,-40.1954,-40.1988, -40.2039,-40.2069,-40.2109,-40.2138, -40.2138,-40.2137,-40.2136,-40.2135, -40.2135,-40.2134,-40.2133,-40.2132, -40.2131,-40.2131,-40.213,-40.2129, -40.2128,-40.2127,-40.2126,-40.2125, -40.2124,-40.2124,-40.2123,-40.2122, -40.2121,-40.212,-40.2119,-40.2119, -40.211,-40.206,-40.2018,-40.1995, -40.1969,-40.193,-40.1902,-40.1867, -40.1816,-40.1782,-40.1738,-40.1704, -40.1675,-40.1632,-40.1595,-40.1565, -40.1534,-40.1498,-40.1466,-40.144, -40.1415,-40.1382,-40.1343,-40.1313, -40.1289,-40.1249,-40.125,-40.1251, -40.1251,-40.1252,-40.1253,-40.1253, -40.1254,-40.1255,-40.1255,-40.1256, -40.1257,-40.1258,-40.1259,-40.126, -40.1261,-40.1262,-40.1262,-40.1263, -40.1264,-40.1265,-40.1266,-40.1267, -40.1268,-40.1268,-40.1269,-40.1289)
FOOTPRINT_POINT_LONGITUDE = (333.033,333.033,333.033,333.032, 333.032,333.032,333.032,333.032,333.032 ,333.032,333.032,333.032,333.031, 333.031,333.031,333.031,333.031,333.031 ,333.031,333.031,333.03,333.03,333.03, 333.03,333.025,333.022,333.018,333.013, 333.009,333.004,332.999,332.995,332.989 ,332.986,332.983,332.978,332.972, 332.967,332.962,332.958,332.953,332.949 ,332.944,332.94,332.935,332.931,332.926 ,332.922,332.915,332.915,332.915, 332.916,332.916,332.916,332.916,332.916 ,332.916,332.916,332.916,332.917, 332.917,332.917,332.917,332.917,332.917 ,332.917,332.917,332.917,332.917, 332.918,332.918,332.918,332.918,332.918 ,332.924,332.928,332.932,332.935,332.94 ,332.943,332.946,332.95,332.954,332.959 ,332.963,332.969,332.973,332.979, 332.984,332.988,332.993,332.997,333.002 ,333.006,333.012,333.016,333.022, 333.025,333.03,333.033)
ORBIT_NUMBER = 456
ORBITAL_ECCENTRICITY = 0.573
ORBITAL_INCLINATION = 86.57
ORBITAL_SEMIMAJOR_AXIS = 8532.28
PERIAPSIS_ALTITUDE = 265.11
PERIAPSIS_ARGUMENT_ANGLE = 281.89
PERIAPSIS_TIME = 2004-05-30T10:27:08.000Z
SPACECRAFT_ORIENTATION = (0.0,-1.0,0.0)
^MEX_ORIENTATION_DESC = "MEX_ORIENTATION_DESC.TXT"
SPACECRAFT_POINTING_MODE = NADIR
^MEX_POINTING_DESC = "MEX_POINTING_DESC.TXT"
RIGHT_ASCENSION = -1e+32
DECLINATION = -1e+32
OFFSET_ANGLE = -1e+32
SPACECRAFT_SOLAR_DISTANCE = 2.45716e+08
TARGET_NAME = MARS
/* CAMERA DATA ELEMENTS */
BUFFER_MODE_ID = BUFFER_8
EXPOSURE_DURATION = 5.04
INST_CMPRS_NAME = NONE
INST_CMPRS_RATIO = 1.0
INST_CMPRS_QUALITY = -2147483648
INST_CMPRS_QUANTZ_TBL_ID = -2147483648
INSTRUMENT_TEMPERATURE = 8.18182
MISSING_FRAMES = 0
START_BIT = 0
/* RADIOMETRIC DATA ELEMENTS */
BANDWIDTH = 250.0
CENTER_FILTER_WAVELENGTH = 600.0
RADIANCE_OFFSET = -9.99e+31
RADIANCE_SCALING_FACTOR = -9.99e+31
REFLECTANCE_SCALING_FACTOR = -9.99e+31
MEX:REFLECTANCE_OFFSET = -9.99e+31
/* IMAGE OBJECT DEFINITIONS */
OBJECT = IMAGE
  INTERCHANGE_FORMAT = BINARY
  LINES = 1111
  LINE_SAMPLES = 1121
  SAMPLE_TYPE = UNSIGNED_INTEGER
  SAMPLE_BITS = 8
  BANDS = 1
  BAND_STORAGE_TYPE = BAND_SEQUENTIAL
  MAXIMUM = 2611
  MEAN = 2067.7
  MINIMUM = 1591
  STANDARD_DEVIATION = 66.7762
END_OBJECT = IMAGE
/* MAP OBJECT DEFINITIONS */
OBJECT = IMAGE_MAP_PROJECTION
  ^DATA_SET_MAP_PROJECTION_CATALOG= "DSMAP.CAT"
  A_AXIS_RADIUS = 3396.19
  B_AXIS_RADIUS = 3396.19
  C_AXIS_RADIUS = 3396.19
  CENTER_LATITUDE = 0.0
  CENTER_LONGITUDE = 333.0
  COORDINATE_SYSTEM_NAME = PLANETOGRAPHIC
  COORDINATE_SYSTEM_TYPE = "BODY-FIXED ROTATING"
  EASTERNMOST_LONGITUDE = 333.033
  FIRST_STANDARD_PARALLEL = "N/A"
  LINE_FIRST_PIXEL = 1
  LINE_LAST_PIXEL = 1111
  LINE_PROJECTION_OFFSET = -475236.0
  MAP_PROJECTION_ROTATION = 0.0
  MAP_PROJECTION_TYPE = SINUSOIDAL
  MAP_RESOLUTION = 11854.9393024378
  MAP_SCALE = 0.005
  MAXIMUM_LATITUDE = -40.1249
  MINIMUM_LATITUDE = -40.2138
  POSITIVE_LONGITUDE_DIRECTION = EAST
  REFERENCE_LATITUDE = "N/A"
  REFERENCE_LONGITUDE = "N/A"
  SAMPLE_FIRST_PIXEL = 1
  SAMPLE_LAST_PIXEL = 1121
  SAMPLE_PROJECTION_OFFSET = 796.0
  SECOND_STANDARD_PARALLEL = "N/A"
  WESTERNMOST_LONGITUDE = 332.915
END_OBJECT = IMAGE_MAP_PROJECTION
/* The JPEG2000 image data file associated with this label. */
OBJECT = COMPRESSED_FILE
  FILE_NAME = "H0456_0003_SR3.JP2"
  RECORD_TYPE = UNDEFINED
  FILE_RECORDS = UNK
  ENCODING_TYPE = "JP2"
  INTERCHANGE_FORMAT = BINARY
  UNCOMPRESSED_FILE_NAME = "H0456_0003_SR3.IMG"
  REQUIRED_STORAGE_BYTES = "1264488"
  ^DESCRIPTION = "JP2INFO.TXT"
END_OBJECT = COMPRESSED_FILE
END
