PDS_VERSION_ID = PDS3
/* FILE DATA ELEMENTS */
RECORD_TYPE = STREAM
/* POINTERS TO DATA OBJECTS */
^COMPRESSED_FILE = "H0462_0001_SR3.JP2"
/* IDENTIFICATION DATA ELEMENTS */
DATA_SET_ID = "MEX-M-HRSC-5-REFDR-MAPPROJECTED-V3.0"
DATA_SET_NAME = "MARS EXPRESS HRSC MAP PROJECTED REFDR V3.0"
DETECTOR_ID = MEX_HRSC_SRC
EVENT_TYPE = "MARS-REGIONAL-MAPPING-Gl-Eo-Mw"
INSTRUMENT_HOST_ID = MEX
INSTRUMENT_HOST_NAME = "MARS EXPRESS"
INSTRUMENT_ID = HRSC
INSTRUMENT_NAME = "HIGH RESOLUTION STEREO CAMERA"
MISSION_NAME = "MARS EXPRESS"
MISSION_PHASE_NAME = MC_Phase_6
PROCESSING_LEVEL_ID = 3
PRODUCT_CREATION_TIME = 2016-03-03T04:31:40.000Z
PRODUCT_ID = "H0462_0001_SR3.JP2"
RELEASE_ID = 0007
REVISION_ID = 0000
/* QUALITY DATA ELEMENTS */
DATA_QUALITY_ID = 1
DATA_QUALITY_DESC = "Data calculated based on original SPICE kernels"
/* TIME DATA ELEMENTS */
SPACECRAFT_CLOCK_START_COUNT = "1/0034138336.57931"
SPACECRAFT_CLOCK_STOP_COUNT = "1/0034138577.06292"
IMAGE_TIME = 2004-06-01T02:55:10.173Z
START_TIME = 2004-06-01T02:55:09.915Z
STOP_TIME = 2004-06-01T02:55:10.431Z
/* ORBITAL DATA ELEMENTS */
ASCENDING_NODE_LONGITUDE = 219.39
MAXIMUM_RESOLUTION = 4.353
FOOTPRINT_POINT_LATITUDE = (-46.6245,-46.6283,-46.6309,-46.6344, -46.637,-46.6406,-46.6427,-46.6455, -46.6494,-46.653,-46.6559,-46.66, -46.6628,-46.6662,-46.6682,-46.6712, -46.6734,-46.6764,-46.6787,-46.6813, -46.6849,-46.688,-46.6901,-46.6946, -46.6964,-46.6963,-46.6962,-46.6961, -46.696,-46.696,-46.6959,-46.6958, -46.6957,-46.6956,-46.6955,-46.6954, -46.6953,-46.6952,-46.6951,-46.695, -46.6949,-46.6948,-46.6947,-46.6946, -46.6945,-46.6944,-46.6943,-46.6942, -46.6941,-46.6927,-46.6908,-46.6886, -46.6865,-46.6825,-46.6798,-46.6778, -46.6743,-46.6708,-46.6684,-46.665, -46.6599,-46.6568,-46.6529,-46.649, -46.6453,-46.6419,-46.6397,-46.6359, -46.633,-46.6308,-46.6288,-46.6262, -46.6232,-46.621,-46.62,-46.6201, -46.6202,-46.6203,-46.6204,-46.6205, -46.6206,-46.6207,-46.6207,-46.6208, -46.6209,-46.621,-46.6211,-46.6212, -46.6213,-46.6214,-46.6215,-46.6216, -46.6217,-46.6218,-46.6219,-46.622, -46.6221,-46.6222,-46.6222,-46.6245)
FOOTPRINT_POINT_LONGITUDE = (103.557,103.557,103.557,103.556, 103.556,103.556,103.556,103.556,103.556 ,103.556,103.555,103.555,103.555, 103.555,103.555,103.555,103.555,103.555 ,103.555,103.554,103.554,103.554, 103.554,103.554,103.55,103.546,103.542, 103.537,103.533,103.529,103.525,103.52, 103.516,103.512,103.507,103.503,103.499 ,103.494,103.49,103.486,103.481,103.477 ,103.473,103.469,103.464,103.46,103.456 ,103.451,103.447,103.444,103.444, 103.445,103.445,103.445,103.445,103.445 ,103.445,103.445,103.446,103.446, 103.446,103.446,103.446,103.446,103.447 ,103.447,103.447,103.447,103.447, 103.447,103.447,103.447,103.448,103.448 ,103.45,103.454,103.459,103.463,103.467 ,103.472,103.476,103.48,103.484,103.489 ,103.493,103.497,103.502,103.506,103.51 ,103.514,103.519,103.523,103.527, 103.532,103.536,103.54,103.545,103.549, 103.553,103.557)
ORBIT_NUMBER = 462
ORBITAL_ECCENTRICITY = 0.573
ORBITAL_INCLINATION = 86.56
ORBITAL_SEMIMAJOR_AXIS = 8533.69
PERIAPSIS_ALTITUDE = 264.27
PERIAPSIS_ARGUMENT_ANGLE = 280.83
PERIAPSIS_TIME = 2004-06-01T02:46:52.000Z
SPACECRAFT_ORIENTATION = (0.0,-1.0,0.0)
^MEX_ORIENTATION_DESC = "MEX_ORIENTATION_DESC.TXT"
SPACECRAFT_POINTING_MODE = ACROSSTRACK
^MEX_POINTING_DESC = "MEX_POINTING_DESC.TXT"
RIGHT_ASCENSION = -1e+32
DECLINATION = -1e+32
OFFSET_ANGLE = -0.44
SPACECRAFT_SOLAR_DISTANCE = 2.45882e+08
TARGET_NAME = MARS
/* CAMERA DATA ELEMENTS */
BUFFER_MODE_ID = BUFFER_8
EXPOSURE_DURATION = 516.096
INST_CMPRS_NAME = NONE
INST_CMPRS_RATIO = 1.0
INST_CMPRS_QUALITY = -2147483648
INST_CMPRS_QUANTZ_TBL_ID = -2147483648
INSTRUMENT_TEMPERATURE = 8.18182
MISSING_FRAMES = 0
START_BIT = 0
/* RADIOMETRIC DATA ELEMENTS */
BANDWIDTH = 250.0
CENTER_FILTER_WAVELENGTH = 600.0
RADIANCE_OFFSET = -9.99e+31
RADIANCE_SCALING_FACTOR = -9.99e+31
REFLECTANCE_SCALING_FACTOR = -9.99e+31
MEX:REFLECTANCE_OFFSET = -9.99e+31
/* IMAGE OBJECT DEFINITIONS */
OBJECT = IMAGE
  INTERCHANGE_FORMAT = BINARY
  LINES = 968
  LINE_SAMPLES = 973
  SAMPLE_TYPE = UNSIGNED_INTEGER
  SAMPLE_BITS = 8
  BANDS = 1
  BAND_STORAGE_TYPE = BAND_SEQUENTIAL
  MAXIMUM = 13904
  MEAN = 13086.1
  MINIMUM = 12016
  STANDARD_DEVIATION = 238.111
END_OBJECT = IMAGE
/* MAP OBJECT DEFINITIONS */
OBJECT = IMAGE_MAP_PROJECTION
  ^DATA_SET_MAP_PROJECTION_CATALOG= "DSMAP.CAT"
  A_AXIS_RADIUS = 3396.19
  B_AXIS_RADIUS = 3396.19
  C_AXIS_RADIUS = 3396.19
  CENTER_LATITUDE = 0.0
  CENTER_LONGITUDE = 104.0
  COORDINATE_SYSTEM_NAME = PLANETOGRAPHIC
  COORDINATE_SYSTEM_TYPE = "BODY-FIXED ROTATING"
  EASTERNMOST_LONGITUDE = 103.557
  FIRST_STANDARD_PARALLEL = "N/A"
  LINE_FIRST_PIXEL = 1
  LINE_LAST_PIXEL = 968
  LINE_PROJECTION_OFFSET = -552026.0
  MAP_PROJECTION_ROTATION = 0.0
  MAP_PROJECTION_TYPE = SINUSOIDAL
  MAP_RESOLUTION = 11854.9393024378
  MAP_SCALE = 0.005
  MAXIMUM_LATITUDE = -46.62
  MINIMUM_LATITUDE = -46.6964
  POSITIVE_LONGITUDE_DIRECTION = EAST
  REFERENCE_LATITUDE = "N/A"
  REFERENCE_LONGITUDE = "N/A"
  SAMPLE_FIRST_PIXEL = 1
  SAMPLE_LAST_PIXEL = 973
  SAMPLE_PROJECTION_OFFSET = 4403.0
  SECOND_STANDARD_PARALLEL = "N/A"
  WESTERNMOST_LONGITUDE = 103.444
END_OBJECT = IMAGE_MAP_PROJECTION
/* The JPEG2000 image data file associated with this label. */
OBJECT = COMPRESSED_FILE
  FILE_NAME = "H0462_0001_SR3.JP2"
  RECORD_TYPE = UNDEFINED
  FILE_RECORDS = UNK
  ENCODING_TYPE = "JP2"
  INTERCHANGE_FORMAT = BINARY
  UNCOMPRESSED_FILE_NAME = "H0462_0001_SR3.IMG"
  REQUIRED_STORAGE_BYTES = "960351"
  ^DESCRIPTION = "JP2INFO.TXT"
END_OBJECT = COMPRESSED_FILE
END
