PDS_VERSION_ID = PDS3
/* FILE DATA ELEMENTS */
RECORD_TYPE = STREAM
/* POINTERS TO DATA OBJECTS */
^COMPRESSED_FILE = "H0462_0005_SR3.JP2"
/* IDENTIFICATION DATA ELEMENTS */
DATA_SET_ID = "MEX-M-HRSC-5-REFDR-MAPPROJECTED-V3.0"
DATA_SET_NAME = "MARS EXPRESS HRSC MAP PROJECTED REFDR V3.0"
DETECTOR_ID = MEX_HRSC_SRC
EVENT_TYPE = "MARS-REGIONAL-MAPPING-Gl-Eo-Mw"
INSTRUMENT_HOST_ID = MEX
INSTRUMENT_HOST_NAME = "MARS EXPRESS"
INSTRUMENT_ID = HRSC
INSTRUMENT_NAME = "HIGH RESOLUTION STEREO CAMERA"
MISSION_NAME = "MARS EXPRESS"
MISSION_PHASE_NAME = MC_Phase_6
PROCESSING_LEVEL_ID = 3
PRODUCT_CREATION_TIME = 2016-03-03T04:31:40.000Z
PRODUCT_ID = "H0462_0005_SR3.JP2"
RELEASE_ID = 0007
REVISION_ID = 0000
/* QUALITY DATA ELEMENTS */
DATA_QUALITY_ID = 1
DATA_QUALITY_DESC = "Data calculated based on original SPICE kernels"
/* TIME DATA ELEMENTS */
SPACECRAFT_CLOCK_START_COUNT = "1/0034138336.57931"
SPACECRAFT_CLOCK_STOP_COUNT = "1/0034138577.06292"
IMAGE_TIME = 2004-06-01T02:55:14.533Z
START_TIME = 2004-06-01T02:55:14.531Z
STOP_TIME = 2004-06-01T02:55:14.536Z
/* ORBITAL DATA ELEMENTS */
ASCENDING_NODE_LONGITUDE = 219.39
MAXIMUM_RESOLUTION = 4.386
FOOTPRINT_POINT_LATITUDE = (-46.3642,-46.3664,-46.3688,-46.3718, -46.3744,-46.3778,-46.3812,-46.3855, -46.3878,-46.3927,-46.3957,-46.3984, -46.4022,-46.4064,-46.4094,-46.4133, -46.4157,-46.4196,-46.4228,-46.4252, -46.4288,-46.4315,-46.4334,-46.4352, -46.4351,-46.435,-46.4349,-46.4349, -46.4348,-46.4347,-46.4346,-46.4345, -46.4344,-46.4343,-46.4342,-46.4341, -46.434,-46.4339,-46.4338,-46.4337, -46.4336,-46.4335,-46.4334,-46.4333, -46.4332,-46.4331,-46.433,-46.4329, -46.4328,-46.4305,-46.4278,-46.4242, -46.4221,-46.4199,-46.4164,-46.4134, -46.4112,-46.4081,-46.4041,-46.4012, -46.3969,-46.3944,-46.3903,-46.3883, -46.3853,-46.3825,-46.3794,-46.3774, -46.3742,-46.3713,-46.3676,-46.3645, -46.362,-46.3582,-46.3582,-46.3583, -46.3584,-46.3585,-46.3586,-46.3587, -46.3588,-46.3589,-46.359,-46.3591, -46.3592,-46.3593,-46.3594,-46.3595, -46.3596,-46.3596,-46.3597,-46.3598, -46.3599,-46.36,-46.3601,-46.3602, -46.3603,-46.3604,-46.3605,-46.3642)
FOOTPRINT_POINT_LONGITUDE = (103.569,103.569,103.569,103.569, 103.569,103.569,103.568,103.568,103.568 ,103.568,103.568,103.568,103.567, 103.567,103.567,103.567,103.567,103.567 ,103.567,103.566,103.566,103.566, 103.566,103.565,103.56,103.556,103.552, 103.548,103.543,103.539,103.535,103.53, 103.526,103.522,103.517,103.513,103.509 ,103.504,103.5,103.496,103.491,103.487, 103.483,103.478,103.474,103.47,103.466, 103.461,103.457,103.456,103.457,103.457 ,103.457,103.457,103.457,103.457, 103.457,103.457,103.458,103.458,103.458 ,103.458,103.458,103.458,103.459, 103.459,103.459,103.459,103.459,103.459 ,103.459,103.459,103.46,103.46,103.464, 103.468,103.473,103.477,103.481,103.486 ,103.49,103.494,103.499,103.503,103.507 ,103.512,103.516,103.52,103.524,103.529 ,103.533,103.537,103.542,103.546,103.55 ,103.555,103.559,103.563,103.568, 103.569)
ORBIT_NUMBER = 462
ORBITAL_ECCENTRICITY = 0.573
ORBITAL_INCLINATION = 86.56
ORBITAL_SEMIMAJOR_AXIS = 8533.69
PERIAPSIS_ALTITUDE = 264.27
PERIAPSIS_ARGUMENT_ANGLE = 280.83
PERIAPSIS_TIME = 2004-06-01T02:46:52.000Z
SPACECRAFT_ORIENTATION = (0.0,-1.0,0.0)
^MEX_ORIENTATION_DESC = "MEX_ORIENTATION_DESC.TXT"
SPACECRAFT_POINTING_MODE = ACROSSTRACK
^MEX_POINTING_DESC = "MEX_POINTING_DESC.TXT"
RIGHT_ASCENSION = -1e+32
DECLINATION = -1e+32
OFFSET_ANGLE = -0.44
SPACECRAFT_SOLAR_DISTANCE = 2.45882e+08
TARGET_NAME = MARS
/* CAMERA DATA ELEMENTS */
BUFFER_MODE_ID = BUFFER_8
EXPOSURE_DURATION = 5.04
INST_CMPRS_NAME = NONE
INST_CMPRS_RATIO = 1.0
INST_CMPRS_QUALITY = -2147483648
INST_CMPRS_QUANTZ_TBL_ID = -2147483648
INSTRUMENT_TEMPERATURE = 8.46673
MISSING_FRAMES = 0
START_BIT = 0
/* RADIOMETRIC DATA ELEMENTS */
BANDWIDTH = 250.0
CENTER_FILTER_WAVELENGTH = 600.0
RADIANCE_OFFSET = -9.99e+31
RADIANCE_SCALING_FACTOR = -9.99e+31
REFLECTANCE_SCALING_FACTOR = -9.99e+31
MEX:REFLECTANCE_OFFSET = -9.99e+31
/* IMAGE OBJECT DEFINITIONS */
OBJECT = IMAGE
  INTERCHANGE_FORMAT = BINARY
  LINES = 975
  LINE_SAMPLES = 979
  SAMPLE_TYPE = UNSIGNED_INTEGER
  SAMPLE_BITS = 8
  BANDS = 1
  BAND_STORAGE_TYPE = BAND_SEQUENTIAL
  MAXIMUM = 2670
  MEAN = 2117.5
  MINIMUM = 1803
  STANDARD_DEVIATION = 63.3976
END_OBJECT = IMAGE
/* MAP OBJECT DEFINITIONS */
OBJECT = IMAGE_MAP_PROJECTION
  ^DATA_SET_MAP_PROJECTION_CATALOG= "DSMAP.CAT"
  A_AXIS_RADIUS = 3396.19
  B_AXIS_RADIUS = 3396.19
  C_AXIS_RADIUS = 3396.19
  CENTER_LATITUDE = 0.0
  CENTER_LONGITUDE = 104.0
  COORDINATE_SYSTEM_NAME = PLANETOGRAPHIC
  COORDINATE_SYSTEM_TYPE = "BODY-FIXED ROTATING"
  EASTERNMOST_LONGITUDE = 103.569
  FIRST_STANDARD_PARALLEL = "N/A"
  LINE_FIRST_PIXEL = 1
  LINE_LAST_PIXEL = 975
  LINE_PROJECTION_OFFSET = -548932.0
  MAP_PROJECTION_ROTATION = 0.0
  MAP_PROJECTION_TYPE = SINUSOIDAL
  MAP_RESOLUTION = 11854.9393024378
  MAP_SCALE = 0.005
  MAXIMUM_LATITUDE = -46.3582
  MINIMUM_LATITUDE = -46.4352
  POSITIVE_LONGITUDE_DIRECTION = EAST
  REFERENCE_LATITUDE = "N/A"
  REFERENCE_LONGITUDE = "N/A"
  SAMPLE_FIRST_PIXEL = 1
  SAMPLE_LAST_PIXEL = 979
  SAMPLE_PROJECTION_OFFSET = 4329.0
  SECOND_STANDARD_PARALLEL = "N/A"
  WESTERNMOST_LONGITUDE = 103.456
END_OBJECT = IMAGE_MAP_PROJECTION
/* The JPEG2000 image data file associated with this label. */
OBJECT = COMPRESSED_FILE
  FILE_NAME = "H0462_0005_SR3.JP2"
  RECORD_TYPE = UNDEFINED
  FILE_RECORDS = UNK
  ENCODING_TYPE = "JP2"
  INTERCHANGE_FORMAT = BINARY
  UNCOMPRESSED_FILE_NAME = "H0462_0005_SR3.IMG"
  REQUIRED_STORAGE_BYTES = "973126"
  ^DESCRIPTION = "JP2INFO.TXT"
END_OBJECT = COMPRESSED_FILE
END
