PDS_VERSION_ID = PDS3
/* FILE DATA ELEMENTS */
RECORD_TYPE = STREAM
/* POINTERS TO DATA OBJECTS */
^COMPRESSED_FILE = "H0462_0006_SR3.JP2"
/* IDENTIFICATION DATA ELEMENTS */
DATA_SET_ID = "MEX-M-HRSC-5-REFDR-MAPPROJECTED-V3.0"
DATA_SET_NAME = "MARS EXPRESS HRSC MAP PROJECTED REFDR V3.0"
DETECTOR_ID = MEX_HRSC_SRC
EVENT_TYPE = "MARS-REGIONAL-MAPPING-Gl-Eo-Mw"
INSTRUMENT_HOST_ID = MEX
INSTRUMENT_HOST_NAME = "MARS EXPRESS"
INSTRUMENT_ID = HRSC
INSTRUMENT_NAME = "HIGH RESOLUTION STEREO CAMERA"
MISSION_NAME = "MARS EXPRESS"
MISSION_PHASE_NAME = MC_Phase_6
PROCESSING_LEVEL_ID = 3
PRODUCT_CREATION_TIME = 2016-03-03T04:31:40.000Z
PRODUCT_ID = "H0462_0006_SR3.JP2"
RELEASE_ID = 0007
REVISION_ID = 0000
/* QUALITY DATA ELEMENTS */
DATA_QUALITY_ID = 1
DATA_QUALITY_DESC = "Data calculated based on original SPICE kernels"
/* TIME DATA ELEMENTS */
SPACECRAFT_CLOCK_START_COUNT = "1/0034138336.57931"
SPACECRAFT_CLOCK_STOP_COUNT = "1/0034138577.06292"
IMAGE_TIME = 2004-06-01T02:55:15.623Z
START_TIME = 2004-06-01T02:55:15.621Z
STOP_TIME = 2004-06-01T02:55:15.626Z
/* ORBITAL DATA ELEMENTS */
ASCENDING_NODE_LONGITUDE = 219.39
MAXIMUM_RESOLUTION = 4.395
FOOTPRINT_POINT_LATITUDE = (-46.2957,-46.298,-46.3012,-46.3055, -46.3083,-46.3108,-46.3138,-46.3165, -46.3199,-46.3221,-46.3251,-46.3273, -46.3322,-46.3361,-46.3386,-46.3407, -46.3441,-46.3465,-46.3486,-46.3529, -46.3557,-46.3578,-46.3602,-46.365, -46.369,-46.3699,-46.3698,-46.3697, -46.3696,-46.3695,-46.3694,-46.3693, -46.3692,-46.3692,-46.3691,-46.369, -46.3689,-46.3688,-46.3687,-46.3686, -46.3685,-46.3684,-46.3683,-46.3682, -46.3681,-46.368,-46.3679,-46.3678, -46.3677,-46.3676,-46.3652,-46.3608, -46.3569,-46.3544,-46.3509,-46.3481, -46.344,-46.3397,-46.3364,-46.3339, -46.3302,-46.3278,-46.3236,-46.3207, -46.3186,-46.3157,-46.3125,-46.3103, -46.308,-46.3045,-46.3006,-46.2982, -46.2961,-46.2932,-46.2929,-46.2929, -46.293,-46.2931,-46.2932,-46.2933, -46.2934,-46.2935,-46.2936,-46.2937, -46.2938,-46.2939,-46.294,-46.2941, -46.2942,-46.2943,-46.2943,-46.2944, -46.2945,-46.2946,-46.2947,-46.2948, -46.2949,-46.295,-46.2951,-46.2957)
FOOTPRINT_POINT_LONGITUDE = (103.572,103.572,103.572,103.572, 103.572,103.572,103.572,103.571,103.571 ,103.571,103.571,103.571,103.571, 103.571,103.57,103.57,103.57,103.57, 103.57,103.57,103.57,103.57,103.569, 103.569,103.569,103.564,103.559,103.555 ,103.551,103.546,103.542,103.538, 103.533,103.529,103.525,103.52,103.516, 103.512,103.507,103.503,103.499,103.494 ,103.49,103.486,103.481,103.477,103.473 ,103.469,103.464,103.46,103.459,103.46, 103.46,103.46,103.46,103.46,103.46, 103.461,103.461,103.461,103.461,103.461 ,103.461,103.462,103.462,103.462, 103.462,103.462,103.462,103.462,103.463 ,103.463,103.463,103.463,103.466, 103.471,103.475,103.479,103.483,103.488 ,103.492,103.496,103.501,103.505, 103.509,103.514,103.518,103.522,103.527 ,103.531,103.535,103.54,103.544,103.548 ,103.552,103.557,103.561,103.565,103.57 ,103.572)
ORBIT_NUMBER = 462
ORBITAL_ECCENTRICITY = 0.573
ORBITAL_INCLINATION = 86.56
ORBITAL_SEMIMAJOR_AXIS = 8533.69
PERIAPSIS_ALTITUDE = 264.27
PERIAPSIS_ARGUMENT_ANGLE = 280.83
PERIAPSIS_TIME = 2004-06-01T02:46:52.000Z
SPACECRAFT_ORIENTATION = (0.0,-1.0,0.0)
^MEX_ORIENTATION_DESC = "MEX_ORIENTATION_DESC.TXT"
SPACECRAFT_POINTING_MODE = ACROSSTRACK
^MEX_POINTING_DESC = "MEX_POINTING_DESC.TXT"
RIGHT_ASCENSION = -1e+32
DECLINATION = -1e+32
OFFSET_ANGLE = -0.44
SPACECRAFT_SOLAR_DISTANCE = 2.45882e+08
TARGET_NAME = MARS
/* CAMERA DATA ELEMENTS */
BUFFER_MODE_ID = BUFFER_8
EXPOSURE_DURATION = 5.04
INST_CMPRS_NAME = NONE
INST_CMPRS_RATIO = 1.0
INST_CMPRS_QUALITY = -2147483648
INST_CMPRS_QUANTZ_TBL_ID = -2147483648
INSTRUMENT_TEMPERATURE = 8.56997
MISSING_FRAMES = 0
START_BIT = 0
/* RADIOMETRIC DATA ELEMENTS */
BANDWIDTH = 250.0
CENTER_FILTER_WAVELENGTH = 600.0
RADIANCE_OFFSET = -9.99e+31
RADIANCE_SCALING_FACTOR = -9.99e+31
REFLECTANCE_SCALING_FACTOR = -9.99e+31
MEX:REFLECTANCE_OFFSET = -9.99e+31
/* IMAGE OBJECT DEFINITIONS */
OBJECT = IMAGE
  INTERCHANGE_FORMAT = BINARY
  LINES = 976
  LINE_SAMPLES = 980
  SAMPLE_TYPE = UNSIGNED_INTEGER
  SAMPLE_BITS = 8
  BANDS = 1
  BAND_STORAGE_TYPE = BAND_SEQUENTIAL
  MAXIMUM = 2425
  MEAN = 2135.04
  MINIMUM = 1800
  STANDARD_DEVIATION = 62.0558
END_OBJECT = IMAGE
/* MAP OBJECT DEFINITIONS */
OBJECT = IMAGE_MAP_PROJECTION
  ^DATA_SET_MAP_PROJECTION_CATALOG= "DSMAP.CAT"
  A_AXIS_RADIUS = 3396.19
  B_AXIS_RADIUS = 3396.19
  C_AXIS_RADIUS = 3396.19
  CENTER_LATITUDE = 0.0
  CENTER_LONGITUDE = 104.0
  COORDINATE_SYSTEM_NAME = PLANETOGRAPHIC
  COORDINATE_SYSTEM_TYPE = "BODY-FIXED ROTATING"
  EASTERNMOST_LONGITUDE = 103.572
  FIRST_STANDARD_PARALLEL = "N/A"
  LINE_FIRST_PIXEL = 1
  LINE_LAST_PIXEL = 976
  LINE_PROJECTION_OFFSET = -548159.0
  MAP_PROJECTION_ROTATION = 0.0
  MAP_PROJECTION_TYPE = SINUSOIDAL
  MAP_RESOLUTION = 11854.9393024378
  MAP_SCALE = 0.005
  MAXIMUM_LATITUDE = -46.2929
  MINIMUM_LATITUDE = -46.3699
  POSITIVE_LONGITUDE_DIRECTION = EAST
  REFERENCE_LATITUDE = "N/A"
  REFERENCE_LONGITUDE = "N/A"
  SAMPLE_FIRST_PIXEL = 1
  SAMPLE_LAST_PIXEL = 980
  SAMPLE_PROJECTION_OFFSET = 4310.0
  SECOND_STANDARD_PARALLEL = "N/A"
  WESTERNMOST_LONGITUDE = 103.459
END_OBJECT = IMAGE_MAP_PROJECTION
/* The JPEG2000 image data file associated with this label. */
OBJECT = COMPRESSED_FILE
  FILE_NAME = "H0462_0006_SR3.JP2"
  RECORD_TYPE = UNDEFINED
  FILE_RECORDS = UNK
  ENCODING_TYPE = "JP2"
  INTERCHANGE_FORMAT = BINARY
  UNCOMPRESSED_FILE_NAME = "H0462_0006_SR3.IMG"
  REQUIRED_STORAGE_BYTES = "975100"
  ^DESCRIPTION = "JP2INFO.TXT"
END_OBJECT = COMPRESSED_FILE
END
