PDS_VERSION_ID = PDS3
/* FILE DATA ELEMENTS */
RECORD_TYPE = STREAM
/* POINTERS TO DATA OBJECTS */
^COMPRESSED_FILE = "H0469_0000_IR3.JP2"
/* IDENTIFICATION DATA ELEMENTS */
DATA_SET_ID = "MEX-M-HRSC-5-REFDR-MAPPROJECTED-V3.0"
DATA_SET_NAME = "MARS EXPRESS HRSC MAP PROJECTED REFDR V3.0"
DETECTOR_ID = MEX_HRSC_IR
EVENT_TYPE = "MARS-REGIONAL-MAPPING-Im-Fl-Eo"
INSTRUMENT_HOST_ID = MEX
INSTRUMENT_HOST_NAME = "MARS EXPRESS"
INSTRUMENT_ID = HRSC
INSTRUMENT_NAME = "HIGH RESOLUTION STEREO CAMERA"
MISSION_NAME = "MARS EXPRESS"
MISSION_PHASE_NAME = MC_Phase_6
PROCESSING_LEVEL_ID = 3
PRODUCT_CREATION_TIME = 2016-03-03T04:31:40.000Z
PRODUCT_ID = "H0469_0000_IR3.JP2"
RELEASE_ID = 0007
REVISION_ID = 0000
/* QUALITY DATA ELEMENTS */
DATA_QUALITY_ID = 1
DATA_QUALITY_DESC = "Data calculated based on original SPICE kernels"
/* TIME DATA ELEMENTS */
SPACECRAFT_CLOCK_START_COUNT = "1/0034307744.57970"
SPACECRAFT_CLOCK_STOP_COUNT = "1/0034308268.45986"
START_TIME = 2004-06-03T01:55:58.991Z
STOP_TIME = 2004-06-03T02:01:34.161Z
/* ORBITAL DATA ELEMENTS */
ASCENDING_NODE_LONGITUDE = 219.24
MAXIMUM_RESOLUTION = 63.7
FOOTPRINT_POINT_LATITUDE = (-53.916,-53.9567,-53.983,-53.458, -52.8078,-52.4788,-52.1409,-51.803, -51.4676,-51.1256,-50.6132,-50.2638, -49.9107,-49.5586,-49.1989,-48.8396, -48.292,-47.9259,-47.552,-47.179, -46.7995,-46.4156,-46.0293,-45.6382, -45.2422,-44.8439,-44.4396,-43.8272, -43.205,-42.7867,-42.3605,-41.9308, -41.2772,-40.5557,-40.107,-39.6608, -39.1998,-38.7336,-38.2613,-37.4853, -36.998,-36.5067,-36.0101,-35.5053, -34.9954,-34.4794,-33.9564,-33.4263, -32.7857,-32.7821,-32.7687,-32.7567, -32.7533,-33.2844,-34.0801,-34.5994, -35.1115,-35.6182,-36.1177,-36.6131, -37.1013,-37.5833,-38.1155,-38.5904, -39.0566,-39.5193,-39.974,-40.4227, -41.1354,-41.5704,-42.0028,-42.4285, -42.8527,-43.2716,-43.6819,-44.0913, -44.4954,-44.8967,-45.2933,-45.688, -46.066,-46.6436,-47.0315,-47.4033, -47.9616,-48.3274,-48.6909,-49.0486, -49.5845,-49.9348,-50.4596,-50.8025, -51.1472,-51.6509,-51.9901,-52.3214, -52.8118,-53.1398,-53.625,-53.916)
FOOTPRINT_POINT_LONGITUDE = (133.338,134.259,134.998,135.318, 135.384,135.418,135.454,135.488,135.52, 135.551,135.596,135.627,135.658,135.688 ,135.717,135.746,135.789,135.816, 135.844,135.87,135.897,135.924,135.95, 135.976,136.002,136.028,136.053,136.09, 136.126,136.149,136.173,136.197,136.231 ,136.27,136.292,136.308,136.33,136.351, 136.372,136.404,136.424,136.443,136.461 ,136.48,136.497,136.514,136.531,136.548 ,136.307,135.442,134.708,134.313, 133.757,133.761,133.771,133.776,133.779 ,133.781,133.782,133.782,133.782,133.78 ,133.776,133.775,133.771,133.767, 133.761,133.755,133.742,133.732,133.722 ,133.712,133.701,133.689,133.676, 133.662,133.647,133.632,133.616,133.601 ,133.578,133.552,133.535,133.514, 133.483,133.461,133.437,133.414,133.377 ,133.352,133.313,133.286,133.259, 133.215,133.188,133.156,133.109,133.077 ,133.029,133.338)
ORBIT_NUMBER = 469
ORBITAL_ECCENTRICITY = 0.573
ORBITAL_INCLINATION = 86.56
ORBITAL_SEMIMAJOR_AXIS = 8533.5
PERIAPSIS_ALTITUDE = 265.29
PERIAPSIS_ARGUMENT_ANGLE = 279.62
PERIAPSIS_TIME = 2004-06-03T01:49:49.000Z
SPACECRAFT_ORIENTATION = (0.0,-1.0,0.0)
^MEX_ORIENTATION_DESC = "MEX_ORIENTATION_DESC.TXT"
SPACECRAFT_POINTING_MODE = NADIR
^MEX_POINTING_DESC = "MEX_POINTING_DESC.TXT"
RIGHT_ASCENSION = -1e+32
DECLINATION = -1e+32
OFFSET_ANGLE = -1e+32
SPACECRAFT_SOLAR_DISTANCE = 2.4607e+08
TARGET_NAME = MARS
/* CAMERA DATA ELEMENTS */
DETECTOR_TEMPERATURE = 17.5549
FOCAL_PLANE_TEMPERATURE = 8.7872
INST_CMPRS_NAME = "DISCRETE COSINE TRANSFORMATION (DCT)"
INST_CMPRS_RATIO = 4.60861
INST_CMPRS_QUALITY = 0
INST_CMPRS_QUANTZ_TBL_ID = 0
INSTRUMENT_TEMPERATURE = 11.0301
LENS_TEMPERATURE = 9.195
MACROPIXEL_SIZE = 4
MISSING_FRAMES = 50
PIXEL_SUBSAMPLING_FLAG = N
SIGNAL_CHAIN_ID = 2
/* RADIOMETRIC DATA ELEMENTS */
BANDWIDTH = 81.0
CENTER_FILTER_WAVELENGTH = 955.5
RADIANCE_OFFSET = 0.174133
RADIANCE_SCALING_FACTOR = 0.00409726
REFLECTANCE_SCALING_FACTOR = 0.000535231
MEX:REFLECTANCE_OFFSET = 0.0227473
/* IMAGE OBJECT DEFINITIONS */
OBJECT = IMAGE
  INTERCHANGE_FORMAT = BINARY
  LINES = 21312
  LINE_SAMPLES = 2993
  SAMPLE_TYPE = UNSIGNED_INTEGER
  SAMPLE_BITS = 8
  BANDS = 1
  BAND_STORAGE_TYPE = BAND_SEQUENTIAL
  MAXIMUM = 277
  MEAN = 113.688
  MINIMUM = 34
  STANDARD_DEVIATION = 33.4703
END_OBJECT = IMAGE
/* MAP OBJECT DEFINITIONS */
OBJECT = IMAGE_MAP_PROJECTION
  ^DATA_SET_MAP_PROJECTION_CATALOG= "DSMAP.CAT"
  A_AXIS_RADIUS = 3396.0
  B_AXIS_RADIUS = 3396.0
  C_AXIS_RADIUS = 3396.0
  CENTER_LATITUDE = 0.0
  CENTER_LONGITUDE = 135.0
  COORDINATE_SYSTEM_NAME = PLANETOGRAPHIC
  COORDINATE_SYSTEM_TYPE = "BODY-FIXED ROTATING"
  EASTERNMOST_LONGITUDE = 136.548
  FIRST_STANDARD_PARALLEL = "N/A"
  LINE_FIRST_PIXEL = 1
  LINE_LAST_PIXEL = 21312
  LINE_PROJECTION_OFFSET = -42617.875
  MAP_PROJECTION_ROTATION = 0.0
  MAP_PROJECTION_TYPE = SINUSOIDAL
  MAP_RESOLUTION = 1185.42760773333
  MAP_SCALE = 0.05
  MAXIMUM_LATITUDE = -32.7533
  MINIMUM_LATITUDE = -53.983
  POSITIVE_LONGITUDE_DIRECTION = EAST
  REFERENCE_LATITUDE = "N/A"
  REFERENCE_LONGITUDE = "N/A"
  SAMPLE_FIRST_PIXEL = 1
  SAMPLE_LAST_PIXEL = 2993
  SAMPLE_PROJECTION_OFFSET = 1447.375
  SECOND_STANDARD_PARALLEL = "N/A"
  WESTERNMOST_LONGITUDE = 133.029
END_OBJECT = IMAGE_MAP_PROJECTION
/* The JPEG2000 image data file associated with this label. */
OBJECT = COMPRESSED_FILE
  FILE_NAME = "H0469_0000_IR3.JP2"
  RECORD_TYPE = UNDEFINED
  FILE_RECORDS = UNK
  ENCODING_TYPE = "JP2"
  INTERCHANGE_FORMAT = BINARY
  UNCOMPRESSED_FILE_NAME = "H0469_0000_IR3.IMG"
  REQUIRED_STORAGE_BYTES = "63810760"
  ^DESCRIPTION = "JP2INFO.TXT"
END_OBJECT = COMPRESSED_FILE
END
