PDS_VERSION_ID = PDS3
/* FILE DATA ELEMENTS */
RECORD_TYPE = STREAM
/* POINTERS TO DATA OBJECTS */
^COMPRESSED_FILE = "H0469_0000_P13.JP2"
/* IDENTIFICATION DATA ELEMENTS */
DATA_SET_ID = "MEX-M-HRSC-5-REFDR-MAPPROJECTED-V3.0"
DATA_SET_NAME = "MARS EXPRESS HRSC MAP PROJECTED REFDR V3.0"
DETECTOR_ID = MEX_HRSC_P1
EVENT_TYPE = "MARS-REGIONAL-MAPPING-Im-Fl-Eo"
INSTRUMENT_HOST_ID = MEX
INSTRUMENT_HOST_NAME = "MARS EXPRESS"
INSTRUMENT_ID = HRSC
INSTRUMENT_NAME = "HIGH RESOLUTION STEREO CAMERA"
MISSION_NAME = "MARS EXPRESS"
MISSION_PHASE_NAME = MC_Phase_6
PROCESSING_LEVEL_ID = 3
PRODUCT_CREATION_TIME = 2016-03-03T04:31:40.000Z
PRODUCT_ID = "H0469_0000_P13.JP2"
RELEASE_ID = 0007
REVISION_ID = 0000
/* QUALITY DATA ELEMENTS */
DATA_QUALITY_ID = 1
DATA_QUALITY_DESC = "Data calculated based on original SPICE kernels"
/* TIME DATA ELEMENTS */
SPACECRAFT_CLOCK_START_COUNT = "1/0034307744.57970"
SPACECRAFT_CLOCK_STOP_COUNT = "1/0034308268.45986"
START_TIME = 2004-06-03T01:56:04.965Z
STOP_TIME = 2004-06-03T02:01:34.386Z
/* ORBITAL DATA ELEMENTS */
ASCENDING_NODE_LONGITUDE = 219.24
MAXIMUM_RESOLUTION = 63.3
FOOTPRINT_POINT_LATITUDE = (-53.8916,-53.9369,-53.9611,-53.6111, -52.986,-52.6669,-52.3408,-51.8509, -51.5195,-51.0233,-50.6864,-50.3503, -50.0101,-49.6623,-49.3161,-48.7885, -48.4351,-48.0763,-47.7161,-47.3519, -46.9851,-46.4252,-46.0511,-45.6683, -45.0906,-44.7007,-44.3059,-43.7078, -43.3041,-42.8959,-42.4848,-41.8565, -41.1374,-40.4826,-40.045,-39.6082, -39.1579,-38.7044,-38.1492,-37.4519, -36.9771,-36.4988,-36.0148,-35.5236, -35.0274,-34.5254,-34.017,-33.4534, -33.4527,-33.45,-33.4407,-33.421, -33.6779,-34.1887,-34.6926,-35.1903, -35.6826,-36.1685,-36.6498,-37.1243, -37.5934,-38.055,-38.3815,-38.838, -39.2895,-39.7345,-40.1754,-40.6117, -41.0396,-41.757,-42.3825,-42.7949, -43.2035,-43.6045,-44.2009,-44.7904, -45.1786,-45.5618,-46.1222,-46.4971, -46.8756,-47.2412,-47.6059,-47.966, -48.3244,-48.6758,-49.2024,-49.5477, -50.0631,-50.4009,-50.7397,-51.0729, -51.5665,-51.8984,-52.2196,-52.5367, -52.8612,-53.177,-53.4943,-53.8916)
FOOTPRINT_POINT_LONGITUDE = (133.227,134.259,134.941,135.31,135.371 ,135.403,135.438,135.489,135.521, 135.566,135.597,135.625,135.656,135.686 ,135.715,135.758,135.785,135.813,135.84 ,135.866,135.892,135.932,135.957, 135.983,136.021,136.046,136.07,136.106, 136.13,136.153,136.176,136.211,136.248, 136.284,136.306,136.322,136.344,136.364 ,136.39,136.417,136.437,136.456,136.474 ,136.492,136.51,136.527,136.544,136.3, 135.904,135.457,134.799,134.059,133.739 ,133.745,133.749,133.752,133.755, 133.756,133.757,133.757,133.756,133.753 ,133.753,133.75,133.747,133.742,133.737 ,133.73,133.722,133.708,133.693,133.683 ,133.672,133.659,133.639,133.618, 133.603,133.588,133.558,133.541,133.527 ,133.507,133.487,133.467,133.445, 133.423,133.388,133.365,133.328,133.303 ,133.277,133.251,133.208,133.183, 133.152,133.119,133.091,133.061,133.029 ,133.227)
ORBIT_NUMBER = 469
ORBITAL_ECCENTRICITY = 0.573
ORBITAL_INCLINATION = 86.56
ORBITAL_SEMIMAJOR_AXIS = 8533.5
PERIAPSIS_ALTITUDE = 265.29
PERIAPSIS_ARGUMENT_ANGLE = 279.62
PERIAPSIS_TIME = 2004-06-03T01:49:49.000Z
SPACECRAFT_ORIENTATION = (0.0,-1.0,0.0)
^MEX_ORIENTATION_DESC = "MEX_ORIENTATION_DESC.TXT"
SPACECRAFT_POINTING_MODE = NADIR
^MEX_POINTING_DESC = "MEX_POINTING_DESC.TXT"
RIGHT_ASCENSION = -1e+32
DECLINATION = -1e+32
OFFSET_ANGLE = -1e+32
SPACECRAFT_SOLAR_DISTANCE = 2.4607e+08
TARGET_NAME = MARS
/* CAMERA DATA ELEMENTS */
DETECTOR_TEMPERATURE = 17.5549
FOCAL_PLANE_TEMPERATURE = 8.7872
INST_CMPRS_NAME = "DISCRETE COSINE TRANSFORMATION (DCT)"
INST_CMPRS_RATIO = 8.66969
INST_CMPRS_QUALITY = 0
INST_CMPRS_QUANTZ_TBL_ID = 0
INSTRUMENT_TEMPERATURE = 11.0301
LENS_TEMPERATURE = 9.195
MACROPIXEL_SIZE = 4
MISSING_FRAMES = 55
PIXEL_SUBSAMPLING_FLAG = N
SIGNAL_CHAIN_ID = 3
/* RADIOMETRIC DATA ELEMENTS */
BANDWIDTH = 174.0
CENTER_FILTER_WAVELENGTH = 675.0
RADIANCE_OFFSET = 0.918721
RADIANCE_SCALING_FACTOR = 0.0135254
REFLECTANCE_SCALING_FACTOR = 0.000440508
MEX:REFLECTANCE_OFFSET = 0.0299218
/* IMAGE OBJECT DEFINITIONS */
OBJECT = IMAGE
  INTERCHANGE_FORMAT = BINARY
  LINES = 21312
  LINE_SAMPLES = 2993
  SAMPLE_TYPE = UNSIGNED_INTEGER
  SAMPLE_BITS = 8
  BANDS = 1
  BAND_STORAGE_TYPE = BAND_SEQUENTIAL
  MAXIMUM = 299
  MEAN = 141.565
  MINIMUM = 60
  STANDARD_DEVIATION = 38.3869
END_OBJECT = IMAGE
/* MAP OBJECT DEFINITIONS */
OBJECT = IMAGE_MAP_PROJECTION
  ^DATA_SET_MAP_PROJECTION_CATALOG= "DSMAP.CAT"
  A_AXIS_RADIUS = 3396.0
  B_AXIS_RADIUS = 3396.0
  C_AXIS_RADIUS = 3396.0
  CENTER_LATITUDE = 0.0
  CENTER_LONGITUDE = 135.0
  COORDINATE_SYSTEM_NAME = PLANETOGRAPHIC
  COORDINATE_SYSTEM_TYPE = "BODY-FIXED ROTATING"
  EASTERNMOST_LONGITUDE = 136.544
  FIRST_STANDARD_PARALLEL = "N/A"
  LINE_FIRST_PIXEL = 1
  LINE_LAST_PIXEL = 21312
  LINE_PROJECTION_OFFSET = -42617.875
  MAP_PROJECTION_ROTATION = 0.0
  MAP_PROJECTION_TYPE = SINUSOIDAL
  MAP_RESOLUTION = 1185.42760773333
  MAP_SCALE = 0.05
  MAXIMUM_LATITUDE = -33.421
  MINIMUM_LATITUDE = -53.9611
  POSITIVE_LONGITUDE_DIRECTION = EAST
  REFERENCE_LATITUDE = "N/A"
  REFERENCE_LONGITUDE = "N/A"
  SAMPLE_FIRST_PIXEL = 1
  SAMPLE_LAST_PIXEL = 2993
  SAMPLE_PROJECTION_OFFSET = 1447.375
  SECOND_STANDARD_PARALLEL = "N/A"
  WESTERNMOST_LONGITUDE = 133.029
END_OBJECT = IMAGE_MAP_PROJECTION
/* The JPEG2000 image data file associated with this label. */
OBJECT = COMPRESSED_FILE
  FILE_NAME = "H0469_0000_P13.JP2"
  RECORD_TYPE = UNDEFINED
  FILE_RECORDS = UNK
  ENCODING_TYPE = "JP2"
  INTERCHANGE_FORMAT = BINARY
  UNCOMPRESSED_FILE_NAME = "H0469_0000_P13.IMG"
  REQUIRED_STORAGE_BYTES = "63810760"
  ^DESCRIPTION = "JP2INFO.TXT"
END_OBJECT = COMPRESSED_FILE
END
