PDS_VERSION_ID = PDS3
/* FILE DATA ELEMENTS */
RECORD_TYPE = STREAM
/* POINTERS TO DATA OBJECTS */
^COMPRESSED_FILE = "H0471_0000_P23.JP2"
/* IDENTIFICATION DATA ELEMENTS */
DATA_SET_ID = "MEX-M-HRSC-5-REFDR-MAPPROJECTED-V3.0"
DATA_SET_NAME = "MARS EXPRESS HRSC MAP PROJECTED REFDR V3.0"
DETECTOR_ID = MEX_HRSC_P2
EVENT_TYPE = "MARS-REGIONAL-MAPPING-Te-Im-Fl"
INSTRUMENT_HOST_ID = MEX
INSTRUMENT_HOST_NAME = "MARS EXPRESS"
INSTRUMENT_ID = HRSC
INSTRUMENT_NAME = "HIGH RESOLUTION STEREO CAMERA"
MISSION_NAME = "MARS EXPRESS"
MISSION_PHASE_NAME = MC_Phase_6
PROCESSING_LEVEL_ID = 3
PRODUCT_CREATION_TIME = 2016-03-03T04:31:40.000Z
PRODUCT_ID = "H0471_0000_P23.JP2"
RELEASE_ID = 0007
REVISION_ID = 0000
/* QUALITY DATA ELEMENTS */
DATA_QUALITY_ID = 1
DATA_QUALITY_DESC = "Data calculated based on original SPICE kernels"
/* TIME DATA ELEMENTS */
SPACECRAFT_CLOCK_START_COUNT = "1/0034356167.56189"
SPACECRAFT_CLOCK_STOP_COUNT = "1/0034356671.64250"
START_TIME = 2004-06-03T15:27:13.129Z
STOP_TIME = 2004-06-03T15:30:36.927Z
/* ORBITAL DATA ELEMENTS */
ASCENDING_NODE_LONGITUDE = 219.2
MAXIMUM_RESOLUTION = 101.4
FOOTPRINT_POINT_LATITUDE = (-41.8554,-41.8619,-41.8671,-41.8712, -41.8743,-41.8762,-41.9048,-41.4604, -41.0126,-40.5605,-40.2857,-40.1026, -39.9175,-39.7325,-39.4524,-39.2654, -39.0766,-38.888,-38.6978,-38.5073, -38.3156,-38.1233,-37.8323,-37.6377, -37.4408,-37.2452,-37.0459,-36.7475, -36.5501,-36.3483,-36.0459,-35.8432, -35.6389,-35.3311,-35.1246,-34.917, -34.6041,-34.2886,-33.9711,-33.6512, -33.437,-33.2212,-33.0043,-32.6779, -32.3487,-32.1282,-32.0206,-32.0244, -32.0284,-32.0312,-32.0343,-32.0371, -32.0404,-32.0423,-32.0452,-32.0464, -32.0473,-32.2693,-32.4881,-32.7052, -33.0293,-33.2443,-33.4584,-33.6714, -33.9886,-34.3038,-34.6166,-34.9272, -35.1335,-35.3384,-35.6442,-35.8471, -36.0486,-36.3492,-36.5494,-36.7476, -36.9455,-37.142,-37.338,-37.5328, -37.8234,-38.0168,-38.2078,-38.3985, -38.6819,-38.8715,-39.0603,-39.2487, -39.4344,-39.7129,-39.8971,-40.0813, -40.2633,-40.4457,-40.6271,-40.9865, -41.2535,-41.6078,-41.8719,-41.8554)
FOOTPRINT_POINT_LONGITUDE = (296.016,296.453,296.886,297.317, 297.744,298.169,298.547,298.583,298.618 ,298.654,298.674,298.688,298.702, 298.716,298.736,298.75,298.764,298.777, 298.791,298.804,298.817,298.831,298.851 ,298.864,298.877,298.89,298.903,298.923 ,298.936,298.949,298.968,298.981, 298.994,299.013,299.026,299.038,299.057 ,299.076,299.095,299.114,299.126, 299.139,299.151,299.17,299.188,299.2, 298.789,298.53,298.238,297.978,297.718, 297.456,297.095,296.832,296.402,296.136 ,295.869,295.695,295.699,295.703, 295.708,295.711,295.714,295.716,295.72, 295.723,295.725,295.727,295.727,295.728 ,295.728,295.729,295.728,295.728, 295.727,295.726,295.725,295.723,295.722 ,295.72,295.717,295.715,295.712,295.711 ,295.708,295.704,295.699,295.695, 295.691,295.686,295.681,295.677,295.672 ,295.668,295.662,295.653,295.646, 295.635,295.626,296.016)
ORBIT_NUMBER = 471
ORBITAL_ECCENTRICITY = 0.573
ORBITAL_INCLINATION = 86.56
ORBITAL_SEMIMAJOR_AXIS = 8531.7
PERIAPSIS_ALTITUDE = 265.06
PERIAPSIS_ARGUMENT_ANGLE = 279.28
PERIAPSIS_TIME = 2004-06-03T15:16:25.000Z
SPACECRAFT_ORIENTATION = (0.0,-1.0,0.0)
^MEX_ORIENTATION_DESC = "MEX_ORIENTATION_DESC.TXT"
SPACECRAFT_POINTING_MODE = ACROSSTRACK
^MEX_POINTING_DESC = "MEX_POINTING_DESC.TXT"
RIGHT_ASCENSION = -1e+32
DECLINATION = -1e+32
OFFSET_ANGLE = 0.9
SPACECRAFT_SOLAR_DISTANCE = 2.46123e+08
TARGET_NAME = MARS
/* CAMERA DATA ELEMENTS */
DETECTOR_TEMPERATURE = 18.3705
FOCAL_PLANE_TEMPERATURE = 7.9716
INST_CMPRS_NAME = "DISCRETE COSINE TRANSFORMATION (DCT)"
INST_CMPRS_RATIO = 7.244
INST_CMPRS_QUALITY = 0
INST_CMPRS_QUANTZ_TBL_ID = 0
INSTRUMENT_TEMPERATURE = 11.0301
LENS_TEMPERATURE = 8.5833
MACROPIXEL_SIZE = 4
MISSING_FRAMES = 0
PIXEL_SUBSAMPLING_FLAG = N
SIGNAL_CHAIN_ID = 3
/* RADIOMETRIC DATA ELEMENTS */
BANDWIDTH = 177.0
CENTER_FILTER_WAVELENGTH = 676.5
RADIANCE_OFFSET = 0.908258
RADIANCE_SCALING_FACTOR = 0.0103566
REFLECTANCE_SCALING_FACTOR = 0.000332647
MEX:REFLECTANCE_OFFSET = 0.0291726
/* IMAGE OBJECT DEFINITIONS */
OBJECT = IMAGE
  INTERCHANGE_FORMAT = BINARY
  LINES = 4472
  LINE_SAMPLES = 1638
  SAMPLE_TYPE = UNSIGNED_INTEGER
  SAMPLE_BITS = 8
  BANDS = 1
  BAND_STORAGE_TYPE = BAND_SEQUENTIAL
  MAXIMUM = 266
  MEAN = 141.757
  MINIMUM = 62
  STANDARD_DEVIATION = 14.9112
END_OBJECT = IMAGE
/* MAP OBJECT DEFINITIONS */
OBJECT = IMAGE_MAP_PROJECTION
  ^DATA_SET_MAP_PROJECTION_CATALOG= "DSMAP.CAT"
  A_AXIS_RADIUS = 3396.0
  B_AXIS_RADIUS = 3396.0
  C_AXIS_RADIUS = 3396.0
  CENTER_LATITUDE = 0.0
  CENTER_LONGITUDE = 297.0
  COORDINATE_SYSTEM_NAME = PLANETOGRAPHIC
  COORDINATE_SYSTEM_TYPE = "BODY-FIXED ROTATING"
  EASTERNMOST_LONGITUDE = 299.2
  FIRST_STANDARD_PARALLEL = "N/A"
  LINE_FIRST_PIXEL = 1
  LINE_LAST_PIXEL = 4472
  LINE_PROJECTION_OFFSET = -18966.625
  MAP_PROJECTION_ROTATION = 0.0
  MAP_PROJECTION_TYPE = SINUSOIDAL
  MAP_RESOLUTION = 592.713803866667
  MAP_SCALE = 0.1
  MAXIMUM_LATITUDE = -32.0206
  MINIMUM_LATITUDE = -41.9048
  POSITIVE_LONGITUDE_DIRECTION = EAST
  REFERENCE_LATITUDE = "N/A"
  REFERENCE_LONGITUDE = "N/A"
  SAMPLE_FIRST_PIXEL = 1
  SAMPLE_LAST_PIXEL = 1638
  SAMPLE_PROJECTION_OFFSET = 612.625
  SECOND_STANDARD_PARALLEL = "N/A"
  WESTERNMOST_LONGITUDE = 295.626
END_OBJECT = IMAGE_MAP_PROJECTION
/* The JPEG2000 image data file associated with this label. */
OBJECT = COMPRESSED_FILE
  FILE_NAME = "H0471_0000_P23.JP2"
  RECORD_TYPE = UNDEFINED
  FILE_RECORDS = UNK
  ENCODING_TYPE = "JP2"
  INTERCHANGE_FORMAT = BINARY
  UNCOMPRESSED_FILE_NAME = "H0471_0000_P23.IMG"
  REQUIRED_STORAGE_BYTES = "7344792"
  ^DESCRIPTION = "JP2INFO.TXT"
END_OBJECT = COMPRESSED_FILE
END
