PDS_VERSION_ID = PDS3
/* FILE DATA ELEMENTS */
RECORD_TYPE = STREAM
/* POINTERS TO DATA OBJECTS */
^COMPRESSED_FILE = "H0478_0000_GR3.JP2"
/* IDENTIFICATION DATA ELEMENTS */
DATA_SET_ID = "MEX-M-HRSC-5-REFDR-MAPPROJECTED-V3.0"
DATA_SET_NAME = "MARS EXPRESS HRSC MAP PROJECTED REFDR V3.0"
DETECTOR_ID = MEX_HRSC_GREEN
EVENT_TYPE = "MARS-REGIONAL-MAPPING-Im-Fl-Eo"
INSTRUMENT_HOST_ID = MEX
INSTRUMENT_HOST_NAME = "MARS EXPRESS"
INSTRUMENT_ID = HRSC
INSTRUMENT_NAME = "HIGH RESOLUTION STEREO CAMERA"
MISSION_NAME = "MARS EXPRESS"
MISSION_PHASE_NAME = MR_Phase_1
PROCESSING_LEVEL_ID = 3
PRODUCT_CREATION_TIME = 2016-03-03T04:31:40.000Z
PRODUCT_ID = "H0478_0000_GR3.JP2"
RELEASE_ID = 0007
REVISION_ID = 0000
/* QUALITY DATA ELEMENTS */
DATA_QUALITY_ID = 1
DATA_QUALITY_DESC = "Data calculated based on original SPICE kernels"
/* TIME DATA ELEMENTS */
SPACECRAFT_CLOCK_START_COUNT = "1/0034525715.56193"
SPACECRAFT_CLOCK_STOP_COUNT = "1/0034527131.41408"
START_TIME = 2004-06-05T14:29:28.357Z
STOP_TIME = 2004-06-05T14:42:54.245Z
/* ORBITAL DATA ELEMENTS */
ASCENDING_NODE_LONGITUDE = 219.05
MAXIMUM_RESOLUTION = 91.5
FOOTPRINT_POINT_LATITUDE = (-42.6918,-42.7216,-42.2083,-41.1688, -40.1032,-39.0083,-37.8828,-37.3085, -36.7273,-36.1357,-35.5367,-34.9283, -34.311,-33.6845,-33.0487,-32.4025, -31.7464,-31.0804,-30.403,-29.7146, -29.0155,-28.3056,-27.5825,-26.8466, -26.1017,-25.3414,-24.5684,-23.7815, -22.9822,-21.6131,-20.773,-19.9189, -19.0482,-18.1625,-17.26,-16.3402, -15.403,-14.4483,-13.4741,-12.4806, -11.4649,-10.435,-9.38185,-7.80824, -6.77928,-5.76787,-4.77043,-4.69845, -4.77287,-4.82015,-4.85746,-4.8856, -4.92,-5.42855,-6.41034,-7.40801, -8.42351,-9.45506,-10.4962,-11.5175, -12.5185,-13.5009,-14.465,-15.4106, -16.3378,-17.2495,-18.144,-19.0228, -19.8865,-20.7356,-21.5692,-22.5263, -23.3272,-24.1145,-24.89,-25.6521, -26.402,-27.1399,-27.8651,-28.5785, -29.2805,-29.9712,-30.6516,-31.3187, -31.9796,-32.6265,-33.2676,-33.8969, -34.5162,-35.1277,-35.7303,-36.3242, -36.9084,-37.4845,-38.0537,-39.169, -40.2537,-41.3108,-42.3403,-42.6918)
FOOTPRINT_POINT_LONGITUDE = (329.748,331.239,331.823,331.876, 331.927,331.975,332.022,332.045,332.066 ,332.088,332.11,332.131,332.152,332.172 ,332.192,332.211,332.231,332.25,332.269 ,332.287,332.306,332.322,332.341, 332.361,332.374,332.392,332.408,332.425 ,332.439,332.464,332.481,332.495,332.51 ,332.523,332.536,332.549,332.561, 332.572,332.584,332.596,332.613,332.618 ,332.629,332.651,332.665,332.674, 332.685,331.672,330.393,329.493,328.75, 328.167,327.423,327.04,327.157,327.272, 327.388,327.501,327.616,327.721,327.82, 327.913,328.0,328.081,328.157,328.23, 328.299,328.364,328.426,328.486,328.541 ,328.6,328.646,328.689,328.731,328.77, 328.807,328.844,328.875,328.905,328.932 ,328.957,328.981,328.998,329.02,329.033 ,329.052,329.066,329.075,329.088, 329.096,329.104,329.109,329.111,329.114 ,329.116,329.113,329.105,329.089, 329.748)
ORBIT_NUMBER = 478
ORBITAL_ECCENTRICITY = 0.573
ORBITAL_INCLINATION = 86.57
ORBITAL_SEMIMAJOR_AXIS = 8530.47
PERIAPSIS_ALTITUDE = 265.19
PERIAPSIS_ARGUMENT_ANGLE = 278.05
PERIAPSIS_TIME = 2004-06-05T14:19:24.000Z
SPACECRAFT_ORIENTATION = (0.0,-1.0,0.0)
^MEX_ORIENTATION_DESC = "MEX_ORIENTATION_DESC.TXT"
SPACECRAFT_POINTING_MODE = ACROSSTRACK
^MEX_POINTING_DESC = "MEX_POINTING_DESC.TXT"
RIGHT_ASCENSION = -1e+32
DECLINATION = -1e+32
OFFSET_ANGLE = -0.18
SPACECRAFT_SOLAR_DISTANCE = 2.46305e+08
TARGET_NAME = MARS
/* CAMERA DATA ELEMENTS */
DETECTOR_TEMPERATURE = 17.7588
FOCAL_PLANE_TEMPERATURE = 8.3794
INST_CMPRS_NAME = "DISCRETE COSINE TRANSFORMATION (DCT)"
INST_CMPRS_RATIO = 8.90091
INST_CMPRS_QUALITY = 0
INST_CMPRS_QUANTZ_TBL_ID = 0
INSTRUMENT_TEMPERATURE = 11.0301
LENS_TEMPERATURE = 8.7872
MACROPIXEL_SIZE = 4
MISSING_FRAMES = 8
PIXEL_SUBSAMPLING_FLAG = N
SIGNAL_CHAIN_ID = 2
/* RADIOMETRIC DATA ELEMENTS */
BANDWIDTH = 88.0
CENTER_FILTER_WAVELENGTH = 538.0
RADIANCE_OFFSET = 0.38709
RADIANCE_SCALING_FACTOR = 0.00678883
REFLECTANCE_SCALING_FACTOR = 0.000354597
MEX:REFLECTANCE_OFFSET = 0.0202186
/* IMAGE OBJECT DEFINITIONS */
OBJECT = IMAGE
  INTERCHANGE_FORMAT = BINARY
  LINES = 22583
  LINE_SAMPLES = 3581
  SAMPLE_TYPE = UNSIGNED_INTEGER
  SAMPLE_BITS = 8
  BANDS = 1
  BAND_STORAGE_TYPE = BAND_SEQUENTIAL
  MAXIMUM = 206
  MEAN = 104.303
  MINIMUM = 30
  STANDARD_DEVIATION = 22.5639
END_OBJECT = IMAGE
/* MAP OBJECT DEFINITIONS */
OBJECT = IMAGE_MAP_PROJECTION
  ^DATA_SET_MAP_PROJECTION_CATALOG= "DSMAP.CAT"
  A_AXIS_RADIUS = 3396.0
  B_AXIS_RADIUS = 3396.0
  C_AXIS_RADIUS = 3396.0
  CENTER_LATITUDE = 0.0
  CENTER_LONGITUDE = 331.0
  COORDINATE_SYSTEM_NAME = PLANETOGRAPHIC
  COORDINATE_SYSTEM_TYPE = "BODY-FIXED ROTATING"
  EASTERNMOST_LONGITUDE = 332.685
  FIRST_STANDARD_PARALLEL = "N/A"
  LINE_FIRST_PIXEL = 1
  LINE_LAST_PIXEL = 22583
  LINE_PROJECTION_OFFSET = -2746.625
  MAP_PROJECTION_ROTATION = 0.0
  MAP_PROJECTION_TYPE = SINUSOIDAL
  MAP_RESOLUTION = 592.713803866667
  MAP_SCALE = 0.1
  MAXIMUM_LATITUDE = -4.69845
  MINIMUM_LATITUDE = -42.7216
  POSITIVE_LONGITUDE_DIRECTION = EAST
  REFERENCE_LATITUDE = "N/A"
  REFERENCE_LONGITUDE = "N/A"
  SAMPLE_FIRST_PIXEL = 1
  SAMPLE_LAST_PIXEL = 3581
  SAMPLE_PROJECTION_OFFSET = 2473.375
  SECOND_STANDARD_PARALLEL = "N/A"
  WESTERNMOST_LONGITUDE = 327.04
END_OBJECT = IMAGE_MAP_PROJECTION
/* The JPEG2000 image data file associated with this label. */
OBJECT = COMPRESSED_FILE
  FILE_NAME = "H0478_0000_GR3.JP2"
  RECORD_TYPE = UNDEFINED
  FILE_RECORDS = UNK
  ENCODING_TYPE = "JP2"
  INTERCHANGE_FORMAT = BINARY
  UNCOMPRESSED_FILE_NAME = "H0478_0000_GR3.IMG"
  REQUIRED_STORAGE_BYTES = "80891209"
  ^DESCRIPTION = "JP2INFO.TXT"
END_OBJECT = COMPRESSED_FILE
END
