PDS_VERSION_ID = PDS3
/* FILE DATA ELEMENTS */
RECORD_TYPE = STREAM
/* POINTERS TO DATA OBJECTS */
^COMPRESSED_FILE = "H0478_0000_S13.JP2"
/* IDENTIFICATION DATA ELEMENTS */
DATA_SET_ID = "MEX-M-HRSC-5-REFDR-MAPPROJECTED-V3.0"
DATA_SET_NAME = "MARS EXPRESS HRSC MAP PROJECTED REFDR V3.0"
DETECTOR_ID = MEX_HRSC_S1
EVENT_TYPE = "MARS-REGIONAL-MAPPING-Im-Fl-Eo"
INSTRUMENT_HOST_ID = MEX
INSTRUMENT_HOST_NAME = "MARS EXPRESS"
INSTRUMENT_ID = HRSC
INSTRUMENT_NAME = "HIGH RESOLUTION STEREO CAMERA"
MISSION_NAME = "MARS EXPRESS"
MISSION_PHASE_NAME = MR_Phase_1
PROCESSING_LEVEL_ID = 3
PRODUCT_CREATION_TIME = 2016-03-03T04:31:40.000Z
PRODUCT_ID = "H0478_0000_S13.JP2"
RELEASE_ID = 0007
REVISION_ID = 0000
/* QUALITY DATA ELEMENTS */
DATA_QUALITY_ID = 1
DATA_QUALITY_DESC = "Data calculated based on original SPICE kernels"
/* TIME DATA ELEMENTS */
SPACECRAFT_CLOCK_START_COUNT = "1/0034525715.56193"
SPACECRAFT_CLOCK_STOP_COUNT = "1/0034527131.41408"
START_TIME = 2004-06-05T14:28:44.385Z
STOP_TIME = 2004-06-05T14:40:00.999Z
/* ORBITAL DATA ELEMENTS */
ASCENDING_NODE_LONGITUDE = 219.05
MAXIMUM_RESOLUTION = 45.2
FOOTPRINT_POINT_LATITUDE = (-42.7486,-42.7626,-42.7184,-41.6979, -40.6682,-39.6038,-38.2303,-36.8047, -36.2226,-35.6334,-35.0331,-34.4261, -33.8094,-33.1837,-32.5475,-31.8937, -31.2369,-30.5685,-29.8883,-29.1975, -28.4966,-27.7801,-26.6769,-25.9425, -25.1823,-24.4104,-23.623,-22.8233, -22.0101,-21.1732,-20.3248,-19.4605, -18.5821,-17.6872,-16.2798,-15.3375, -14.3823,-13.4012,-12.399,-11.362, -10.3347,-9.26841,-8.15736,-7.59677, -6.47615,-5.90498,-5.32942,-4.7295, -4.63713,-4.67196,-4.72404,-4.77286, -4.79952,-4.81333,-5.39492,-5.97097, -7.07398,-7.63052,-8.72664,-10.3362, -11.3773,-12.3947,-13.3907,-14.3643, -15.3169,-16.2486,-17.1945,-18.0947, -18.976,-19.8452,-20.7005,-21.538, -22.3593,-23.1581,-23.9406,-24.7155, -25.4789,-26.2299,-26.9739,-27.6998, -28.4091,-29.1133,-29.8005,-30.4812, -31.1476,-31.8035,-32.7622,-33.4054, -34.0247,-34.6293,-35.5364,-36.1269, -36.707,-37.5677,-38.6839,-39.7673, -40.8234,-41.5978,-42.3526,-42.7486)
FOOTPRINT_POINT_LONGITUDE = (330.125,330.899,331.736,331.791, 331.836,331.881,331.937,331.986,332.005 ,332.024,332.044,332.062,332.079, 332.096,332.113,332.13,332.146,332.162, 332.178,332.193,332.207,332.222,332.245 ,332.254,332.267,332.279,332.29,332.301 ,332.31,332.322,332.332,332.341,332.349 ,332.355,332.365,332.371,332.374, 332.378,332.382,332.389,332.386,332.387 ,332.393,332.395,332.392,332.391, 332.389,332.392,331.529,330.955,330.287 ,329.098,328.098,327.461,327.523, 327.583,327.689,327.743,327.848,327.997 ,328.088,328.173,328.253,328.328, 328.398,328.463,328.527,328.586,328.641 ,328.694,328.744,328.791,328.834, 328.873,328.909,328.944,328.977,329.008 ,329.038,329.065,329.088,329.111, 329.131,329.15,329.167,329.182,329.197, 329.211,329.221,329.226,329.237,329.242 ,329.244,329.244,329.243,329.236, 329.225,329.214,329.199,330.125)
ORBIT_NUMBER = 478
ORBITAL_ECCENTRICITY = 0.573
ORBITAL_INCLINATION = 86.57
ORBITAL_SEMIMAJOR_AXIS = 8530.47
PERIAPSIS_ALTITUDE = 265.19
PERIAPSIS_ARGUMENT_ANGLE = 278.05
PERIAPSIS_TIME = 2004-06-05T14:19:24.000Z
SPACECRAFT_ORIENTATION = (0.0,-1.0,0.0)
^MEX_ORIENTATION_DESC = "MEX_ORIENTATION_DESC.TXT"
SPACECRAFT_POINTING_MODE = ACROSSTRACK
^MEX_POINTING_DESC = "MEX_POINTING_DESC.TXT"
RIGHT_ASCENSION = -1e+32
DECLINATION = -1e+32
OFFSET_ANGLE = -0.18
SPACECRAFT_SOLAR_DISTANCE = 2.46305e+08
TARGET_NAME = MARS
/* CAMERA DATA ELEMENTS */
DETECTOR_TEMPERATURE = 17.351
FOCAL_PLANE_TEMPERATURE = 8.3794
INST_CMPRS_NAME = "DISCRETE COSINE TRANSFORMATION (DCT)"
INST_CMPRS_RATIO = 9.12918
INST_CMPRS_QUALITY = 0
INST_CMPRS_QUANTZ_TBL_ID = 0
INSTRUMENT_TEMPERATURE = 11.0301
LENS_TEMPERATURE = 8.7872
MACROPIXEL_SIZE = 2
MISSING_FRAMES = 6
PIXEL_SUBSAMPLING_FLAG = N
SIGNAL_CHAIN_ID = 1
/* RADIOMETRIC DATA ELEMENTS */
BANDWIDTH = 180.0
CENTER_FILTER_WAVELENGTH = 677.0
RADIANCE_OFFSET = 1.06857
RADIANCE_SCALING_FACTOR = 0.0220337
REFLECTANCE_SCALING_FACTOR = 0.000697397
MEX:REFLECTANCE_OFFSET = 0.0338216
/* IMAGE OBJECT DEFINITIONS */
OBJECT = IMAGE
  INTERCHANGE_FORMAT = BINARY
  LINES = 45166
  LINE_SAMPLES = 7161
  SAMPLE_TYPE = UNSIGNED_INTEGER
  SAMPLE_BITS = 8
  BANDS = 1
  BAND_STORAGE_TYPE = BAND_SEQUENTIAL
  MAXIMUM = 209
  MEAN = 91.7146
  MINIMUM = 22
  STANDARD_DEVIATION = 20.828
END_OBJECT = IMAGE
/* MAP OBJECT DEFINITIONS */
OBJECT = IMAGE_MAP_PROJECTION
  ^DATA_SET_MAP_PROJECTION_CATALOG= "DSMAP.CAT"
  A_AXIS_RADIUS = 3396.0
  B_AXIS_RADIUS = 3396.0
  C_AXIS_RADIUS = 3396.0
  CENTER_LATITUDE = 0.0
  CENTER_LONGITUDE = 331.0
  COORDINATE_SYSTEM_NAME = PLANETOGRAPHIC
  COORDINATE_SYSTEM_TYPE = "BODY-FIXED ROTATING"
  EASTERNMOST_LONGITUDE = 332.395
  FIRST_STANDARD_PARALLEL = "N/A"
  LINE_FIRST_PIXEL = 1
  LINE_LAST_PIXEL = 45166
  LINE_PROJECTION_OFFSET = -5492.75
  MAP_PROJECTION_ROTATION = 0.0
  MAP_PROJECTION_TYPE = SINUSOIDAL
  MAP_RESOLUTION = 1185.42760773333
  MAP_SCALE = 0.05
  MAXIMUM_LATITUDE = -4.63713
  MINIMUM_LATITUDE = -42.7626
  POSITIVE_LONGITUDE_DIRECTION = EAST
  REFERENCE_LATITUDE = "N/A"
  REFERENCE_LONGITUDE = "N/A"
  SAMPLE_FIRST_PIXEL = 1
  SAMPLE_LAST_PIXEL = 7161
  SAMPLE_PROJECTION_OFFSET = 4947.25
  SECOND_STANDARD_PARALLEL = "N/A"
  WESTERNMOST_LONGITUDE = 327.461
END_OBJECT = IMAGE_MAP_PROJECTION
/* The JPEG2000 image data file associated with this label. */
OBJECT = COMPRESSED_FILE
  FILE_NAME = "H0478_0000_S13.JP2"
  RECORD_TYPE = UNDEFINED
  FILE_RECORDS = UNK
  ENCODING_TYPE = "JP2"
  INTERCHANGE_FORMAT = BINARY
  UNCOMPRESSED_FILE_NAME = "H0478_0000_S13.IMG"
  REQUIRED_STORAGE_BYTES = "323462370"
  ^DESCRIPTION = "JP2INFO.TXT"
END_OBJECT = COMPRESSED_FILE
END
