PDS_VERSION_ID = PDS3
/* FILE DATA ELEMENTS */
RECORD_TYPE = STREAM
/* POINTERS TO DATA OBJECTS */
^COMPRESSED_FILE = "H0482_0000_RE3.JP2"
/* IDENTIFICATION DATA ELEMENTS */
DATA_SET_ID = "MEX-M-HRSC-5-REFDR-MAPPROJECTED-V3.0"
DATA_SET_NAME = "MARS EXPRESS HRSC MAP PROJECTED REFDR V3.0"
DETECTOR_ID = MEX_HRSC_RED
EVENT_TYPE = "MARS-REGIONAL-MAPPING-Vo-Te-Fl"
INSTRUMENT_HOST_ID = MEX
INSTRUMENT_HOST_NAME = "MARS EXPRESS"
INSTRUMENT_ID = HRSC
INSTRUMENT_NAME = "HIGH RESOLUTION STEREO CAMERA"
MISSION_NAME = "MARS EXPRESS"
MISSION_PHASE_NAME = MR_Phase_1
PROCESSING_LEVEL_ID = 3
PRODUCT_CREATION_TIME = 2016-03-03T04:31:40.000Z
PRODUCT_ID = "H0482_0000_RE3.JP2"
RELEASE_ID = 0007
REVISION_ID = 0000
/* QUALITY DATA ELEMENTS */
DATA_QUALITY_ID = 1
DATA_QUALITY_DESC = "Data calculated based on original SPICE kernels"
/* TIME DATA ELEMENTS */
SPACECRAFT_CLOCK_START_COUNT = "1/0034622677.57294"
SPACECRAFT_CLOCK_STOP_COUNT = "1/0034623468.07260"
START_TIME = 2004-06-06T17:29:59.704Z
STOP_TIME = 2004-06-06T17:36:39.593Z
/* ORBITAL DATA ELEMENTS */
ASCENDING_NODE_LONGITUDE = 218.97
MAXIMUM_RESOLUTION = 184.8
FOOTPRINT_POINT_LATITUDE = (-27.0317,-27.0269,-27.0218,-27.0166, -27.0091,-27.0034,-26.9984,-26.9925, -26.9841,-26.9779,-26.9714,-26.9647, -26.9576,-26.5204,-26.231,-25.9432, -25.657,-25.3366,-25.0529,-24.6648, -24.3859,-23.969,-23.6961,-23.2883, -23.0182,-22.75,-22.4834,-22.2186, -21.9555,-21.6939,-21.3028,-21.0425, -20.6533,-20.4009,-20.1501,-19.7804, -19.5328,-19.2869,-18.8007,-18.1987, -17.7248,-17.2572,-16.7956,-16.3408, -15.8907,-15.4471,-15.0251,-14.6998, -14.3592,-14.0491,-14.0603,-14.0963, -14.0956,-14.1144,-14.1317,-14.1518, -14.2154,-14.2364,-14.2479,-14.2447, -14.2614,-14.2876,-14.3228,-14.5657, -14.9814,-15.4044,-15.8324,-16.2664, -16.7068,-17.1537,-17.6066,-18.0668, -18.5318,-19.0033,-19.362,-19.8438, -20.3338,-20.5806,-20.8297,-21.0798, -21.3312,-21.585,-21.8399,-22.0971, -22.3557,-22.616,-22.8781,-23.1416, -23.4066,-23.6803,-23.9432,-24.2142, -24.4869,-24.7615,-25.1441,-25.5613, -25.8794,-26.1603,-26.5891,-27.0317)
FOOTPRINT_POINT_LONGITUDE = (295.132,295.457,295.781,296.104, 296.548,296.871,297.154,297.477,297.92, 298.243,298.566,298.89,299.349,299.37, 299.384,299.397,299.41,299.425,299.437, 299.455,299.468,299.486,299.499,299.519 ,299.531,299.544,299.556,299.569, 299.581,299.594,299.612,299.623,299.639 ,299.651,299.664,299.685,299.697,299.71 ,299.735,299.765,299.79,299.815,299.839 ,299.865,299.89,299.915,299.947,299.966 ,299.977,299.716,299.426,298.911, 298.561,298.043,297.7,297.414,297.017, 296.498,295.981,295.639,295.352,294.894 ,294.318,293.862,293.915,293.967, 294.018,294.069,294.119,294.169,294.218 ,294.267,294.315,294.363,294.398, 294.445,294.491,294.514,294.536,294.559 ,294.581,294.604,294.626,294.647, 294.669,294.691,294.712,294.733,294.754 ,294.773,294.795,294.816,294.836, 294.855,294.882,294.912,294.932,294.952 ,294.979,295.132)
ORBIT_NUMBER = 482
ORBITAL_ECCENTRICITY = 0.573
ORBITAL_INCLINATION = 86.56
ORBITAL_SEMIMAJOR_AXIS = 8531.06
PERIAPSIS_ALTITUDE = 265.11
PERIAPSIS_ARGUMENT_ANGLE = 277.36
PERIAPSIS_TIME = 2004-06-06T17:12:36.000Z
SPACECRAFT_ORIENTATION = (0.0,-1.0,0.0)
^MEX_ORIENTATION_DESC = "MEX_ORIENTATION_DESC.TXT"
SPACECRAFT_POINTING_MODE = NADIR
^MEX_POINTING_DESC = "MEX_POINTING_DESC.TXT"
RIGHT_ASCENSION = -1e+32
DECLINATION = -1e+32
OFFSET_ANGLE = -1e+32
SPACECRAFT_SOLAR_DISTANCE = 2.46407e+08
TARGET_NAME = MARS
/* CAMERA DATA ELEMENTS */
DETECTOR_TEMPERATURE = 18.5744
FOCAL_PLANE_TEMPERATURE = 8.3794
INST_CMPRS_NAME = "DISCRETE COSINE TRANSFORMATION (DCT)"
INST_CMPRS_RATIO = 17.3974
INST_CMPRS_QUALITY = 0
INST_CMPRS_QUANTZ_TBL_ID = 0
INSTRUMENT_TEMPERATURE = 11.0301
LENS_TEMPERATURE = 8.7872
MACROPIXEL_SIZE = 4
MISSING_FRAMES = 29
PIXEL_SUBSAMPLING_FLAG = N
SIGNAL_CHAIN_ID = 2
/* RADIOMETRIC DATA ELEMENTS */
BANDWIDTH = 48.0
CENTER_FILTER_WAVELENGTH = 748.0
RADIANCE_OFFSET = 0.162828
RADIANCE_SCALING_FACTOR = 0.00654505
REFLECTANCE_SCALING_FACTOR = 0.000906878
MEX:REFLECTANCE_OFFSET = 0.0225614
/* IMAGE OBJECT DEFINITIONS */
OBJECT = IMAGE
  INTERCHANGE_FORMAT = BINARY
  LINES = 2238
  LINE_SAMPLES = 1417
  SAMPLE_TYPE = UNSIGNED_INTEGER
  SAMPLE_BITS = 8
  BANDS = 1
  BAND_STORAGE_TYPE = BAND_SEQUENTIAL
  MAXIMUM = 95
  MEAN = 45.3048
  MINIMUM = 5
  STANDARD_DEVIATION = 10.9195
END_OBJECT = IMAGE
/* MAP OBJECT DEFINITIONS */
OBJECT = IMAGE_MAP_PROJECTION
  ^DATA_SET_MAP_PROJECTION_CATALOG= "DSMAP.CAT"
  A_AXIS_RADIUS = 3396.0
  B_AXIS_RADIUS = 3396.0
  C_AXIS_RADIUS = 3396.0
  CENTER_LATITUDE = 0.0
  CENTER_LONGITUDE = 297.0
  COORDINATE_SYSTEM_NAME = PLANETOGRAPHIC
  COORDINATE_SYSTEM_TYPE = "BODY-FIXED ROTATING"
  EASTERNMOST_LONGITUDE = 299.977
  FIRST_STANDARD_PARALLEL = "N/A"
  LINE_FIRST_PIXEL = 1
  LINE_LAST_PIXEL = 2238
  LINE_PROJECTION_OFFSET = -4182.625
  MAP_PROJECTION_ROTATION = 0.0
  MAP_PROJECTION_TYPE = SINUSOIDAL
  MAP_RESOLUTION = 296.356901933333
  MAP_SCALE = 0.2
  MAXIMUM_LATITUDE = -14.0491
  MINIMUM_LATITUDE = -27.0317
  POSITIVE_LONGITUDE_DIRECTION = EAST
  REFERENCE_LATITUDE = "N/A"
  REFERENCE_LONGITUDE = "N/A"
  SAMPLE_FIRST_PIXEL = 1
  SAMPLE_LAST_PIXEL = 1417
  SAMPLE_PROJECTION_OFFSET = 751.625
  SECOND_STANDARD_PARALLEL = "N/A"
  WESTERNMOST_LONGITUDE = 293.862
END_OBJECT = IMAGE_MAP_PROJECTION
/* The JPEG2000 image data file associated with this label. */
OBJECT = COMPRESSED_FILE
  FILE_NAME = "H0482_0000_RE3.JP2"
  RECORD_TYPE = UNDEFINED
  FILE_RECORDS = UNK
  ENCODING_TYPE = "JP2"
  INTERCHANGE_FORMAT = BINARY
  UNCOMPRESSED_FILE_NAME = "H0482_0000_RE3.IMG"
  REQUIRED_STORAGE_BYTES = "3189667"
  ^DESCRIPTION = "JP2INFO.TXT"
END_OBJECT = COMPRESSED_FILE
END
