PDS_VERSION_ID = PDS3
/* FILE DATA ELEMENTS */
RECORD_TYPE = STREAM
/* POINTERS TO DATA OBJECTS */
^COMPRESSED_FILE = "H0486_0002_SR3.JP2"
/* IDENTIFICATION DATA ELEMENTS */
DATA_SET_ID = "MEX-M-HRSC-5-REFDR-MAPPROJECTED-V3.0"
DATA_SET_NAME = "MARS EXPRESS HRSC MAP PROJECTED REFDR V3.0"
DETECTOR_ID = MEX_HRSC_SRC
EVENT_TYPE = "MARS-REGIONAL-MAPPING-Vo-Te-Fl"
INSTRUMENT_HOST_ID = MEX
INSTRUMENT_HOST_NAME = "MARS EXPRESS"
INSTRUMENT_ID = HRSC
INSTRUMENT_NAME = "HIGH RESOLUTION STEREO CAMERA"
MISSION_NAME = "MARS EXPRESS"
MISSION_PHASE_NAME = MR_Phase_1
PROCESSING_LEVEL_ID = 3
PRODUCT_CREATION_TIME = 2016-03-03T04:31:40.000Z
PRODUCT_ID = "H0486_0002_SR3.JP2"
RELEASE_ID = 0007
REVISION_ID = 0000
/* QUALITY DATA ELEMENTS */
DATA_QUALITY_ID = 1
DATA_QUALITY_DESC = "Data calculated based on original SPICE kernels"
/* TIME DATA ELEMENTS */
SPACECRAFT_CLOCK_START_COUNT = "1/0034719221.57309"
SPACECRAFT_CLOCK_STOP_COUNT = "1/0034719785.60191"
IMAGE_TIME = 2004-06-07T20:14:48.422Z
START_TIME = 2004-06-07T20:14:48.419Z
STOP_TIME = 2004-06-07T20:14:48.424Z
/* ORBITAL DATA ELEMENTS */
ASCENDING_NODE_LONGITUDE = 218.89
MAXIMUM_RESOLUTION = 4.735
FOOTPRINT_POINT_LATITUDE = (-48.0451,-48.048,-48.0503,-48.0526, -48.0566,-48.061,-48.0657,-48.0698, -48.0728,-48.077,-48.0799,-48.0852, -48.0893,-48.0923,-48.0945,-48.0967, -48.0995,-48.1044,-48.1068,-48.1092, -48.1117,-48.115,-48.1181,-48.1228, -48.1252,-48.1251,-48.125,-48.125, -48.1249,-48.1248,-48.1248,-48.1247, -48.1246,-48.1245,-48.1245,-48.1244, -48.1243,-48.1242,-48.1242,-48.1241, -48.124,-48.1239,-48.1239,-48.1238, -48.1237,-48.1236,-48.1236,-48.1235, -48.1234,-48.1233,-48.1214,-48.1181, -48.1157,-48.1132,-48.1095,-48.1071, -48.1033,-48.0987,-48.0959,-48.0924, -48.0902,-48.0871,-48.0822,-48.0793, -48.0746,-48.0701,-48.0662,-48.0635, -48.0613,-48.0584,-48.0557,-48.052, -48.0495,-48.0459,-48.0428,-48.0428, -48.0429,-48.043,-48.043,-48.0431, -48.0432,-48.0433,-48.0433,-48.0434, -48.0435,-48.0435,-48.0436,-48.0437, -48.0438,-48.0438,-48.0439,-48.044, -48.044,-48.0441,-48.0442,-48.0442, -48.0443,-48.0444,-48.0444,-48.0451)
FOOTPRINT_POINT_LONGITUDE = (265.196,265.195,265.195,265.195, 265.195,265.195,265.195,265.195,265.195 ,265.194,265.194,265.194,265.194, 265.194,265.194,265.194,265.194,265.194 ,265.194,265.193,265.193,265.193, 265.193,265.193,265.193,265.188,265.183 ,265.178,265.173,265.168,265.164, 265.159,265.154,265.149,265.144,265.139 ,265.135,265.13,265.125,265.12,265.115, 265.11,265.105,265.101,265.096,265.091, 265.086,265.081,265.076,265.072,265.07, 265.07,265.07,265.07,265.07,265.07, 265.07,265.07,265.071,265.071,265.071, 265.071,265.071,265.071,265.071,265.071 ,265.072,265.072,265.072,265.072, 265.072,265.072,265.072,265.072,265.075 ,265.08,265.085,265.089,265.094,265.099 ,265.104,265.109,265.114,265.118, 265.123,265.128,265.133,265.138,265.143 ,265.148,265.152,265.157,265.162, 265.167,265.172,265.177,265.181,265.186 ,265.191,265.196)
ORBIT_NUMBER = 486
ORBITAL_ECCENTRICITY = 0.573
ORBITAL_INCLINATION = 86.56
ORBITAL_SEMIMAJOR_AXIS = 8530.68
PERIAPSIS_ALTITUDE = 264.41
PERIAPSIS_ARGUMENT_ANGLE = 276.64
PERIAPSIS_TIME = 2004-06-07T20:05:44.000Z
SPACECRAFT_ORIENTATION = (0.0,-1.0,0.0)
^MEX_ORIENTATION_DESC = "MEX_ORIENTATION_DESC.TXT"
SPACECRAFT_POINTING_MODE = ACROSSTRACK
^MEX_POINTING_DESC = "MEX_POINTING_DESC.TXT"
RIGHT_ASCENSION = -1e+32
DECLINATION = -1e+32
OFFSET_ANGLE = -1.1
SPACECRAFT_SOLAR_DISTANCE = 2.46507e+08
TARGET_NAME = MARS
/* CAMERA DATA ELEMENTS */
BUFFER_MODE_ID = BUFFER_8
EXPOSURE_DURATION = 5.04
INST_CMPRS_NAME = NONE
INST_CMPRS_RATIO = 1.0
INST_CMPRS_QUALITY = -2147483648
INST_CMPRS_QUANTZ_TBL_ID = -2147483648
INSTRUMENT_TEMPERATURE = 8.18182
MISSING_FRAMES = 0
START_BIT = 0
/* RADIOMETRIC DATA ELEMENTS */
BANDWIDTH = 250.0
CENTER_FILTER_WAVELENGTH = 600.0
RADIANCE_OFFSET = -9.99e+31
RADIANCE_SCALING_FACTOR = -9.99e+31
REFLECTANCE_SCALING_FACTOR = -9.99e+31
MEX:REFLECTANCE_OFFSET = -9.99e+31
/* IMAGE OBJECT DEFINITIONS */
OBJECT = IMAGE
  INTERCHANGE_FORMAT = BINARY
  LINES = 1039
  LINE_SAMPLES = 1061
  SAMPLE_TYPE = UNSIGNED_INTEGER
  SAMPLE_BITS = 8
  BANDS = 1
  BAND_STORAGE_TYPE = BAND_SEQUENTIAL
  MAXIMUM = 1545
  MEAN = 1097.97
  MINIMUM = 745
  STANDARD_DEVIATION = 73.4598
END_OBJECT = IMAGE
/* MAP OBJECT DEFINITIONS */
OBJECT = IMAGE_MAP_PROJECTION
  ^DATA_SET_MAP_PROJECTION_CATALOG= "DSMAP.CAT"
  A_AXIS_RADIUS = 3396.19
  B_AXIS_RADIUS = 3396.19
  C_AXIS_RADIUS = 3396.19
  CENTER_LATITUDE = 0.0
  CENTER_LONGITUDE = 265.0
  COORDINATE_SYSTEM_NAME = PLANETOGRAPHIC
  COORDINATE_SYSTEM_TYPE = "BODY-FIXED ROTATING"
  EASTERNMOST_LONGITUDE = 265.196
  FIRST_STANDARD_PARALLEL = "N/A"
  LINE_FIRST_PIXEL = 1
  LINE_LAST_PIXEL = 1039
  LINE_PROJECTION_OFFSET = -568839.0
  MAP_PROJECTION_ROTATION = 0.0
  MAP_PROJECTION_TYPE = SINUSOIDAL
  MAP_RESOLUTION = 11854.9393024378
  MAP_SCALE = 0.005
  MAXIMUM_LATITUDE = -48.0428
  MINIMUM_LATITUDE = -48.1252
  POSITIVE_LONGITUDE_DIRECTION = EAST
  REFERENCE_LATITUDE = "N/A"
  REFERENCE_LONGITUDE = "N/A"
  SAMPLE_FIRST_PIXEL = 1
  SAMPLE_LAST_PIXEL = 1061
  SAMPLE_PROJECTION_OFFSET = -841.0
  SECOND_STANDARD_PARALLEL = "N/A"
  WESTERNMOST_LONGITUDE = 265.07
END_OBJECT = IMAGE_MAP_PROJECTION
/* The JPEG2000 image data file associated with this label. */
OBJECT = COMPRESSED_FILE
  FILE_NAME = "H0486_0002_SR3.JP2"
  RECORD_TYPE = UNDEFINED
  FILE_RECORDS = UNK
  ENCODING_TYPE = "JP2"
  INTERCHANGE_FORMAT = BINARY
  UNCOMPRESSED_FILE_NAME = "H0486_0002_SR3.IMG"
  REQUIRED_STORAGE_BYTES = "1121477"
  ^DESCRIPTION = "JP2INFO.TXT"
END_OBJECT = COMPRESSED_FILE
END
