PDS_VERSION_ID = PDS3
/* FILE DATA ELEMENTS */
RECORD_TYPE = STREAM
/* POINTERS TO DATA OBJECTS */
^COMPRESSED_FILE = "H0486_0008_SR3.JP2"
/* IDENTIFICATION DATA ELEMENTS */
DATA_SET_ID = "MEX-M-HRSC-5-REFDR-MAPPROJECTED-V3.0"
DATA_SET_NAME = "MARS EXPRESS HRSC MAP PROJECTED REFDR V3.0"
DETECTOR_ID = MEX_HRSC_SRC
EVENT_TYPE = "MARS-REGIONAL-MAPPING-Vo-Te-Fl"
INSTRUMENT_HOST_ID = MEX
INSTRUMENT_HOST_NAME = "MARS EXPRESS"
INSTRUMENT_ID = HRSC
INSTRUMENT_NAME = "HIGH RESOLUTION STEREO CAMERA"
MISSION_NAME = "MARS EXPRESS"
MISSION_PHASE_NAME = MR_Phase_1
PROCESSING_LEVEL_ID = 3
PRODUCT_CREATION_TIME = 2016-03-03T04:31:40.000Z
PRODUCT_ID = "H0486_0008_SR3.JP2"
RELEASE_ID = 0007
REVISION_ID = 0000
/* QUALITY DATA ELEMENTS */
DATA_QUALITY_ID = 1
DATA_QUALITY_DESC = "Data calculated based on original SPICE kernels"
/* TIME DATA ELEMENTS */
SPACECRAFT_CLOCK_START_COUNT = "1/0034719221.57309"
SPACECRAFT_CLOCK_STOP_COUNT = "1/0034719785.60191"
IMAGE_TIME = 2004-06-07T20:14:54.962Z
START_TIME = 2004-06-07T20:14:54.959Z
STOP_TIME = 2004-06-07T20:14:54.964Z
/* ORBITAL DATA ELEMENTS */
ASCENDING_NODE_LONGITUDE = 218.89
MAXIMUM_RESOLUTION = 4.788
FOOTPRINT_POINT_LATITUDE = (-47.6614,-47.6643,-47.6682,-47.6712, -47.6734,-47.6774,-47.6802,-47.6825, -47.6856,-47.6892,-47.6947,-47.6996, -47.7032,-47.708,-47.7114,-47.714, -47.7173,-47.7214,-47.7238,-47.7282, -47.7309,-47.7331,-47.7358,-47.7395, -47.7408,-47.7407,-47.7407,-47.7406, -47.7405,-47.7404,-47.7404,-47.7403, -47.7402,-47.7402,-47.7401,-47.74, -47.7399,-47.7399,-47.7398,-47.7397, -47.7397,-47.7396,-47.7395,-47.7394, -47.7394,-47.7393,-47.7392,-47.7391, -47.7391,-47.7347,-47.7317,-47.7272, -47.7238,-47.7214,-47.7183,-47.7158, -47.7136,-47.7111,-47.7082,-47.7052, -47.7005,-47.6966,-47.6936,-47.6914, -47.6878,-47.6837,-47.6788,-47.676, -47.6717,-47.6669,-47.6644,-47.6623, -47.6595,-47.6576,-47.6576,-47.6577, -47.6578,-47.6579,-47.6579,-47.658, -47.6581,-47.6581,-47.6582,-47.6583, -47.6583,-47.6584,-47.6585,-47.6585, -47.6586,-47.6587,-47.6587,-47.6588, -47.6589,-47.6589,-47.659,-47.6591, -47.6591,-47.6592,-47.6593,-47.6614)
FOOTPRINT_POINT_LONGITUDE = (265.207,265.207,265.207,265.207, 265.207,265.207,265.207,265.207,265.207 ,265.207,265.207,265.206,265.206, 265.206,265.206,265.206,265.206,265.206 ,265.206,265.206,265.205,265.205, 265.205,265.205,265.199,265.194,265.189 ,265.184,265.179,265.175,265.17,265.165 ,265.16,265.155,265.15,265.145,265.14, 265.136,265.131,265.126,265.121,265.116 ,265.111,265.106,265.102,265.097, 265.092,265.087,265.082,265.082,265.082 ,265.082,265.082,265.082,265.082, 265.082,265.083,265.083,265.083,265.083 ,265.083,265.083,265.083,265.083, 265.083,265.084,265.084,265.084,265.084 ,265.084,265.084,265.084,265.084, 265.086,265.09,265.095,265.1,265.105, 265.11,265.115,265.12,265.124,265.129, 265.134,265.139,265.144,265.149,265.154 ,265.158,265.163,265.168,265.173, 265.178,265.183,265.188,265.193,265.197 ,265.202,265.207,265.207)
ORBIT_NUMBER = 486
ORBITAL_ECCENTRICITY = 0.573
ORBITAL_INCLINATION = 86.56
ORBITAL_SEMIMAJOR_AXIS = 8530.68
PERIAPSIS_ALTITUDE = 264.41
PERIAPSIS_ARGUMENT_ANGLE = 276.64
PERIAPSIS_TIME = 2004-06-07T20:05:44.000Z
SPACECRAFT_ORIENTATION = (0.0,-1.0,0.0)
^MEX_ORIENTATION_DESC = "MEX_ORIENTATION_DESC.TXT"
SPACECRAFT_POINTING_MODE = ACROSSTRACK
^MEX_POINTING_DESC = "MEX_POINTING_DESC.TXT"
RIGHT_ASCENSION = -1e+32
DECLINATION = -1e+32
OFFSET_ANGLE = -1.1
SPACECRAFT_SOLAR_DISTANCE = 2.46507e+08
TARGET_NAME = MARS
/* CAMERA DATA ELEMENTS */
BUFFER_MODE_ID = BUFFER_8
EXPOSURE_DURATION = 5.04
INST_CMPRS_NAME = NONE
INST_CMPRS_RATIO = 1.0
INST_CMPRS_QUALITY = -2147483648
INST_CMPRS_QUANTZ_TBL_ID = -2147483648
INSTRUMENT_TEMPERATURE = 8.18182
MISSING_FRAMES = 0
START_BIT = 0
/* RADIOMETRIC DATA ELEMENTS */
BANDWIDTH = 250.0
CENTER_FILTER_WAVELENGTH = 600.0
RADIANCE_OFFSET = -9.99e+31
RADIANCE_SCALING_FACTOR = -9.99e+31
REFLECTANCE_SCALING_FACTOR = -9.99e+31
MEX:REFLECTANCE_OFFSET = -9.99e+31
/* IMAGE OBJECT DEFINITIONS */
OBJECT = IMAGE
  INTERCHANGE_FORMAT = BINARY
  LINES = 1049
  LINE_SAMPLES = 1068
  SAMPLE_TYPE = UNSIGNED_INTEGER
  SAMPLE_BITS = 8
  BANDS = 1
  BAND_STORAGE_TYPE = BAND_SEQUENTIAL
  MAXIMUM = 1556
  MEAN = 1192.95
  MINIMUM = 847
  STANDARD_DEVIATION = 69.3745
END_OBJECT = IMAGE
/* MAP OBJECT DEFINITIONS */
OBJECT = IMAGE_MAP_PROJECTION
  ^DATA_SET_MAP_PROJECTION_CATALOG= "DSMAP.CAT"
  A_AXIS_RADIUS = 3396.19
  B_AXIS_RADIUS = 3396.19
  C_AXIS_RADIUS = 3396.19
  CENTER_LATITUDE = 0.0
  CENTER_LONGITUDE = 265.0
  COORDINATE_SYSTEM_NAME = PLANETOGRAPHIC
  COORDINATE_SYSTEM_TYPE = "BODY-FIXED ROTATING"
  EASTERNMOST_LONGITUDE = 265.207
  FIRST_STANDARD_PARALLEL = "N/A"
  LINE_FIRST_PIXEL = 1
  LINE_LAST_PIXEL = 1049
  LINE_PROJECTION_OFFSET = -564287.0
  MAP_PROJECTION_ROTATION = 0.0
  MAP_PROJECTION_TYPE = SINUSOIDAL
  MAP_RESOLUTION = 11854.9393024378
  MAP_SCALE = 0.005
  MAXIMUM_LATITUDE = -47.6576
  MINIMUM_LATITUDE = -47.7408
  POSITIVE_LONGITUDE_DIRECTION = EAST
  REFERENCE_LATITUDE = "N/A"
  REFERENCE_LONGITUDE = "N/A"
  SAMPLE_FIRST_PIXEL = 1
  SAMPLE_LAST_PIXEL = 1068
  SAMPLE_PROJECTION_OFFSET = -935.0
  SECOND_STANDARD_PARALLEL = "N/A"
  WESTERNMOST_LONGITUDE = 265.082
END_OBJECT = IMAGE_MAP_PROJECTION
/* The JPEG2000 image data file associated with this label. */
OBJECT = COMPRESSED_FILE
  FILE_NAME = "H0486_0008_SR3.JP2"
  RECORD_TYPE = UNDEFINED
  FILE_RECORDS = UNK
  ENCODING_TYPE = "JP2"
  INTERCHANGE_FORMAT = BINARY
  UNCOMPRESSED_FILE_NAME = "H0486_0008_SR3.IMG"
  REQUIRED_STORAGE_BYTES = "1138488"
  ^DESCRIPTION = "JP2INFO.TXT"
END_OBJECT = COMPRESSED_FILE
END
