PDS_VERSION_ID = PDS3
/* FILE DATA ELEMENTS */
RECORD_TYPE = STREAM
/* POINTERS TO DATA OBJECTS */
^COMPRESSED_FILE = "H0488_0000_S13.JP2"
/* IDENTIFICATION DATA ELEMENTS */
DATA_SET_ID = "MEX-M-HRSC-5-REFDR-MAPPROJECTED-V3.0"
DATA_SET_NAME = "MARS EXPRESS HRSC MAP PROJECTED REFDR V3.0"
DETECTOR_ID = MEX_HRSC_S1
EVENT_TYPE = "MARS-REGIONAL-MAPPING-Fl-Lc-Mw"
INSTRUMENT_HOST_ID = MEX
INSTRUMENT_HOST_NAME = "MARS EXPRESS"
INSTRUMENT_ID = HRSC
INSTRUMENT_NAME = "HIGH RESOLUTION STEREO CAMERA"
MISSION_NAME = "MARS EXPRESS"
MISSION_PHASE_NAME = MR_Phase_1
PROCESSING_LEVEL_ID = 3
PRODUCT_CREATION_TIME = 2016-03-03T04:31:40.000Z
PRODUCT_ID = "H0488_0000_S13.JP2"
RELEASE_ID = 0007
REVISION_ID = 0000
/* QUALITY DATA ELEMENTS */
DATA_QUALITY_ID = 1
DATA_QUALITY_DESC = "Data calculated based on original SPICE kernels"
/* TIME DATA ELEMENTS */
SPACECRAFT_CLOCK_START_COUNT = "1/0034767910.57133"
SPACECRAFT_CLOCK_STOP_COUNT = "1/0034768550.60254"
START_TIME = 2004-06-08T09:45:19.343Z
STOP_TIME = 2004-06-08T09:48:56.945Z
/* ORBITAL DATA ELEMENTS */
ASCENDING_NODE_LONGITUDE = 218.84
MAXIMUM_RESOLUTION = 65.9
FOOTPRINT_POINT_LATITUDE = (-30.7787,-30.787,-30.7932,-30.8002, -30.8031,-30.8031,-30.7178,-30.2911, -29.9696,-29.7524,-29.5378,-29.321, -29.0002,-28.6724,-28.342,-28.0079, -27.7821,-27.5537,-27.2116,-26.9798, -26.7491,-26.4001,-26.1648,-25.9317, -25.6907,-25.3328,-24.9759,-24.6073, -24.3617,-24.1128,-23.7377,-23.4876, -23.2359,-22.9821,-22.6041,-22.3489, -22.093,-21.7033,-21.4426,-21.0477, -20.641,-20.3738,-19.9696,-19.6992, -19.429,-19.1559,-18.8799,-18.4862, -18.4874,-18.496,-18.5177,-18.5215, -18.525,-18.532,-18.5372,-18.5446, -18.5421,-18.6678,-18.9449,-19.22, -19.49,-19.7608,-20.032,-20.3044, -20.5639,-20.8295,-21.0942,-21.3555, -21.6173,-21.8782,-22.137,-22.5109, -22.7628,-23.1583,-23.5314,-23.7798, -24.1512,-24.3975,-24.6377,-25.001, -25.3568,-25.5952,-25.9504,-26.1841, -26.4204,-26.6552,-26.8822,-27.1162, -27.3388,-27.6723,-28.0161,-28.346, -28.5654,-28.9956,-29.2164,-29.642, -29.8569,-30.1789,-30.6043,-30.7787)
FOOTPRINT_POINT_LONGITUDE = (66.1156,66.4776,66.8093,67.3521, 67.8341,68.3166,68.9583,68.9688,68.9761 ,68.9813,68.9852,68.9895,68.9936, 68.9992,69.0046,69.0104,69.0144,69.0191 ,69.0251,69.0296,69.0333,69.0391, 69.0432,69.0461,69.0512,69.0566,69.0607 ,69.0674,69.0711,69.0754,69.0815,69.085 ,69.0884,69.092,69.0956,69.0984,69.101, 69.1055,69.1082,69.1123,69.1187,69.1212 ,69.1249,69.127,69.1284,69.1302,69.1323 ,69.1359,68.7636,68.4248,67.9348, 67.6723,67.3724,66.8468,66.4715,66.1723 ,65.759,65.2622,65.2799,65.2972,65.3131 ,65.3294,65.346,65.3631,65.3763,65.3916 ,65.4069,65.4213,65.4361,65.4506, 65.4646,65.4815,65.4939,65.5183,65.536, 65.548,65.5659,65.5776,65.5874,65.6036, 65.6178,65.6279,65.6425,65.6515,65.6614 ,65.6712,65.6784,65.6883,65.6946, 65.7042,65.7174,65.7267,65.733,65.7431, 65.7502,65.7598,65.7656,65.7744,65.7854 ,66.1156)
ORBIT_NUMBER = 488
ORBITAL_ECCENTRICITY = 0.573
ORBITAL_INCLINATION = 86.57
ORBITAL_SEMIMAJOR_AXIS = 8530.74
PERIAPSIS_ALTITUDE = 264.19
PERIAPSIS_ARGUMENT_ANGLE = 276.3
PERIAPSIS_TIME = 2004-06-08T09:32:17.000Z
SPACECRAFT_ORIENTATION = (0.0,-1.0,0.0)
^MEX_ORIENTATION_DESC = "MEX_ORIENTATION_DESC.TXT"
SPACECRAFT_POINTING_MODE = NADIR
^MEX_POINTING_DESC = "MEX_POINTING_DESC.TXT"
RIGHT_ASCENSION = -1e+32
DECLINATION = -1e+32
OFFSET_ANGLE = -1e+32
SPACECRAFT_SOLAR_DISTANCE = 2.46556e+08
TARGET_NAME = MARS
/* CAMERA DATA ELEMENTS */
DETECTOR_TEMPERATURE = 17.351
FOCAL_PLANE_TEMPERATURE = 8.3794
INST_CMPRS_NAME = "DISCRETE COSINE TRANSFORMATION (DCT)"
INST_CMPRS_RATIO = 7.26788
INST_CMPRS_QUALITY = 0
INST_CMPRS_QUANTZ_TBL_ID = 0
INSTRUMENT_TEMPERATURE = 11.0301
LENS_TEMPERATURE = 8.7872
MACROPIXEL_SIZE = 2
MISSING_FRAMES = 0
PIXEL_SUBSAMPLING_FLAG = N
SIGNAL_CHAIN_ID = 1
/* RADIOMETRIC DATA ELEMENTS */
BANDWIDTH = 180.0
CENTER_FILTER_WAVELENGTH = 677.0
RADIANCE_OFFSET = 1.83583
RADIANCE_SCALING_FACTOR = 0.0147776
REFLECTANCE_SCALING_FACTOR = 0.000468684
MEX:REFLECTANCE_OFFSET = 0.0582249
/* IMAGE OBJECT DEFINITIONS */
OBJECT = IMAGE
  INTERCHANGE_FORMAT = BINARY
  LINES = 15749
  LINE_SAMPLES = 5271
  SAMPLE_TYPE = UNSIGNED_INTEGER
  SAMPLE_BITS = 8
  BANDS = 1
  BAND_STORAGE_TYPE = BAND_SEQUENTIAL
  MAXIMUM = 187
  MEAN = 112.091
  MINIMUM = 53
  STANDARD_DEVIATION = 10.2234
END_OBJECT = IMAGE
/* MAP OBJECT DEFINITIONS */
OBJECT = IMAGE_MAP_PROJECTION
  ^DATA_SET_MAP_PROJECTION_CATALOG= "DSMAP.CAT"
  A_AXIS_RADIUS = 3396.0
  B_AXIS_RADIUS = 3396.0
  C_AXIS_RADIUS = 3396.0
  CENTER_LATITUDE = 0.0
  CENTER_LONGITUDE = 67.0
  COORDINATE_SYSTEM_NAME = PLANETOGRAPHIC
  COORDINATE_SYSTEM_TYPE = "BODY-FIXED ROTATING"
  EASTERNMOST_LONGITUDE = 69.13590000000001
  FIRST_STANDARD_PARALLEL = "N/A"
  LINE_FIRST_PIXEL = 1
  LINE_LAST_PIXEL = 15749
  LINE_PROJECTION_OFFSET = -20769.25
  MAP_PROJECTION_ROTATION = 0.0
  MAP_PROJECTION_TYPE = SINUSOIDAL
  MAP_RESOLUTION = 1185.42760773333
  MAP_SCALE = 0.05
  MAXIMUM_LATITUDE = -18.4862
  MINIMUM_LATITUDE = -30.8031
  POSITIVE_LONGITUDE_DIRECTION = EAST
  REFERENCE_LATITUDE = "N/A"
  REFERENCE_LONGITUDE = "N/A"
  SAMPLE_FIRST_PIXEL = 1
  SAMPLE_LAST_PIXEL = 5271
  SAMPLE_PROJECTION_OFFSET = 2481.25
  SECOND_STANDARD_PARALLEL = "N/A"
  WESTERNMOST_LONGITUDE = 65.26220000000001
END_OBJECT = IMAGE_MAP_PROJECTION
/* The JPEG2000 image data file associated with this label. */
OBJECT = COMPRESSED_FILE
  FILE_NAME = "H0488_0000_S13.JP2"
  RECORD_TYPE = UNDEFINED
  FILE_RECORDS = UNK
  ENCODING_TYPE = "JP2"
  INTERCHANGE_FORMAT = BINARY
  UNCOMPRESSED_FILE_NAME = "H0488_0000_S13.IMG"
  REQUIRED_STORAGE_BYTES = "83039334"
  ^DESCRIPTION = "JP2INFO.TXT"
END_OBJECT = COMPRESSED_FILE
END
