PDS_VERSION_ID = PDS3
/* FILE DATA ELEMENTS */
RECORD_TYPE = STREAM
/* POINTERS TO DATA OBJECTS */
^COMPRESSED_FILE = "H0493_0000_P13.JP2"
/* IDENTIFICATION DATA ELEMENTS */
DATA_SET_ID = "MEX-M-HRSC-5-REFDR-MAPPROJECTED-V3.0"
DATA_SET_NAME = "MARS EXPRESS HRSC MAP PROJECTED REFDR V3.0"
DETECTOR_ID = MEX_HRSC_P1
EVENT_TYPE = "MARS-REGIONAL-MAPPING-Vo-Te-Fl"
INSTRUMENT_HOST_ID = MEX
INSTRUMENT_HOST_NAME = "MARS EXPRESS"
INSTRUMENT_ID = HRSC
INSTRUMENT_NAME = "HIGH RESOLUTION STEREO CAMERA"
MISSION_NAME = "MARS EXPRESS"
MISSION_PHASE_NAME = MR_Phase_1
PROCESSING_LEVEL_ID = 3
PRODUCT_CREATION_TIME = 2016-03-03T04:31:40.000Z
PRODUCT_ID = "H0493_0000_P13.JP2"
RELEASE_ID = 0007
REVISION_ID = 0000
/* QUALITY DATA ELEMENTS */
DATA_QUALITY_ID = 1
DATA_QUALITY_DESC = "Data calculated based on original SPICE kernels"
/* TIME DATA ELEMENTS */
SPACECRAFT_CLOCK_START_COUNT = "1/0034888824.57973"
SPACECRAFT_CLOCK_STOP_COUNT = "1/0034889611.24404"
START_TIME = 2004-06-09T19:20:57.334Z
STOP_TIME = 2004-06-09T19:27:01.636Z
/* ORBITAL DATA ELEMENTS */
ASCENDING_NODE_LONGITUDE = 218.73
MAXIMUM_RESOLUTION = 58.1
FOOTPRINT_POINT_LATITUDE = (-35.9145,-35.9425,-35.9677,-35.9902, -36.0099,-36.027,-36.0226,-35.5184, -35.1361,-34.6214,-34.2306,-33.836, -33.305,-32.767,-32.2216,-31.6693, -31.3901,-31.1103,-30.8271,-30.5424, -30.2565,-29.9679,-29.6772,-29.385, -29.091,-28.7982,-28.5004,-28.1998, -27.7457,-23.7872,-23.4538,-23.1174, -22.7787,-22.4382,-22.0946,-21.7489, -21.4005,-21.0493,-20.6958,-20.3396, -19.9798,-19.6161,-19.2514,-18.8835, -18.5134,-17.9436,-17.5664,-17.1932, -16.6992,-16.7046,-16.7115,-16.7144, -16.7161,-16.7168,-16.7162,-16.7143, -16.7112,-16.7066,-16.7017,-16.6914, -17.0721,-17.45,-17.8249,-18.1966, -18.5657,-18.9315,-19.2949,-19.6573, -20.0159,-20.3715,-20.7242,-21.0745, -21.4215,-21.7669,-22.1092,-22.4491, -22.7868,-23.1225,-23.4551,-23.7858, -27.71,-28.1608,-28.4597,-28.757, -29.0531,-29.3484,-29.6383,-29.9255, -30.3542,-30.6357,-31.1898,-31.8816, -32.5617,-33.098,-33.6267,-34.02, -34.5384,-34.9231,-35.4312,-35.9145)
FOOTPRINT_POINT_LONGITUDE = (293.168,293.651,294.13,294.605,295.077 ,295.547,295.995,296.022,296.042, 296.068,296.087,296.106,296.131,296.155 ,296.179,296.203,296.214,296.226, 296.237,296.248,296.259,296.27,296.281, 296.292,296.302,296.312,296.322,296.333 ,296.348,296.461,296.469,296.477, 296.485,296.493,296.501,296.508,296.515 ,296.522,296.529,296.536,296.543,296.55 ,296.556,296.562,296.568,296.579, 296.585,296.589,296.432,296.103,295.566 ,295.235,294.904,294.571,294.238, 293.903,293.526,293.189,292.851,292.283 ,292.31,292.336,292.361,292.385,292.409 ,292.432,292.454,292.476,292.497, 292.518,292.537,292.556,292.574,292.592 ,292.609,292.626,292.642,292.658, 292.673,292.688,292.828,292.841,292.849 ,292.857,292.866,292.875,292.881, 292.886,292.894,292.896,292.898,292.906 ,292.911,292.915,292.916,292.916, 292.915,292.914,292.912,293.168)
ORBIT_NUMBER = 493
ORBITAL_ECCENTRICITY = 0.573
ORBITAL_INCLINATION = 86.55
ORBITAL_SEMIMAJOR_AXIS = 8530.53
PERIAPSIS_ALTITUDE = 265.01
PERIAPSIS_ARGUMENT_ANGLE = 275.44
PERIAPSIS_TIME = 2004-06-09T19:08:44.000Z
SPACECRAFT_ORIENTATION = (0.0,-1.0,0.0)
^MEX_ORIENTATION_DESC = "MEX_ORIENTATION_DESC.TXT"
SPACECRAFT_POINTING_MODE = ACROSSTRACK
^MEX_POINTING_DESC = "MEX_POINTING_DESC.TXT"
RIGHT_ASCENSION = -1e+32
DECLINATION = -1e+32
OFFSET_ANGLE = 1.04
SPACECRAFT_SOLAR_DISTANCE = 2.46678e+08
TARGET_NAME = MARS
/* CAMERA DATA ELEMENTS */
DETECTOR_TEMPERATURE = 17.1471
FOCAL_PLANE_TEMPERATURE = 7.7677
INST_CMPRS_NAME = "DISCRETE COSINE TRANSFORMATION (DCT)"
INST_CMPRS_RATIO = 12.3407
INST_CMPRS_QUALITY = 0
INST_CMPRS_QUANTZ_TBL_ID = 0
INSTRUMENT_TEMPERATURE = 11.0301
LENS_TEMPERATURE = 8.1755
MACROPIXEL_SIZE = 2
MISSING_FRAMES = 436
PIXEL_SUBSAMPLING_FLAG = N
SIGNAL_CHAIN_ID = 3
/* RADIOMETRIC DATA ELEMENTS */
BANDWIDTH = 174.0
CENTER_FILTER_WAVELENGTH = 675.0
RADIANCE_OFFSET = 0.539566
RADIANCE_SCALING_FACTOR = 0.021035
REFLECTANCE_SCALING_FACTOR = 0.000688479
MEX:REFLECTANCE_OFFSET = 0.0176601
/* IMAGE OBJECT DEFINITIONS */
OBJECT = IMAGE
  INTERCHANGE_FORMAT = BINARY
  LINES = 22945
  LINE_SAMPLES = 5597
  SAMPLE_TYPE = UNSIGNED_INTEGER
  SAMPLE_BITS = 8
  BANDS = 1
  BAND_STORAGE_TYPE = BAND_SEQUENTIAL
  MAXIMUM = 197
  MEAN = 76.4836
  MINIMUM = 13
  STANDARD_DEVIATION = 25.3495
END_OBJECT = IMAGE
/* MAP OBJECT DEFINITIONS */
OBJECT = IMAGE_MAP_PROJECTION
  ^DATA_SET_MAP_PROJECTION_CATALOG= "DSMAP.CAT"
  A_AXIS_RADIUS = 3396.0
  B_AXIS_RADIUS = 3396.0
  C_AXIS_RADIUS = 3396.0
  CENTER_LATITUDE = 0.0
  CENTER_LONGITUDE = 295.0
  COORDINATE_SYSTEM_NAME = PLANETOGRAPHIC
  COORDINATE_SYSTEM_TYPE = "BODY-FIXED ROTATING"
  EASTERNMOST_LONGITUDE = 296.589
  FIRST_STANDARD_PARALLEL = "N/A"
  LINE_FIRST_PIXEL = 1
  LINE_LAST_PIXEL = 22945
  LINE_PROJECTION_OFFSET = -19737.75
  MAP_PROJECTION_ROTATION = 0.0
  MAP_PROJECTION_TYPE = SINUSOIDAL
  MAP_RESOLUTION = 1185.42760773333
  MAP_SCALE = 0.05
  MAXIMUM_LATITUDE = -16.6914
  MINIMUM_LATITUDE = -36.027
  POSITIVE_LONGITUDE_DIRECTION = EAST
  REFERENCE_LATITUDE = "N/A"
  REFERENCE_LONGITUDE = "N/A"
  SAMPLE_FIRST_PIXEL = 1
  SAMPLE_LAST_PIXEL = 5597
  SAMPLE_PROJECTION_OFFSET = 3478.25
  SECOND_STANDARD_PARALLEL = "N/A"
  WESTERNMOST_LONGITUDE = 292.283
END_OBJECT = IMAGE_MAP_PROJECTION
/* The JPEG2000 image data file associated with this label. */
OBJECT = COMPRESSED_FILE
  FILE_NAME = "H0493_0000_P13.JP2"
  RECORD_TYPE = UNDEFINED
  FILE_RECORDS = UNK
  ENCODING_TYPE = "JP2"
  INTERCHANGE_FORMAT = BINARY
  UNCOMPRESSED_FILE_NAME = "H0493_0000_P13.IMG"
  REQUIRED_STORAGE_BYTES = "128451150"
  ^DESCRIPTION = "JP2INFO.TXT"
END_OBJECT = COMPRESSED_FILE
END
