PDS_VERSION_ID = PDS3
/* FILE DATA ELEMENTS */
RECORD_TYPE = STREAM
/* POINTERS TO DATA OBJECTS */
^COMPRESSED_FILE = "H0494_0000_S13.JP2"
/* IDENTIFICATION DATA ELEMENTS */
DATA_SET_ID = "MEX-M-HRSC-5-REFDR-MAPPROJECTED-V3.0"
DATA_SET_NAME = "MARS EXPRESS HRSC MAP PROJECTED REFDR V3.0"
DETECTOR_ID = MEX_HRSC_S1
EVENT_TYPE = "MARS-LOCAL-MAPPING-Im-Fl-Mw"
INSTRUMENT_HOST_ID = MEX
INSTRUMENT_HOST_NAME = "MARS EXPRESS"
INSTRUMENT_ID = HRSC
INSTRUMENT_NAME = "HIGH RESOLUTION STEREO CAMERA"
MISSION_NAME = "MARS EXPRESS"
MISSION_PHASE_NAME = MR_Phase_1
PROCESSING_LEVEL_ID = 3
PRODUCT_CREATION_TIME = 2016-03-03T04:31:40.000Z
PRODUCT_ID = "H0494_0000_S13.JP2"
RELEASE_ID = 0007
REVISION_ID = 0000
/* QUALITY DATA ELEMENTS */
DATA_QUALITY_ID = 1
DATA_QUALITY_DESC = "Data calculated based on original SPICE kernels"
/* TIME DATA ELEMENTS */
SPACECRAFT_CLOCK_START_COUNT = "1/0034912904.57937"
SPACECRAFT_CLOCK_STOP_COUNT = "1/0034913506.04901"
START_TIME = 2004-06-10T02:01:53.347Z
STOP_TIME = 2004-06-10T02:06:58.452Z
/* ORBITAL DATA ELEMENTS */
ASCENDING_NODE_LONGITUDE = 218.71
MAXIMUM_RESOLUTION = 48
FOOTPRINT_POINT_LATITUDE = (-43.3113,-43.3241,-43.3418,-43.3499, -43.3559,-43.3098,-42.8437,-42.5626, -42.1905,-41.8058,-41.4149,-41.1206, -40.9243,-40.7258,-40.5313,-40.2309, -40.0302,-39.7328,-39.5331,-39.3324, -39.1285,-38.9238,-38.7196,-38.514, -38.3065,-38.0976,-37.887,-37.5672, -37.3531,-37.1408,-31.1065,-30.8575, -30.5987,-30.2186,-29.9729,-29.716, -29.3265,-28.9331,-28.6696,-28.4042, -28.1371,-27.8691,-27.5994,-27.3283, -26.1832,-25.9024,-25.6239,-25.3401, -25.0676,-25.0735,-25.0783,-25.0829, -25.084,-25.0931,-25.0945,-25.0941, -25.0958,-25.0864,-25.0832,-25.2649, -25.5474,-25.8284,-26.2486,-27.3855, -27.6558,-27.9259,-28.1899,-28.5854, -28.9776,-29.3667,-29.6245,-29.8808, -30.1337,-30.5114,-30.7645,-31.1375, -37.1336,-37.3488,-37.5629,-37.7747, -37.9788,-38.1861,-38.3938,-38.7053, -38.9101,-39.1163,-39.3224,-39.5216, -39.7228,-40.0215,-40.2193,-40.5161, -40.7127,-40.9096,-41.298,-41.4925, -41.8748,-42.4431,-42.9992,-43.3113)
FOOTPRINT_POINT_LONGITUDE = (196.503,196.891,197.566,197.981, 198.397,198.795,198.82,198.834,198.851, 198.871,198.892,198.907,198.917,198.926 ,198.934,198.948,198.958,198.969, 198.976,198.984,198.992,199.0,199.007, 199.015,199.023,199.03,199.038,199.051, 199.059,199.066,199.249,199.254,199.263 ,199.271,199.274,199.279,199.288, 199.297,199.303,199.308,199.314,199.319 ,199.324,199.329,199.351,199.356, 199.359,199.363,199.232,198.991,198.75, 198.509,198.098,197.79,197.516,197.173, 196.762,196.453,196.008,195.832,195.845 ,195.857,195.876,195.924,195.934, 195.945,195.954,195.968,195.981,195.993 ,196.002,196.01,196.017,196.027,196.035 ,196.045,196.134,196.136,196.137, 196.137,196.135,196.134,196.134,196.133 ,196.133,196.132,196.132,196.13,196.128 ,196.125,196.123,196.12,196.118,196.115 ,196.11,196.107,196.101,196.091,196.078 ,196.503)
ORBIT_NUMBER = 494
ORBITAL_ECCENTRICITY = 0.573
ORBITAL_INCLINATION = 86.56
ORBITAL_SEMIMAJOR_AXIS = 8530.64
PERIAPSIS_ALTITUDE = 264.58
PERIAPSIS_ARGUMENT_ANGLE = 275.25
PERIAPSIS_TIME = 2004-06-10T01:51:59.000Z
SPACECRAFT_ORIENTATION = (0.0,-1.0,0.0)
^MEX_ORIENTATION_DESC = "MEX_ORIENTATION_DESC.TXT"
SPACECRAFT_POINTING_MODE = ACROSSTRACK
^MEX_POINTING_DESC = "MEX_POINTING_DESC.TXT"
RIGHT_ASCENSION = -1e+32
DECLINATION = -1e+32
OFFSET_ANGLE = -0.09
SPACECRAFT_SOLAR_DISTANCE = 2.46702e+08
TARGET_NAME = MARS
/* CAMERA DATA ELEMENTS */
DETECTOR_TEMPERATURE = 17.351
FOCAL_PLANE_TEMPERATURE = 7.9716
INST_CMPRS_NAME = "DISCRETE COSINE TRANSFORMATION (DCT)"
INST_CMPRS_RATIO = 5.26543
INST_CMPRS_QUALITY = 0
INST_CMPRS_QUANTZ_TBL_ID = 0
INSTRUMENT_TEMPERATURE = 11.0301
LENS_TEMPERATURE = 8.5833
MACROPIXEL_SIZE = 2
MISSING_FRAMES = 938
PIXEL_SUBSAMPLING_FLAG = N
SIGNAL_CHAIN_ID = 1
/* RADIOMETRIC DATA ELEMENTS */
BANDWIDTH = 180.0
CENTER_FILTER_WAVELENGTH = 677.0
RADIANCE_OFFSET = 0.674277
RADIANCE_SCALING_FACTOR = 0.0218589
REFLECTANCE_SCALING_FACTOR = 0.000694091
MEX:REFLECTANCE_OFFSET = 0.0214105
/* IMAGE OBJECT DEFINITIONS */
OBJECT = IMAGE
  INTERCHANGE_FORMAT = BINARY
  LINES = 21617
  LINE_SAMPLES = 4417
  SAMPLE_TYPE = UNSIGNED_INTEGER
  SAMPLE_BITS = 8
  BANDS = 1
  BAND_STORAGE_TYPE = BAND_SEQUENTIAL
  MAXIMUM = 291
  MEAN = 107.769
  MINIMUM = 24
  STANDARD_DEVIATION = 22.4935
END_OBJECT = IMAGE
/* MAP OBJECT DEFINITIONS */
OBJECT = IMAGE_MAP_PROJECTION
  ^DATA_SET_MAP_PROJECTION_CATALOG= "DSMAP.CAT"
  A_AXIS_RADIUS = 3396.0
  B_AXIS_RADIUS = 3396.0
  C_AXIS_RADIUS = 3396.0
  CENTER_LATITUDE = 0.0
  CENTER_LONGITUDE = 198.0
  COORDINATE_SYSTEM_NAME = PLANETOGRAPHIC
  COORDINATE_SYSTEM_TYPE = "BODY-FIXED ROTATING"
  EASTERNMOST_LONGITUDE = 199.363
  FIRST_STANDARD_PARALLEL = "N/A"
  LINE_FIRST_PIXEL = 1
  LINE_LAST_PIXEL = 21617
  LINE_PROJECTION_OFFSET = -29740.75
  MAP_PROJECTION_ROTATION = 0.0
  MAP_PROJECTION_TYPE = SINUSOIDAL
  MAP_RESOLUTION = 1185.42760773333
  MAP_SCALE = 0.05
  MAXIMUM_LATITUDE = -25.0676
  MINIMUM_LATITUDE = -43.3559
  POSITIVE_LONGITUDE_DIRECTION = EAST
  REFERENCE_LATITUDE = "N/A"
  REFERENCE_LONGITUDE = "N/A"
  SAMPLE_FIRST_PIXEL = 1
  SAMPLE_LAST_PIXEL = 4417
  SAMPLE_PROJECTION_OFFSET = 2678.75
  SECOND_STANDARD_PARALLEL = "N/A"
  WESTERNMOST_LONGITUDE = 195.832
END_OBJECT = IMAGE_MAP_PROJECTION
/* The JPEG2000 image data file associated with this label. */
OBJECT = COMPRESSED_FILE
  FILE_NAME = "H0494_0000_S13.JP2"
  RECORD_TYPE = UNDEFINED
  FILE_RECORDS = UNK
  ENCODING_TYPE = "JP2"
  INTERCHANGE_FORMAT = BINARY
  UNCOMPRESSED_FILE_NAME = "H0494_0000_S13.IMG"
  REQUIRED_STORAGE_BYTES = "95508791"
  ^DESCRIPTION = "JP2INFO.TXT"
END_OBJECT = COMPRESSED_FILE
END
