PDS_VERSION_ID = PDS3
/* FILE DATA ELEMENTS */
RECORD_TYPE = STREAM
/* POINTERS TO DATA OBJECTS */
^COMPRESSED_FILE = "H0497_0000_P13.JP2"
/* IDENTIFICATION DATA ELEMENTS */
DATA_SET_ID = "MEX-M-HRSC-5-REFDR-MAPPROJECTED-V3.0"
DATA_SET_NAME = "MARS EXPRESS HRSC MAP PROJECTED REFDR V3.0"
DETECTOR_ID = MEX_HRSC_P1
EVENT_TYPE = "MARS-GLOBAL-MAPPING-Vo-Te-Fl"
INSTRUMENT_HOST_ID = MEX
INSTRUMENT_HOST_NAME = "MARS EXPRESS"
INSTRUMENT_ID = HRSC
INSTRUMENT_NAME = "HIGH RESOLUTION STEREO CAMERA"
MISSION_NAME = "MARS EXPRESS"
MISSION_PHASE_NAME = MR_Phase_1
PROCESSING_LEVEL_ID = 3
PRODUCT_CREATION_TIME = 2016-03-03T04:31:40.000Z
PRODUCT_ID = "H0497_0000_P13.JP2"
RELEASE_ID = 0007
REVISION_ID = 0000
/* QUALITY DATA ELEMENTS */
DATA_QUALITY_ID = 1
DATA_QUALITY_DESC = "Data calculated based on original SPICE kernels"
/* TIME DATA ELEMENTS */
SPACECRAFT_CLOCK_START_COUNT = "1/0034985392.58008"
SPACECRAFT_CLOCK_STOP_COUNT = "1/0034986010.62867"
START_TIME = 2004-06-10T22:10:16.106Z
STOP_TIME = 2004-06-10T22:16:32.442Z
/* ORBITAL DATA ELEMENTS */
ASCENDING_NODE_LONGITUDE = 218.65
MAXIMUM_RESOLUTION = 78.8
FOOTPRINT_POINT_LATITUDE = (-50.5768,-50.5973,-50.6142,-50.591, -50.0787,-49.389,-48.5064,-48.1485, -47.7864,-47.236,-46.8663,-46.4922, -45.9254,-45.543,-45.1553,-44.7653, -44.371,-43.972,-43.3781,-42.969, -42.5586,-42.1404,-41.7178,-41.3016, -40.8748,-40.4352,-39.9947,-39.5514, -39.1021,-38.6468,-38.1876,-37.7239, -37.2538,-36.7777,-36.2958,-35.8095, -35.318,-34.8207,-34.3162,-33.8044, -33.2882,-32.766,-32.2373,-31.7034, -31.1593,-30.6109,-30.0536,-29.4895, -28.918,-28.4792,-28.4898,-28.4994, -28.5022,-28.503,-28.5011,-29.0764, -29.6412,-30.2022,-30.7545,-31.3003, -31.839,-32.3696,-32.896,-33.4136, -33.9273,-34.4363,-34.9294,-35.6675, -36.1532,-36.6336,-37.1084,-37.5775, -38.0386,-38.4968,-38.949,-39.3962, -39.8441,-40.2865,-40.9297,-41.3581, -41.7792,-42.197,-42.6029,-43.2157, -43.6193,-44.0183,-44.4147,-44.808, -45.1951,-45.7703,-46.1504,-46.5266, -47.0798,-47.4515,-47.8141,-48.3525, -48.8844,-49.5824,-50.2676,-50.5768)
FOOTPRINT_POINT_LONGITUDE = (261.591,262.289,263.064,263.838, 263.879,263.927,263.987,264.01,264.034, 264.07,264.092,264.114,264.147,264.168, 264.19,264.211,264.232,264.253,264.273, 264.294,264.312,264.332,264.352,264.363 ,264.379,264.401,264.419,264.436, 264.453,264.47,264.487,264.502,264.518, 264.535,264.551,264.566,264.58,264.594, 264.608,264.623,264.636,264.649,264.662 ,264.673,264.686,264.697,264.709,264.72 ,264.731,264.282,263.758,263.04,262.618 ,262.033,261.546,261.268,261.29,261.311 ,261.331,261.349,261.366,261.382, 261.397,261.41,261.422,261.435,261.442, 261.455,261.463,261.47,261.476,261.481, 261.483,261.486,261.488,261.488,261.49, 261.491,261.486,261.484,261.481,261.477 ,261.469,261.46,261.453,261.446,261.438 ,261.429,261.42,261.404,261.393,261.381 ,261.361,261.348,261.334,261.311, 261.287,261.252,261.214,261.591)
ORBIT_NUMBER = 497
ORBITAL_ECCENTRICITY = 0.573
ORBITAL_INCLINATION = 86.56
ORBITAL_SEMIMAJOR_AXIS = 8530.17
PERIAPSIS_ALTITUDE = 264.3
PERIAPSIS_ARGUMENT_ANGLE = 274.72
PERIAPSIS_TIME = 2004-06-10T22:01:52.000Z
SPACECRAFT_ORIENTATION = (0.0,-1.0,0.0)
^MEX_ORIENTATION_DESC = "MEX_ORIENTATION_DESC.TXT"
SPACECRAFT_POINTING_MODE = ACROSSTRACK
^MEX_POINTING_DESC = "MEX_POINTING_DESC.TXT"
RIGHT_ASCENSION = -1e+32
DECLINATION = -1e+32
OFFSET_ANGLE = -0.35
SPACECRAFT_SOLAR_DISTANCE = 2.46773e+08
TARGET_NAME = MARS
/* CAMERA DATA ELEMENTS */
DETECTOR_TEMPERATURE = 17.351
FOCAL_PLANE_TEMPERATURE = 7.9716
INST_CMPRS_NAME = "DISCRETE COSINE TRANSFORMATION (DCT)"
INST_CMPRS_RATIO = 8.76718
INST_CMPRS_QUALITY = 0
INST_CMPRS_QUANTZ_TBL_ID = 0
INSTRUMENT_TEMPERATURE = 11.234
LENS_TEMPERATURE = 8.3794
MACROPIXEL_SIZE = 4
MISSING_FRAMES = 0
PIXEL_SUBSAMPLING_FLAG = N
SIGNAL_CHAIN_ID = 3
/* RADIOMETRIC DATA ELEMENTS */
BANDWIDTH = 174.0
CENTER_FILTER_WAVELENGTH = 675.0
RADIANCE_OFFSET = 0.433537
RADIANCE_SCALING_FACTOR = 0.0143568
REFLECTANCE_SCALING_FACTOR = 0.000470262
MEX:REFLECTANCE_OFFSET = 0.0142007
/* IMAGE OBJECT DEFINITIONS */
OBJECT = IMAGE
  INTERCHANGE_FORMAT = BINARY
  LINES = 13105
  LINE_SAMPLES = 2052
  SAMPLE_TYPE = UNSIGNED_INTEGER
  SAMPLE_BITS = 8
  BANDS = 1
  BAND_STORAGE_TYPE = BAND_SEQUENTIAL
  MAXIMUM = 182
  MEAN = 72.3593
  MINIMUM = 14
  STANDARD_DEVIATION = 19.5593
END_OBJECT = IMAGE
/* MAP OBJECT DEFINITIONS */
OBJECT = IMAGE_MAP_PROJECTION
  ^DATA_SET_MAP_PROJECTION_CATALOG= "DSMAP.CAT"
  A_AXIS_RADIUS = 3396.0
  B_AXIS_RADIUS = 3396.0
  C_AXIS_RADIUS = 3396.0
  CENTER_LATITUDE = 0.0
  CENTER_LONGITUDE = 263.0
  COORDINATE_SYSTEM_NAME = PLANETOGRAPHIC
  COORDINATE_SYSTEM_TYPE = "BODY-FIXED ROTATING"
  EASTERNMOST_LONGITUDE = 264.731
  FIRST_STANDARD_PARALLEL = "N/A"
  LINE_FIRST_PIXEL = 1
  LINE_LAST_PIXEL = 13105
  LINE_PROJECTION_OFFSET = -16887.375
  MAP_PROJECTION_ROTATION = 0.0
  MAP_PROJECTION_TYPE = SINUSOIDAL
  MAP_RESOLUTION = 592.713803866667
  MAP_SCALE = 0.1
  MAXIMUM_LATITUDE = -28.4792
  MINIMUM_LATITUDE = -50.6142
  POSITIVE_LONGITUDE_DIRECTION = EAST
  REFERENCE_LATITUDE = "N/A"
  REFERENCE_LONGITUDE = "N/A"
  SAMPLE_FIRST_PIXEL = 1
  SAMPLE_LAST_PIXEL = 2052
  SAMPLE_PROJECTION_OFFSET = 1028.375
  SECOND_STANDARD_PARALLEL = "N/A"
  WESTERNMOST_LONGITUDE = 261.214
END_OBJECT = IMAGE_MAP_PROJECTION
/* The JPEG2000 image data file associated with this label. */
OBJECT = COMPRESSED_FILE
  FILE_NAME = "H0497_0000_P13.JP2"
  RECORD_TYPE = UNDEFINED
  FILE_RECORDS = UNK
  ENCODING_TYPE = "JP2"
  INTERCHANGE_FORMAT = BINARY
  UNCOMPRESSED_FILE_NAME = "H0497_0000_P13.IMG"
  REQUIRED_STORAGE_BYTES = "26911980"
  ^DESCRIPTION = "JP2INFO.TXT"
END_OBJECT = COMPRESSED_FILE
END
