PDS_VERSION_ID = PDS3
/* FILE DATA ELEMENTS */
RECORD_TYPE = STREAM
/* POINTERS TO DATA OBJECTS */
^COMPRESSED_FILE = "H0497_0000_RE3.JP2"
/* IDENTIFICATION DATA ELEMENTS */
DATA_SET_ID = "MEX-M-HRSC-5-REFDR-MAPPROJECTED-V3.0"
DATA_SET_NAME = "MARS EXPRESS HRSC MAP PROJECTED REFDR V3.0"
DETECTOR_ID = MEX_HRSC_RED
EVENT_TYPE = "MARS-GLOBAL-MAPPING-Vo-Te-Fl"
INSTRUMENT_HOST_ID = MEX
INSTRUMENT_HOST_NAME = "MARS EXPRESS"
INSTRUMENT_ID = HRSC
INSTRUMENT_NAME = "HIGH RESOLUTION STEREO CAMERA"
MISSION_NAME = "MARS EXPRESS"
MISSION_PHASE_NAME = MR_Phase_1
PROCESSING_LEVEL_ID = 3
PRODUCT_CREATION_TIME = 2016-03-03T04:31:40.000Z
PRODUCT_ID = "H0497_0000_RE3.JP2"
RELEASE_ID = 0007
REVISION_ID = 0000
/* QUALITY DATA ELEMENTS */
DATA_QUALITY_ID = 1
DATA_QUALITY_DESC = "Data calculated based on original SPICE kernels"
/* TIME DATA ELEMENTS */
SPACECRAFT_CLOCK_START_COUNT = "1/0034985392.58008"
SPACECRAFT_CLOCK_STOP_COUNT = "1/0034986010.62867"
START_TIME = 2004-06-10T22:11:32.476Z
STOP_TIME = 2004-06-10T22:19:43.472Z
/* ORBITAL DATA ELEMENTS */
ASCENDING_NODE_LONGITUDE = 218.65
MAXIMUM_RESOLUTION = 91.6
FOOTPRINT_POINT_LATITUDE = (-50.4874,-50.5193,-50.5466,-50.4285, -49.7168,-49.1723,-48.4368,-48.0645, -47.6895,-47.3119,-46.9305,-46.5437, -46.1535,-45.7604,-45.3631,-44.9624, -44.5581,-44.1498,-43.5222,-43.1002, -42.4598,-42.0323,-41.3741,-40.9277, -40.4875,-40.038,-39.585,-39.1279, -38.6657,-38.1989,-37.7258,-37.2476, -36.7652,-36.2791,-35.785,-35.286, -34.7815,-34.0248,-33.5261,-33.0314, -32.5415,-32.0562,-31.5754,-31.0993, -30.5902,-30.1189,-29.4273,-28.9718, -28.4881,-28.4994,-28.5083,-28.517, -28.5245,-28.5306,-28.7585,-29.1999, -29.6521,-30.1073,-30.5745,-31.0762, -31.7839,-32.2599,-32.7403,-33.2279, -33.9672,-34.4619,-34.9692,-35.7195, -36.2106,-36.6946,-37.1748,-37.6512, -38.124,-38.5919,-39.0553,-39.5104, -39.9546,-40.4079,-40.8494,-41.2849, -41.9373,-42.3655,-43.0046,-43.4264, -43.8392,-44.248,-44.6526,-45.0534, -45.4503,-45.844,-46.2336,-46.6185, -47.0022,-47.3798,-47.7568,-48.4975, -49.0476,-49.5871,-50.2994,-50.4874)
FOOTPRINT_POINT_LONGITUDE = (261.579,262.462,263.351,264.05,264.11, 264.152,264.209,264.238,264.266,264.294 ,264.323,264.35,264.376,264.403,264.43, 264.456,264.483,264.509,264.543,264.566 ,264.601,264.627,264.661,264.681, 264.709,264.734,264.758,264.784,264.809 ,264.834,264.858,264.882,264.907, 264.932,264.956,264.98,265.005,265.04, 265.064,265.086,265.109,265.131,265.153 ,265.174,265.197,265.218,265.249, 265.269,264.909,264.184,263.548,262.829 ,262.152,261.477,260.76,260.79,260.817, 260.845,260.87,260.898,260.935,260.959, 260.982,261.004,261.035,261.056,261.073 ,261.097,261.113,261.127,261.14,261.152 ,261.161,261.17,261.177,261.185,261.194 ,261.196,261.201,261.205,261.206, 261.206,261.203,261.199,261.197,261.193 ,261.189,261.184,261.178,261.171, 261.163,261.155,261.145,261.135,261.124 ,261.099,261.077,261.055,261.021, 261.579)
ORBIT_NUMBER = 497
ORBITAL_ECCENTRICITY = 0.573
ORBITAL_INCLINATION = 86.56
ORBITAL_SEMIMAJOR_AXIS = 8530.17
PERIAPSIS_ALTITUDE = 264.3
PERIAPSIS_ARGUMENT_ANGLE = 274.72
PERIAPSIS_TIME = 2004-06-10T22:01:52.000Z
SPACECRAFT_ORIENTATION = (0.0,-1.0,0.0)
^MEX_ORIENTATION_DESC = "MEX_ORIENTATION_DESC.TXT"
SPACECRAFT_POINTING_MODE = ACROSSTRACK
^MEX_POINTING_DESC = "MEX_POINTING_DESC.TXT"
RIGHT_ASCENSION = -1e+32
DECLINATION = -1e+32
OFFSET_ANGLE = -0.35
SPACECRAFT_SOLAR_DISTANCE = 2.46773e+08
TARGET_NAME = MARS
/* CAMERA DATA ELEMENTS */
DETECTOR_TEMPERATURE = 18.5744
FOCAL_PLANE_TEMPERATURE = 7.9716
INST_CMPRS_NAME = "DISCRETE COSINE TRANSFORMATION (DCT)"
INST_CMPRS_RATIO = 9.8287
INST_CMPRS_QUALITY = 0
INST_CMPRS_QUANTZ_TBL_ID = 0
INSTRUMENT_TEMPERATURE = 11.234
LENS_TEMPERATURE = 8.3794
MACROPIXEL_SIZE = 4
MISSING_FRAMES = 22
PIXEL_SUBSAMPLING_FLAG = N
SIGNAL_CHAIN_ID = 2
/* RADIOMETRIC DATA ELEMENTS */
BANDWIDTH = 48.0
CENTER_FILTER_WAVELENGTH = 748.0
RADIANCE_OFFSET = 0.119087
RADIANCE_SCALING_FACTOR = 0.00470123
REFLECTANCE_SCALING_FACTOR = 0.000653333
MEX:REFLECTANCE_OFFSET = 0.0165497
/* IMAGE OBJECT DEFINITIONS */
OBJECT = IMAGE
  INTERCHANGE_FORMAT = BINARY
  LINES = 13105
  LINE_SAMPLES = 2052
  SAMPLE_TYPE = UNSIGNED_INTEGER
  SAMPLE_BITS = 8
  BANDS = 1
  BAND_STORAGE_TYPE = BAND_SEQUENTIAL
  MAXIMUM = 185
  MEAN = 62.3893
  MINIMUM = 11
  STANDARD_DEVIATION = 23.3814
END_OBJECT = IMAGE
/* MAP OBJECT DEFINITIONS */
OBJECT = IMAGE_MAP_PROJECTION
  ^DATA_SET_MAP_PROJECTION_CATALOG= "DSMAP.CAT"
  A_AXIS_RADIUS = 3396.0
  B_AXIS_RADIUS = 3396.0
  C_AXIS_RADIUS = 3396.0
  CENTER_LATITUDE = 0.0
  CENTER_LONGITUDE = 263.0
  COORDINATE_SYSTEM_NAME = PLANETOGRAPHIC
  COORDINATE_SYSTEM_TYPE = "BODY-FIXED ROTATING"
  EASTERNMOST_LONGITUDE = 265.269
  FIRST_STANDARD_PARALLEL = "N/A"
  LINE_FIRST_PIXEL = 1
  LINE_LAST_PIXEL = 13105
  LINE_PROJECTION_OFFSET = -16887.375
  MAP_PROJECTION_ROTATION = 0.0
  MAP_PROJECTION_TYPE = SINUSOIDAL
  MAP_RESOLUTION = 592.713803866667
  MAP_SCALE = 0.1
  MAXIMUM_LATITUDE = -28.4881
  MINIMUM_LATITUDE = -50.5466
  POSITIVE_LONGITUDE_DIRECTION = EAST
  REFERENCE_LATITUDE = "N/A"
  REFERENCE_LONGITUDE = "N/A"
  SAMPLE_FIRST_PIXEL = 1
  SAMPLE_LAST_PIXEL = 2052
  SAMPLE_PROJECTION_OFFSET = 1028.375
  SECOND_STANDARD_PARALLEL = "N/A"
  WESTERNMOST_LONGITUDE = 260.76
END_OBJECT = IMAGE_MAP_PROJECTION
/* The JPEG2000 image data file associated with this label. */
OBJECT = COMPRESSED_FILE
  FILE_NAME = "H0497_0000_RE3.JP2"
  RECORD_TYPE = UNDEFINED
  FILE_RECORDS = UNK
  ENCODING_TYPE = "JP2"
  INTERCHANGE_FORMAT = BINARY
  UNCOMPRESSED_FILE_NAME = "H0497_0000_RE3.IMG"
  REQUIRED_STORAGE_BYTES = "26911980"
  ^DESCRIPTION = "JP2INFO.TXT"
END_OBJECT = COMPRESSED_FILE
END
