PDS_VERSION_ID = PDS3
/* FILE DATA ELEMENTS */
RECORD_TYPE = STREAM
/* POINTERS TO DATA OBJECTS */
^COMPRESSED_FILE = "H0497_0002_SR3.JP2"
/* IDENTIFICATION DATA ELEMENTS */
DATA_SET_ID = "MEX-M-HRSC-5-REFDR-MAPPROJECTED-V3.0"
DATA_SET_NAME = "MARS EXPRESS HRSC MAP PROJECTED REFDR V3.0"
DETECTOR_ID = MEX_HRSC_SRC
EVENT_TYPE = "MARS-GLOBAL-MAPPING-Vo-Te-Fl"
INSTRUMENT_HOST_ID = MEX
INSTRUMENT_HOST_NAME = "MARS EXPRESS"
INSTRUMENT_ID = HRSC
INSTRUMENT_NAME = "HIGH RESOLUTION STEREO CAMERA"
MISSION_NAME = "MARS EXPRESS"
MISSION_PHASE_NAME = MR_Phase_1
PROCESSING_LEVEL_ID = 3
PRODUCT_CREATION_TIME = 2016-03-03T04:31:40.000Z
PRODUCT_ID = "H0497_0002_SR3.JP2"
RELEASE_ID = 0007
REVISION_ID = 0000
/* QUALITY DATA ELEMENTS */
DATA_QUALITY_ID = 1
DATA_QUALITY_DESC = "Data calculated based on original SPICE kernels"
/* TIME DATA ELEMENTS */
SPACECRAFT_CLOCK_START_COUNT = "1/0034985392.58008"
SPACECRAFT_CLOCK_STOP_COUNT = "1/0034986010.62867"
IMAGE_TIME = 2004-06-10T22:12:23.855Z
START_TIME = 2004-06-10T22:12:23.853Z
STOP_TIME = 2004-06-10T22:12:23.858Z
/* ORBITAL DATA ELEMENTS */
ASCENDING_NODE_LONGITUDE = 218.65
MAXIMUM_RESOLUTION = 5.454
FOOTPRINT_POINT_LATITUDE = (-44.8918,-44.8967,-44.9013,-44.9043, -44.9085,-44.9116,-44.916,-44.9211, -44.926,-44.9318,-44.9361,-44.9389, -44.9436,-44.9467,-44.9512,-44.9547, -44.9573,-44.961,-44.9649,-44.9674, -44.9729,-44.9764,-44.9814,-44.9835, -44.9834,-44.9833,-44.9832,-44.9831, -44.9829,-44.9828,-44.9827,-44.9826, -44.9825,-44.9824,-44.9823,-44.9822, -44.9821,-44.982,-44.9819,-44.9818, -44.9817,-44.9816,-44.9815,-44.9814, -44.9813,-44.9812,-44.981,-44.9809, -44.9808,-44.9782,-44.9736,-44.9678, -44.9652,-44.9625,-44.9579,-44.9546, -44.9504,-44.9477,-44.9449,-44.9403, -44.9353,-44.9328,-44.9297,-44.9274, -44.9235,-44.9194,-44.917,-44.914, -44.91,-44.9056,-44.9022,-44.8998, -44.895,-44.892,-44.888,-44.8881, -44.8882,-44.8883,-44.8885,-44.8886, -44.8887,-44.8888,-44.8889,-44.889, -44.8891,-44.8892,-44.8893,-44.8894, -44.8895,-44.8896,-44.8897,-44.8898, -44.8899,-44.89,-44.8901,-44.8902, -44.8903,-44.8904,-44.8905,-44.8918)
FOOTPRINT_POINT_LONGITUDE = (262.858,262.858,262.858,262.858, 262.858,262.858,262.857,262.857,262.857 ,262.857,262.857,262.857,262.856, 262.856,262.856,262.856,262.856,262.856 ,262.856,262.855,262.855,262.855, 262.855,262.853,262.848,262.843,262.838 ,262.833,262.827,262.822,262.817, 262.812,262.806,262.801,262.796,262.791 ,262.786,262.78,262.775,262.77,262.765, 262.759,262.754,262.749,262.744,262.739 ,262.733,262.728,262.723,262.723, 262.723,262.723,262.723,262.723,262.724 ,262.724,262.724,262.724,262.724, 262.724,262.724,262.725,262.725,262.725 ,262.725,262.725,262.725,262.725, 262.725,262.726,262.726,262.726,262.726 ,262.726,262.727,262.732,262.737, 262.742,262.747,262.753,262.758,262.763 ,262.768,262.773,262.779,262.784, 262.789,262.794,262.799,262.805,262.81, 262.815,262.82,262.825,262.831,262.836, 262.841,262.846,262.852,262.858)
ORBIT_NUMBER = 497
ORBITAL_ECCENTRICITY = 0.573
ORBITAL_INCLINATION = 86.56
ORBITAL_SEMIMAJOR_AXIS = 8530.17
PERIAPSIS_ALTITUDE = 264.3
PERIAPSIS_ARGUMENT_ANGLE = 274.72
PERIAPSIS_TIME = 2004-06-10T22:01:52.000Z
SPACECRAFT_ORIENTATION = (0.0,-1.0,0.0)
^MEX_ORIENTATION_DESC = "MEX_ORIENTATION_DESC.TXT"
SPACECRAFT_POINTING_MODE = ACROSSTRACK
^MEX_POINTING_DESC = "MEX_POINTING_DESC.TXT"
RIGHT_ASCENSION = -1e+32
DECLINATION = -1e+32
OFFSET_ANGLE = -0.35
SPACECRAFT_SOLAR_DISTANCE = 2.46773e+08
TARGET_NAME = MARS
/* CAMERA DATA ELEMENTS */
BUFFER_MODE_ID = BUFFER_8
EXPOSURE_DURATION = 5.04
INST_CMPRS_NAME = NONE
INST_CMPRS_RATIO = 1.0
INST_CMPRS_QUALITY = -2147483648
INST_CMPRS_QUANTZ_TBL_ID = -2147483648
INSTRUMENT_TEMPERATURE = 8.18182
MISSING_FRAMES = 0
START_BIT = 0
/* RADIOMETRIC DATA ELEMENTS */
BANDWIDTH = 250.0
CENTER_FILTER_WAVELENGTH = 600.0
RADIANCE_OFFSET = -9.99e+31
RADIANCE_SCALING_FACTOR = -9.99e+31
REFLECTANCE_SCALING_FACTOR = -9.99e+31
MEX:REFLECTANCE_OFFSET = -9.99e+31
/* IMAGE OBJECT DEFINITIONS */
OBJECT = IMAGE
  INTERCHANGE_FORMAT = BINARY
  LINES = 1191
  LINE_SAMPLES = 1197
  SAMPLE_TYPE = UNSIGNED_INTEGER
  SAMPLE_BITS = 8
  BANDS = 1
  BAND_STORAGE_TYPE = BAND_SEQUENTIAL
  MAXIMUM = 1578
  MEAN = 1269.21
  MINIMUM = 970
  STANDARD_DEVIATION = 62.1399
END_OBJECT = IMAGE
/* MAP OBJECT DEFINITIONS */
OBJECT = IMAGE_MAP_PROJECTION
  ^DATA_SET_MAP_PROJECTION_CATALOG= "DSMAP.CAT"
  A_AXIS_RADIUS = 3396.19
  B_AXIS_RADIUS = 3396.19
  C_AXIS_RADIUS = 3396.19
  CENTER_LATITUDE = 0.0
  CENTER_LONGITUDE = 263.0
  COORDINATE_SYSTEM_NAME = PLANETOGRAPHIC
  COORDINATE_SYSTEM_TYPE = "BODY-FIXED ROTATING"
  EASTERNMOST_LONGITUDE = 262.858
  FIRST_STANDARD_PARALLEL = "N/A"
  LINE_FIRST_PIXEL = 1
  LINE_LAST_PIXEL = 1191
  LINE_PROJECTION_OFFSET = -531543.0
  MAP_PROJECTION_ROTATION = 0.0
  MAP_PROJECTION_TYPE = SINUSOIDAL
  MAP_RESOLUTION = 11854.9393024378
  MAP_SCALE = 0.005
  MAXIMUM_LATITUDE = -44.888
  MINIMUM_LATITUDE = -44.9835
  POSITIVE_LONGITUDE_DIRECTION = EAST
  REFERENCE_LATITUDE = "N/A"
  REFERENCE_LONGITUDE = "N/A"
  SAMPLE_FIRST_PIXEL = 1
  SAMPLE_LAST_PIXEL = 1197
  SAMPLE_PROJECTION_OFFSET = 2269.0
  SECOND_STANDARD_PARALLEL = "N/A"
  WESTERNMOST_LONGITUDE = 262.723
END_OBJECT = IMAGE_MAP_PROJECTION
/* The JPEG2000 image data file associated with this label. */
OBJECT = COMPRESSED_FILE
  FILE_NAME = "H0497_0002_SR3.JP2"
  RECORD_TYPE = UNDEFINED
  FILE_RECORDS = UNK
  ENCODING_TYPE = "JP2"
  INTERCHANGE_FORMAT = BINARY
  UNCOMPRESSED_FILE_NAME = "H0497_0002_SR3.IMG"
  REQUIRED_STORAGE_BYTES = "1444779"
  ^DESCRIPTION = "JP2INFO.TXT"
END_OBJECT = COMPRESSED_FILE
END
