PDS_VERSION_ID = PDS3
/* FILE DATA ELEMENTS */
RECORD_TYPE = STREAM
/* POINTERS TO DATA OBJECTS */
^COMPRESSED_FILE = "H0500_0000_GR3.JP2"
/* IDENTIFICATION DATA ELEMENTS */
DATA_SET_ID = "MEX-M-HRSC-5-REFDR-MAPPROJECTED-V3.0"
DATA_SET_NAME = "MARS EXPRESS HRSC MAP PROJECTED REFDR V3.0"
DETECTOR_ID = MEX_HRSC_GREEN
EVENT_TYPE = "MARS-REGIONAL-MAPPING-Te-Lc-Mw"
INSTRUMENT_HOST_ID = MEX
INSTRUMENT_HOST_NAME = "MARS EXPRESS"
INSTRUMENT_ID = HRSC
INSTRUMENT_NAME = "HIGH RESOLUTION STEREO CAMERA"
MISSION_NAME = "MARS EXPRESS"
MISSION_PHASE_NAME = MR_Phase_1
PROCESSING_LEVEL_ID = 3
PRODUCT_CREATION_TIME = 2016-03-03T04:31:40.000Z
PRODUCT_ID = "H0500_0000_GR3.JP2"
RELEASE_ID = 0007
REVISION_ID = 0000
/* QUALITY DATA ELEMENTS */
DATA_QUALITY_ID = 1
DATA_QUALITY_DESC = "Data calculated based on original SPICE kernels"
/* TIME DATA ELEMENTS */
SPACECRAFT_CLOCK_START_COUNT = "1/0035058436.57939"
SPACECRAFT_CLOCK_STOP_COUNT = "1/0035059812.31772"
START_TIME = 2004-06-11T18:31:26.555Z
STOP_TIME = 2004-06-11T18:37:18.042Z
/* ORBITAL DATA ELEMENTS */
ASCENDING_NODE_LONGITUDE = 218.59
MAXIMUM_RESOLUTION = 103.9
FOOTPRINT_POINT_LATITUDE = (-17.5907,-17.5872,-17.5831,-17.5782, -17.5725,-17.5633,-17.5557,-17.5472, -17.5379,-17.5278,-17.5169,-17.5005, -17.4802,-16.9774,-16.4697,-15.9571, -15.4395,-14.9163,-14.6529,-14.3884, -14.1216,-13.8543,-13.5852,-13.3149, -12.9638,-12.6902,-12.4149,-12.1384, -11.8604,-11.5811,-11.2999,-11.0191, -10.7392,-10.4612,-10.1844,-9.90818, -9.63319,-9.35719,-9.08424,-8.67495, -8.40516,-8.13605,-7.86787,-7.60132, -7.33605,-7.07183,-6.67784,-6.15885, -5.38287,-4.87079,-4.36164,-4.00295, -4.02831,-4.06457,-4.08783,-4.11083, -4.1406,-4.17698,-4.20152,-4.22869, -4.25129,-4.28302,-4.30635,-4.33271, -4.48948,-4.98291,-5.48041,-5.97766, -6.48351,-6.86616,-7.38011,-7.76839, -8.28984,-8.55237,-8.94847,-9.21373, -9.48038,-9.7481,-10.017,-10.287, -10.559,-10.8327,-11.1102,-11.5224, -11.7975,-12.0717,-12.3442,-12.6153, -12.8865,-13.1552,-13.5004,-13.7661, -14.0305,-14.5554,-15.0752,-15.5903, -16.1005,-16.6056,-17.1056,-17.5907)
FOOTPRINT_POINT_LONGITUDE = (324.334,324.753,325.124,325.494, 325.863,326.369,326.736,327.102,327.468 ,327.833,328.198,328.701,329.088, 329.097,329.105,329.113,329.121,329.129 ,329.133,329.136,329.14,329.144,329.148 ,329.151,329.156,329.16,329.163,329.167 ,329.17,329.174,329.178,329.181,329.185 ,329.188,329.19,329.194,329.197,329.203 ,329.206,329.213,329.216,329.219, 329.222,329.225,329.227,329.229,329.232 ,329.232,329.239,329.243,329.249, 329.133,328.76,328.204,327.834,327.464, 326.971,326.355,325.922,325.427,324.99, 324.365,323.928,323.499,322.867,322.937 ,323.006,323.062,323.129,323.18,323.247 ,323.296,323.361,323.393,323.441, 323.473,323.504,323.536,323.567,323.598 ,323.631,323.664,323.705,323.749, 323.777,323.807,323.835,323.862,323.892 ,323.92,323.954,323.981,324.007,324.057 ,324.106,324.154,324.2,324.245,324.287, 324.334)
ORBIT_NUMBER = 500
ORBITAL_ECCENTRICITY = 0.573
ORBITAL_INCLINATION = 86.57
ORBITAL_SEMIMAJOR_AXIS = 8529.32
PERIAPSIS_ALTITUDE = 264.82
PERIAPSIS_ARGUMENT_ANGLE = 274.21
PERIAPSIS_TIME = 2004-06-11T18:11:42.000Z
SPACECRAFT_ORIENTATION = (0.0,-1.0,0.0)
^MEX_ORIENTATION_DESC = "MEX_ORIENTATION_DESC.TXT"
SPACECRAFT_POINTING_MODE = ACROSSTRACK
^MEX_POINTING_DESC = "MEX_POINTING_DESC.TXT"
RIGHT_ASCENSION = -1e+32
DECLINATION = -1e+32
OFFSET_ANGLE = 0.65
SPACECRAFT_SOLAR_DISTANCE = 2.46843e+08
TARGET_NAME = MARS
/* CAMERA DATA ELEMENTS */
DETECTOR_TEMPERATURE = 18.1666
FOCAL_PLANE_TEMPERATURE = 7.7677
INST_CMPRS_NAME = "DISCRETE COSINE TRANSFORMATION (DCT)"
INST_CMPRS_RATIO = 9.69981
INST_CMPRS_QUALITY = 0
INST_CMPRS_QUANTZ_TBL_ID = 0
INSTRUMENT_TEMPERATURE = 11.0301
LENS_TEMPERATURE = 8.1755
MACROPIXEL_SIZE = 2
MISSING_FRAMES = 7
PIXEL_SUBSAMPLING_FLAG = N
SIGNAL_CHAIN_ID = 2
/* RADIOMETRIC DATA ELEMENTS */
BANDWIDTH = 88.0
CENTER_FILTER_WAVELENGTH = 538.0
RADIANCE_OFFSET = 0.798689
RADIANCE_SCALING_FACTOR = 0.00516376
REFLECTANCE_SCALING_FACTOR = 0.000270895
MEX:REFLECTANCE_OFFSET = 0.0418999
/* IMAGE OBJECT DEFINITIONS */
OBJECT = IMAGE
  INTERCHANGE_FORMAT = BINARY
  LINES = 8782
  LINE_SAMPLES = 4026
  SAMPLE_TYPE = UNSIGNED_INTEGER
  SAMPLE_BITS = 8
  BANDS = 1
  BAND_STORAGE_TYPE = BAND_SEQUENTIAL
  MAXIMUM = 205
  MEAN = 137.179
  MINIMUM = 69
  STANDARD_DEVIATION = 17.33
END_OBJECT = IMAGE
/* MAP OBJECT DEFINITIONS */
OBJECT = IMAGE_MAP_PROJECTION
  ^DATA_SET_MAP_PROJECTION_CATALOG= "DSMAP.CAT"
  A_AXIS_RADIUS = 3396.0
  B_AXIS_RADIUS = 3396.0
  C_AXIS_RADIUS = 3396.0
  CENTER_LATITUDE = 0.0
  CENTER_LONGITUDE = 326.0
  COORDINATE_SYSTEM_NAME = PLANETOGRAPHIC
  COORDINATE_SYSTEM_TYPE = "BODY-FIXED ROTATING"
  EASTERNMOST_LONGITUDE = 329.249
  FIRST_STANDARD_PARALLEL = "N/A"
  LINE_FIRST_PIXEL = 1
  LINE_LAST_PIXEL = 8782
  LINE_PROJECTION_OFFSET = -2372.75
  MAP_PROJECTION_ROTATION = 0.0
  MAP_PROJECTION_TYPE = SINUSOIDAL
  MAP_RESOLUTION = 592.713803866667
  MAP_SCALE = 0.1
  MAXIMUM_LATITUDE = -4.00295
  MINIMUM_LATITUDE = -17.5907
  POSITIVE_LONGITUDE_DIRECTION = EAST
  REFERENCE_LATITUDE = "N/A"
  REFERENCE_LONGITUDE = "N/A"
  SAMPLE_FIRST_PIXEL = 1
  SAMPLE_LAST_PIXEL = 4026
  SAMPLE_PROJECTION_OFFSET = 1984.25
  SECOND_STANDARD_PARALLEL = "N/A"
  WESTERNMOST_LONGITUDE = 322.867
END_OBJECT = IMAGE_MAP_PROJECTION
/* The JPEG2000 image data file associated with this label. */
OBJECT = COMPRESSED_FILE
  FILE_NAME = "H0500_0000_GR3.JP2"
  RECORD_TYPE = UNDEFINED
  FILE_RECORDS = UNK
  ENCODING_TYPE = "JP2"
  INTERCHANGE_FORMAT = BINARY
  UNCOMPRESSED_FILE_NAME = "H0500_0000_GR3.IMG"
  REQUIRED_STORAGE_BYTES = "35380488"
  ^DESCRIPTION = "JP2INFO.TXT"
END_OBJECT = COMPRESSED_FILE
END
