PDS_VERSION_ID = PDS3
/* FILE DATA ELEMENTS */
RECORD_TYPE = STREAM
/* POINTERS TO DATA OBJECTS */
^COMPRESSED_FILE = "H0504_0001_SR3.JP2"
/* IDENTIFICATION DATA ELEMENTS */
DATA_SET_ID = "MEX-M-HRSC-5-REFDR-MAPPROJECTED-V3.0"
DATA_SET_NAME = "MARS EXPRESS HRSC MAP PROJECTED REFDR V3.0"
DETECTOR_ID = MEX_HRSC_SRC
EVENT_TYPE = "MARS-REGIONAL-MAPPING-Te-Im-Fl"
INSTRUMENT_HOST_ID = MEX
INSTRUMENT_HOST_NAME = "MARS EXPRESS"
INSTRUMENT_ID = HRSC
INSTRUMENT_NAME = "HIGH RESOLUTION STEREO CAMERA"
MISSION_NAME = "MARS EXPRESS"
MISSION_PHASE_NAME = MR_Phase_1
PROCESSING_LEVEL_ID = 3
PRODUCT_CREATION_TIME = 2016-03-03T11:04:32.000Z
PRODUCT_ID = "H0504_0001_SR3.JP2"
RELEASE_ID = 0008
REVISION_ID = 0000
/* QUALITY DATA ELEMENTS */
DATA_QUALITY_ID = 1
DATA_QUALITY_DESC = "Data calculated based on original SPICE kernels"
/* TIME DATA ELEMENTS */
SPACECRAFT_CLOCK_START_COUNT = "1/0035154856.57959"
SPACECRAFT_CLOCK_STOP_COUNT = "1/0035155245.12122"
IMAGE_TIME = 2004-06-12T21:17:40.653Z
START_TIME = 2004-06-12T21:17:40.395Z
STOP_TIME = 2004-06-12T21:17:40.911Z
/* ORBITAL DATA ELEMENTS */
ASCENDING_NODE_LONGITUDE = 218.5
MAXIMUM_RESOLUTION = 6.803
FOOTPRINT_POINT_LATITUDE = (-38.7221,-38.728,-38.7321,-38.7384, -38.7443,-38.7505,-38.7556,-38.7591, -38.7642,-38.7714,-38.7744,-38.779, -38.7823,-38.7874,-38.7921,-38.7958, -38.7997,-38.803,-38.8072,-38.8129, -38.8166,-38.8226,-38.8268,-38.8305, -38.8348,-38.8354,-38.8353,-38.8352, -38.8352,-38.8351,-38.835,-38.8349, -38.8349,-38.8348,-38.8347,-38.8346, -38.8346,-38.8345,-38.8344,-38.8343, -38.8343,-38.8342,-38.8341,-38.834, -38.834,-38.8339,-38.8338,-38.8337, -38.8337,-38.8336,-38.8308,-38.8262, -38.8224,-38.8177,-38.8144,-38.8096, -38.8049,-38.7998,-38.7954,-38.7894, -38.7857,-38.7798,-38.7745,-38.769, -38.7659,-38.7606,-38.7568,-38.752, -38.7481,-38.7421,-38.7385,-38.7344, -38.7271,-38.7227,-38.7179,-38.7179, -38.718,-38.7181,-38.7182,-38.7183, -38.7183,-38.7184,-38.7185,-38.7186, -38.7186,-38.7187,-38.7188,-38.7189, -38.7189,-38.719,-38.7191,-38.7192, -38.7192,-38.7193,-38.7194,-38.7194, -38.7195,-38.7196,-38.7197,-38.7221)
FOOTPRINT_POINT_LONGITUDE = (294.501,294.501,294.501,294.5,294.5, 294.5,294.5,294.5,294.5,294.5,294.5, 294.5,294.5,294.5,294.499,294.499, 294.499,294.499,294.499,294.499,294.499 ,294.499,294.499,294.499,294.499, 294.493,294.487,294.481,294.475,294.469 ,294.463,294.457,294.451,294.445, 294.439,294.434,294.428,294.422,294.416 ,294.41,294.404,294.398,294.392,294.386 ,294.38,294.375,294.369,294.363,294.357 ,294.351,294.349,294.349,294.349, 294.349,294.349,294.349,294.349,294.349 ,294.349,294.35,294.35,294.35,294.35, 294.35,294.35,294.35,294.35,294.35, 294.35,294.351,294.351,294.351,294.351, 294.351,294.354,294.36,294.366,294.372, 294.378,294.384,294.389,294.395,294.401 ,294.407,294.413,294.419,294.425, 294.431,294.437,294.443,294.448,294.454 ,294.46,294.466,294.472,294.478,294.484 ,294.49,294.496,294.501)
ORBIT_NUMBER = 504
ORBITAL_ECCENTRICITY = 0.573
ORBITAL_INCLINATION = 86.55
ORBITAL_SEMIMAJOR_AXIS = 8530.25
PERIAPSIS_ALTITUDE = 264.96
PERIAPSIS_ARGUMENT_ANGLE = 273.52
PERIAPSIS_TIME = 2004-06-12T21:04:53.000Z
SPACECRAFT_ORIENTATION = (0.0,-1.0,0.0)
^MEX_ORIENTATION_DESC = "MEX_ORIENTATION_DESC.TXT"
SPACECRAFT_POINTING_MODE = ACROSSTRACK
^MEX_POINTING_DESC = "MEX_POINTING_DESC.TXT"
RIGHT_ASCENSION = -1e+32
DECLINATION = -1e+32
OFFSET_ANGLE = -0.06
SPACECRAFT_SOLAR_DISTANCE = 2.46935e+08
TARGET_NAME = MARS
/* CAMERA DATA ELEMENTS */
BUFFER_MODE_ID = BUFFER_8
EXPOSURE_DURATION = 516.096
INST_CMPRS_NAME = NONE
INST_CMPRS_RATIO = 1.0
INST_CMPRS_QUALITY = -2147483648
INST_CMPRS_QUANTZ_TBL_ID = -2147483648
INSTRUMENT_TEMPERATURE = 8.18182
MISSING_FRAMES = 0
START_BIT = 0
/* RADIOMETRIC DATA ELEMENTS */
BANDWIDTH = 250.0
CENTER_FILTER_WAVELENGTH = 600.0
RADIANCE_OFFSET = -9.99e+31
RADIANCE_SCALING_FACTOR = -9.99e+31
REFLECTANCE_SCALING_FACTOR = -9.99e+31
MEX:REFLECTANCE_OFFSET = -9.99e+31
/* IMAGE OBJECT DEFINITIONS */
OBJECT = IMAGE
  INTERCHANGE_FORMAT = BINARY
  LINES = 1450
  LINE_SAMPLES = 1469
  SAMPLE_TYPE = UNSIGNED_INTEGER
  SAMPLE_BITS = 8
  BANDS = 1
  BAND_STORAGE_TYPE = BAND_SEQUENTIAL
  MAXIMUM = 14592
  MEAN = 11460.7
  MINIMUM = 0
  STANDARD_DEVIATION = 4481.75
END_OBJECT = IMAGE
/* MAP OBJECT DEFINITIONS */
OBJECT = IMAGE_MAP_PROJECTION
  ^DATA_SET_MAP_PROJECTION_CATALOG= "DSMAP.CAT"
  A_AXIS_RADIUS = 3396.19
  B_AXIS_RADIUS = 3396.19
  C_AXIS_RADIUS = 3396.19
  CENTER_LATITUDE = 0.0
  CENTER_LONGITUDE = 294.0
  COORDINATE_SYSTEM_NAME = PLANETOGRAPHIC
  COORDINATE_SYSTEM_TYPE = "BODY-FIXED ROTATING"
  EASTERNMOST_LONGITUDE = 294.501
  FIRST_STANDARD_PARALLEL = "N/A"
  LINE_FIRST_PIXEL = 1
  LINE_LAST_PIXEL = 1450
  LINE_PROJECTION_OFFSET = -458596.0
  MAP_PROJECTION_ROTATION = 0.0
  MAP_PROJECTION_TYPE = SINUSOIDAL
  MAP_RESOLUTION = 11854.9393024378
  MAP_SCALE = 0.005
  MAXIMUM_LATITUDE = -38.7179
  MINIMUM_LATITUDE = -38.8354
  POSITIVE_LONGITUDE_DIRECTION = EAST
  REFERENCE_LATITUDE = "N/A"
  REFERENCE_LONGITUDE = "N/A"
  SAMPLE_FIRST_PIXEL = 1
  SAMPLE_LAST_PIXEL = 1469
  SAMPLE_PROJECTION_OFFSET = -3190.0
  SECOND_STANDARD_PARALLEL = "N/A"
  WESTERNMOST_LONGITUDE = 294.349
END_OBJECT = IMAGE_MAP_PROJECTION
/* The JPEG2000 image data file associated with this label. */
OBJECT = COMPRESSED_FILE
  FILE_NAME = "H0504_0001_SR3.JP2"
  RECORD_TYPE = UNDEFINED
  FILE_RECORDS = UNK
  ENCODING_TYPE = "JP2"
  INTERCHANGE_FORMAT = BINARY
  UNCOMPRESSED_FILE_NAME = "H0504_0001_SR3.IMG"
  REQUIRED_STORAGE_BYTES = "2150616"
  ^DESCRIPTION = "JP2INFO.TXT"
END_OBJECT = COMPRESSED_FILE
END
