PDS_VERSION_ID = PDS3
/* FILE DATA ELEMENTS */
RECORD_TYPE = STREAM
/* POINTERS TO DATA OBJECTS */
^COMPRESSED_FILE = "H0506_0000_ND3.JP2"
/* IDENTIFICATION DATA ELEMENTS */
DATA_SET_ID = "MEX-M-HRSC-5-REFDR-MAPPROJECTED-V3.0"
DATA_SET_NAME = "MARS EXPRESS HRSC MAP PROJECTED REFDR V3.0"
DETECTOR_ID = MEX_HRSC_NADIR
EVENT_TYPE = "MARS-REGIONAL-MAPPING-Vo-Fl-Mw"
INSTRUMENT_HOST_ID = MEX
INSTRUMENT_HOST_NAME = "MARS EXPRESS"
INSTRUMENT_ID = HRSC
INSTRUMENT_NAME = "HIGH RESOLUTION STEREO CAMERA"
MISSION_NAME = "MARS EXPRESS"
MISSION_PHASE_NAME = MR_Phase_1
PROCESSING_LEVEL_ID = 3
PRODUCT_CREATION_TIME = 2016-03-03T11:04:32.000Z
PRODUCT_ID = "H0506_0000_ND3.JP2"
RELEASE_ID = 0008
REVISION_ID = 0000
/* QUALITY DATA ELEMENTS */
DATA_QUALITY_ID = 1
DATA_QUALITY_DESC = "Data calculated based on original SPICE kernels"
/* TIME DATA ELEMENTS */
SPACECRAFT_CLOCK_START_COUNT = "1/0035203251.56196"
SPACECRAFT_CLOCK_STOP_COUNT = "1/0035204100.34602"
START_TIME = 2004-06-13T10:41:55.223Z
STOP_TIME = 2004-06-13T10:50:50.215Z
/* ORBITAL DATA ELEMENTS */
ASCENDING_NODE_LONGITUDE = 218.46
MAXIMUM_RESOLUTION = 23.8
FOOTPRINT_POINT_LATITUDE = (-46.8125,-46.8323,-46.6508,-45.8577, -45.0495,-44.2238,-43.3815,-42.5218, -42.0851,-41.6434,-41.1973,-40.7461, -40.2901,-39.8291,-39.3631,-38.8914, -38.4143,-37.932,-37.4446,-36.951, -36.4518,-35.9472,-35.4357,-34.9191, -34.3953,-33.8655,-33.3293,-32.7862, -32.2364,-31.6799,-31.1167,-30.546, -29.9679,-29.3826,-28.7894,-28.1887, -27.5801,-26.9637,-26.3383,-25.7052, -25.0631,-24.4125,-23.7527,-23.0842, -22.4061,-21.7187,-21.0215,-20.6858, -20.71,-20.7389,-20.7559,-20.7731, -20.7874,-20.7984,-21.4916,-22.1751, -22.8496,-23.5148,-24.1717,-24.8196, -25.4587,-26.0901,-26.7128,-27.3277, -27.9346,-28.5336,-29.1251,-29.7094, -30.2862,-30.856,-31.4186,-31.974, -32.5231,-33.0656,-33.6016,-34.1307, -34.654,-35.1707,-35.6816,-36.1863, -36.6857,-37.1786,-37.6667,-38.1493, -38.6258,-39.0974,-39.5641,-40.0257, -40.4822,-40.9337,-41.38,-41.8219, -42.2589,-42.6915,-43.5436,-44.3774, -45.1948,-45.9973,-46.7827,-46.8125)
FOOTPRINT_POINT_LONGITUDE = (97.6756,98.6209,99.8279,99.8711, 99.9137,99.9547,99.9959,100.034,100.052 ,100.071,100.093,100.113,100.126,100.13 ,100.155,100.175,100.195,100.211, 100.226,100.243,100.261,100.272,100.284 ,100.303,100.325,100.339,100.352, 100.367,100.38,100.394,100.407,100.418, 100.431,100.444,100.456,100.468,100.48, 100.491,100.503,100.515,100.526,100.537 ,100.548,100.559,100.571,100.581, 100.591,100.037,99.3786,98.495,97.8916, 97.196,96.5016,95.8789,95.9344,95.9901, 96.0418,96.0908,96.1364,96.1797,96.225, 96.2632,96.3015,96.3386,96.3735,96.4071 ,96.4397,96.4695,96.4979,96.5243, 96.5497,96.5723,96.5968,96.6181,96.6381 ,96.6567,96.674,96.69,96.705,96.7188, 96.7316,96.7434,96.7535,96.7626,96.7712 ,96.7785,96.7839,96.7896,96.7941, 96.7974,96.7999,96.8015,96.8022,96.8021 ,96.7992,96.7924,96.7831,96.7702, 96.7538,97.6756)
ORBIT_NUMBER = 506
ORBITAL_ECCENTRICITY = 0.573
ORBITAL_INCLINATION = 86.57
ORBITAL_SEMIMAJOR_AXIS = 8530.04
PERIAPSIS_ALTITUDE = 264.13
PERIAPSIS_ARGUMENT_ANGLE = 273.14
PERIAPSIS_TIME = 2004-06-13T10:31:28.000Z
SPACECRAFT_ORIENTATION = (0.0,-1.0,0.0)
^MEX_ORIENTATION_DESC = "MEX_ORIENTATION_DESC.TXT"
SPACECRAFT_POINTING_MODE = ACROSSTRACK
^MEX_POINTING_DESC = "MEX_POINTING_DESC.TXT"
RIGHT_ASCENSION = -1e+32
DECLINATION = -1e+32
OFFSET_ANGLE = -0.55
SPACECRAFT_SOLAR_DISTANCE = 2.46981e+08
TARGET_NAME = MARS
/* CAMERA DATA ELEMENTS */
DETECTOR_TEMPERATURE = 17.9627
FOCAL_PLANE_TEMPERATURE = 7.5638
INST_CMPRS_NAME = "DISCRETE COSINE TRANSFORMATION (DCT)"
INST_CMPRS_RATIO = 6.3156
INST_CMPRS_QUALITY = 0
INST_CMPRS_QUANTZ_TBL_ID = 0
INSTRUMENT_TEMPERATURE = 11.0301
LENS_TEMPERATURE = 7.5638
MACROPIXEL_SIZE = 1
MISSING_FRAMES = 0
PIXEL_SUBSAMPLING_FLAG = N
SIGNAL_CHAIN_ID = 0
/* RADIOMETRIC DATA ELEMENTS */
BANDWIDTH = 177.0
CENTER_FILTER_WAVELENGTH = 677.5
RADIANCE_OFFSET = 0.533799
RADIANCE_SCALING_FACTOR = 0.0180026
REFLECTANCE_SCALING_FACTOR = 0.000583373
MEX:REFLECTANCE_OFFSET = 0.0172977
/* IMAGE OBJECT DEFINITIONS */
OBJECT = IMAGE
  INTERCHANGE_FORMAT = BINARY
  LINES = 62075
  LINE_SAMPLES = 10623
  SAMPLE_TYPE = UNSIGNED_INTEGER
  SAMPLE_BITS = 8
  BANDS = 1
  BAND_STORAGE_TYPE = BAND_SEQUENTIAL
  MAXIMUM = 181
  MEAN = 64.9536
  MINIMUM = 11
  STANDARD_DEVIATION = 15.7261
END_OBJECT = IMAGE
/* MAP OBJECT DEFINITIONS */
OBJECT = IMAGE_MAP_PROJECTION
  ^DATA_SET_MAP_PROJECTION_CATALOG= "DSMAP.CAT"
  A_AXIS_RADIUS = 3396.0
  B_AXIS_RADIUS = 3396.0
  C_AXIS_RADIUS = 3396.0
  CENTER_LATITUDE = 0.0
  CENTER_LONGITUDE = 98.0
  COORDINATE_SYSTEM_NAME = PLANETOGRAPHIC
  COORDINATE_SYSTEM_TYPE = "BODY-FIXED ROTATING"
  EASTERNMOST_LONGITUDE = 100.591
  FIRST_STANDARD_PARALLEL = "N/A"
  LINE_FIRST_PIXEL = 1
  LINE_LAST_PIXEL = 62075
  LINE_PROJECTION_OFFSET = -48991.0
  MAP_PROJECTION_ROTATION = 0.0
  MAP_PROJECTION_TYPE = SINUSOIDAL
  MAP_RESOLUTION = 2370.85521546667
  MAP_SCALE = 0.025
  MAXIMUM_LATITUDE = -20.6858
  MINIMUM_LATITUDE = -46.8323
  POSITIVE_LONGITUDE_DIRECTION = EAST
  REFERENCE_LATITUDE = "N/A"
  REFERENCE_LONGITUDE = "N/A"
  SAMPLE_FIRST_PIXEL = 1
  SAMPLE_LAST_PIXEL = 10623
  SAMPLE_PROJECTION_OFFSET = 4745.0
  SECOND_STANDARD_PARALLEL = "N/A"
  WESTERNMOST_LONGITUDE = 95.8789
END_OBJECT = IMAGE_MAP_PROJECTION
/* The JPEG2000 image data file associated with this label. */
OBJECT = COMPRESSED_FILE
  FILE_NAME = "H0506_0000_ND3.JP2"
  RECORD_TYPE = UNDEFINED
  FILE_RECORDS = UNK
  ENCODING_TYPE = "JP2"
  INTERCHANGE_FORMAT = BINARY
  UNCOMPRESSED_FILE_NAME = "H0506_0000_ND3.IMG"
  REQUIRED_STORAGE_BYTES = "659454594"
  ^DESCRIPTION = "JP2INFO.TXT"
END_OBJECT = COMPRESSED_FILE
END
