PDS_VERSION_ID = PDS3
/* FILE DATA ELEMENTS */
RECORD_TYPE = STREAM
/* POINTERS TO DATA OBJECTS */
^COMPRESSED_FILE = "H0508_0000_GR3.JP2"
/* IDENTIFICATION DATA ELEMENTS */
DATA_SET_ID = "MEX-M-HRSC-5-REFDR-MAPPROJECTED-V3.0"
DATA_SET_NAME = "MARS EXPRESS HRSC MAP PROJECTED REFDR V3.0"
DETECTOR_ID = MEX_HRSC_GREEN
EVENT_TYPE = "MARS-REGIONAL-MAPPING-Vo-Te-Mw"
INSTRUMENT_HOST_ID = MEX
INSTRUMENT_HOST_NAME = "MARS EXPRESS"
INSTRUMENT_ID = HRSC
INSTRUMENT_NAME = "HIGH RESOLUTION STEREO CAMERA"
MISSION_NAME = "MARS EXPRESS"
MISSION_PHASE_NAME = MR_Phase_1
PROCESSING_LEVEL_ID = 3
PRODUCT_CREATION_TIME = 2016-03-03T11:04:32.000Z
PRODUCT_ID = "H0508_0000_GR3.JP2"
RELEASE_ID = 0008
REVISION_ID = 0000
/* QUALITY DATA ELEMENTS */
DATA_QUALITY_ID = 1
DATA_QUALITY_DESC = "Data calculated based on original SPICE kernels"
/* TIME DATA ELEMENTS */
SPACECRAFT_CLOCK_START_COUNT = "1/0035251638.57149"
SPACECRAFT_CLOCK_STOP_COUNT = "1/0035252318.41029"
START_TIME = 2004-06-14T00:08:11.359Z
STOP_TIME = 2004-06-14T00:15:05.859Z
/* ORBITAL DATA ELEMENTS */
ASCENDING_NODE_LONGITUDE = 218.42
MAXIMUM_RESOLUTION = 92
FOOTPRINT_POINT_LATITUDE = (-47.6083,-47.6369,-47.6561,-46.9883, -46.3106,-45.6207,-44.918,-44.2045, -43.8416,-43.4764,-43.1085,-42.7382, -42.1729,-41.7938,-41.2345,-40.8458, -40.4528,-40.0557,-39.6546,-39.2503, -38.8418,-38.4291,-38.0124,-37.5914, -37.1671,-36.7374,-36.3013,-35.8628, -35.42,-34.972,-34.5197,-34.063, -33.6002,-33.1328,-32.6607,-32.1832, -31.7011,-31.2126,-30.7195,-30.2209, -29.716,-29.2058,-28.6901,-28.1683, -27.6405,-27.1066,-26.5663,-26.0196, -26.0215,-26.0336,-26.0419,-26.0481, -26.0499,-26.0498,-26.5915,-27.1298, -27.6588,-28.1826,-28.7,-29.2108, -29.7171,-30.2179,-30.7114,-31.2006, -31.6858,-32.1647,-32.6387,-33.1077, -33.5719,-34.0322,-34.486,-34.9347, -35.3796,-35.8195,-36.2548,-36.686, -37.1127,-37.5346,-37.954,-38.3689, -38.7795,-39.1862,-39.5891,-39.9885, -40.384,-40.7769,-41.1637,-41.719, -42.2852,-42.6589,-43.0285,-43.3955, -43.7595,-44.121,-44.8318,-45.532, -46.2192,-46.8948,-47.5601,-47.6083)
FOOTPRINT_POINT_LONGITUDE = (260.111,261.011,262.266,262.317, 262.365,262.414,262.46,262.506,262.528, 262.55,262.57,262.588,262.621,262.638, 262.668,262.687,262.706,262.726,262.746 ,262.764,262.783,262.801,262.819, 262.836,262.851,262.869,262.891,262.908 ,262.925,262.941,262.957,262.973, 262.989,263.005,263.02,263.035,263.05, 263.065,263.079,263.093,263.107,263.121 ,263.134,263.147,263.16,263.172,263.185 ,263.197,262.545,261.893,261.28,260.513 ,259.938,259.08,259.111,259.145,259.172 ,259.199,259.223,259.245,259.267, 259.288,259.305,259.322,259.341,259.357 ,259.371,259.385,259.398,259.411, 259.422,259.43,259.438,259.445,259.451, 259.456,259.461,259.462,259.467,259.469 ,259.471,259.472,259.473,259.474, 259.473,259.475,259.47,259.462,259.452, 259.446,259.439,259.432,259.425,259.417 ,259.399,259.378,259.355,259.329,259.3, 260.111)
ORBIT_NUMBER = 508
ORBITAL_ECCENTRICITY = 0.573
ORBITAL_INCLINATION = 86.56
ORBITAL_SEMIMAJOR_AXIS = 8530.05
PERIAPSIS_ALTITUDE = 264.51
PERIAPSIS_ARGUMENT_ANGLE = 272.8
PERIAPSIS_TIME = 2004-06-13T23:58:02.000Z
SPACECRAFT_ORIENTATION = (0.0,-1.0,0.0)
^MEX_ORIENTATION_DESC = "MEX_ORIENTATION_DESC.TXT"
SPACECRAFT_POINTING_MODE = NADIR
^MEX_POINTING_DESC = "MEX_POINTING_DESC.TXT"
RIGHT_ASCENSION = -1e+32
DECLINATION = -1e+32
OFFSET_ANGLE = -1e+32
SPACECRAFT_SOLAR_DISTANCE = 2.47026e+08
TARGET_NAME = MARS
/* CAMERA DATA ELEMENTS */
DETECTOR_TEMPERATURE = 18.1666
FOCAL_PLANE_TEMPERATURE = 7.9716
INST_CMPRS_NAME = "DISCRETE COSINE TRANSFORMATION (DCT)"
INST_CMPRS_RATIO = 5.9081
INST_CMPRS_QUALITY = 0
INST_CMPRS_QUANTZ_TBL_ID = 0
INSTRUMENT_TEMPERATURE = 11.0301
LENS_TEMPERATURE = 8.1755
MACROPIXEL_SIZE = 4
MISSING_FRAMES = 29
PIXEL_SUBSAMPLING_FLAG = N
SIGNAL_CHAIN_ID = 2
/* RADIOMETRIC DATA ELEMENTS */
BANDWIDTH = 88.0
CENTER_FILTER_WAVELENGTH = 538.0
RADIANCE_OFFSET = 0.105593
RADIANCE_SCALING_FACTOR = 0.00600433
REFLECTANCE_SCALING_FACTOR = 0.000315457
MEX:REFLECTANCE_OFFSET = 0.0055477
/* IMAGE OBJECT DEFINITIONS */
OBJECT = IMAGE
  INTERCHANGE_FORMAT = BINARY
  LINES = 12837
  LINE_SAMPLES = 2316
  SAMPLE_TYPE = UNSIGNED_INTEGER
  SAMPLE_BITS = 8
  BANDS = 1
  BAND_STORAGE_TYPE = BAND_SEQUENTIAL
  MAXIMUM = 232
  MEAN = 90.7949
  MINIMUM = 7
  STANDARD_DEVIATION = 25.0329
END_OBJECT = IMAGE
/* MAP OBJECT DEFINITIONS */
OBJECT = IMAGE_MAP_PROJECTION
  ^DATA_SET_MAP_PROJECTION_CATALOG= "DSMAP.CAT"
  A_AXIS_RADIUS = 3396.0
  B_AXIS_RADIUS = 3396.0
  C_AXIS_RADIUS = 3396.0
  CENTER_LATITUDE = 0.0
  CENTER_LONGITUDE = 261.0
  COORDINATE_SYSTEM_NAME = PLANETOGRAPHIC
  COORDINATE_SYSTEM_TYPE = "BODY-FIXED ROTATING"
  EASTERNMOST_LONGITUDE = 263.197
  FIRST_STANDARD_PARALLEL = "N/A"
  LINE_FIRST_PIXEL = 1
  LINE_LAST_PIXEL = 12837
  LINE_PROJECTION_OFFSET = -15414.125
  MAP_PROJECTION_ROTATION = 0.0
  MAP_PROJECTION_TYPE = SINUSOIDAL
  MAP_RESOLUTION = 592.713803866667
  MAP_SCALE = 0.1
  MAXIMUM_LATITUDE = -26.0196
  MINIMUM_LATITUDE = -47.6561
  POSITIVE_LONGITUDE_DIRECTION = EAST
  REFERENCE_LATITUDE = "N/A"
  REFERENCE_LONGITUDE = "N/A"
  SAMPLE_FIRST_PIXEL = 1
  SAMPLE_LAST_PIXEL = 2316
  SAMPLE_PROJECTION_OFFSET = 1070.625
  SECOND_STANDARD_PARALLEL = "N/A"
  WESTERNMOST_LONGITUDE = 259.08
END_OBJECT = IMAGE_MAP_PROJECTION
/* The JPEG2000 image data file associated with this label. */
OBJECT = COMPRESSED_FILE
  FILE_NAME = "H0508_0000_GR3.JP2"
  RECORD_TYPE = UNDEFINED
  FILE_RECORDS = UNK
  ENCODING_TYPE = "JP2"
  INTERCHANGE_FORMAT = BINARY
  UNCOMPRESSED_FILE_NAME = "H0508_0000_GR3.IMG"
  REQUIRED_STORAGE_BYTES = "29753652"
  ^DESCRIPTION = "JP2INFO.TXT"
END_OBJECT = COMPRESSED_FILE
END
