PDS_VERSION_ID = PDS3
/* FILE DATA ELEMENTS */
RECORD_TYPE = STREAM
/* POINTERS TO DATA OBJECTS */
^COMPRESSED_FILE = "H0510_0000_ND3.JP2"
/* IDENTIFICATION DATA ELEMENTS */
DATA_SET_ID = "MEX-M-HRSC-5-REFDR-MAPPROJECTED-V3.0"
DATA_SET_NAME = "MARS EXPRESS HRSC MAP PROJECTED REFDR V3.0"
DETECTOR_ID = MEX_HRSC_NADIR
EVENT_TYPE = "MARS-REGIONAL-MAPPING-Fl-Lc-Mw"
INSTRUMENT_HOST_ID = MEX
INSTRUMENT_HOST_NAME = "MARS EXPRESS"
INSTRUMENT_ID = HRSC
INSTRUMENT_NAME = "HIGH RESOLUTION STEREO CAMERA"
MISSION_NAME = "MARS EXPRESS"
MISSION_PHASE_NAME = MR_Phase_1
PROCESSING_LEVEL_ID = 3
PRODUCT_CREATION_TIME = 2016-03-03T11:04:32.000Z
PRODUCT_ID = "H0510_0000_ND3.JP2"
RELEASE_ID = 0008
REVISION_ID = 0000
/* QUALITY DATA ELEMENTS */
DATA_QUALITY_ID = 1
DATA_QUALITY_DESC = "Data calculated based on original SPICE kernels"
/* TIME DATA ELEMENTS */
SPACECRAFT_CLOCK_START_COUNT = "1/0035300241.57304"
SPACECRAFT_CLOCK_STOP_COUNT = "1/0035300815.32546"
START_TIME = 2004-06-14T13:38:56.577Z
STOP_TIME = 2004-06-14T13:43:10.588Z
/* ORBITAL DATA ELEMENTS */
ASCENDING_NODE_LONGITUDE = 218.37
MAXIMUM_RESOLUTION = 34.5
FOOTPRINT_POINT_LATITUDE = (-35.1402,-35.1457,-35.1505,-35.1579, -35.1614,-35.1635,-35.1648,-35.1656, -35.1654,-35.1637,-35.1617,-34.8471, -34.431,-34.0104,-33.5859,-33.0495, -32.7245,-32.2878,-32.0555,-31.6121, -31.1638,-30.7113,-30.2542,-30.0239, -29.7925,-29.5598,-29.326,-29.0911, -28.8549,-28.6174,-28.3787,-28.1387, -27.8976,-27.655,-27.4115,-27.1667, -26.9205,-26.673,-26.4243,-26.1743, -25.9227,-25.67,-25.416,-25.1606, -24.9037,-24.6458,-24.3861,-24.125, -23.8626,-23.4132,-23.4303,-23.4406, -23.4556,-23.4628,-23.4694,-23.4753, -23.4813,-23.4865,-23.4903,-23.4948, -23.4992,-23.7607,-24.0209,-24.2798, -24.5372,-24.7933,-25.048,-25.3015, -25.5537,-25.8045,-26.0541,-26.3025, -26.5495,-26.7952,-27.0397,-27.2829, -27.5249,-27.7656,-28.0052,-28.2436, -28.4809,-28.7168,-28.9517,-29.1855, -29.4182,-29.6494,-29.8795,-30.3362, -30.7891,-31.2368,-31.6804,-32.1198, -32.3497,-32.7827,-33.2114,-33.6361, -33.9519,-34.3701,-34.7836,-35.1402)
FOOTPRINT_POINT_LONGITUDE = (62.8306,63.1177,63.4044,63.9417,64.3, 64.5864,64.8727,65.1589,65.5529,66.0195 ,66.3068,66.4437,66.4571,66.472,66.4869 ,66.5053,66.5159,66.5305,66.5386, 66.5531,66.5673,66.5814,66.5952,66.6019 ,66.6088,66.6153,66.6207,66.6251, 66.6301,66.6352,66.6384,66.6441,66.6496 ,66.6571,66.6628,66.6669,66.6743, 66.6804,66.6865,66.6923,66.6979,66.7043 ,66.7102,66.7171,66.7237,66.7246, 66.7323,66.7386,66.7442,66.665,66.1242, 65.7649,65.1809,64.8678,64.5542,64.2403 ,63.8813,63.5219,63.2101,62.7596, 62.1967,62.2152,62.2348,62.2502,62.2667 ,62.2825,62.2986,62.3144,62.3295, 62.3466,62.361,62.3739,62.3875,62.4046, 62.4166,62.43,62.4424,62.455,62.4676, 62.4806,62.4907,62.5025,62.5135,62.5247 ,62.5344,62.5427,62.551,62.568,62.586, 62.6032,62.6197,62.6359,62.644,62.6579, 62.6714,62.6838,62.6927,62.7041,62.7166 ,62.8306)
ORBIT_NUMBER = 510
ORBITAL_ECCENTRICITY = 0.573
ORBITAL_INCLINATION = 86.56
ORBITAL_SEMIMAJOR_AXIS = 8529.82
PERIAPSIS_ALTITUDE = 264.41
PERIAPSIS_ARGUMENT_ANGLE = 272.46
PERIAPSIS_TIME = 2004-06-14T13:24:37.000Z
SPACECRAFT_ORIENTATION = (0.0,-1.0,0.0)
^MEX_ORIENTATION_DESC = "MEX_ORIENTATION_DESC.TXT"
SPACECRAFT_POINTING_MODE = NADIR
^MEX_POINTING_DESC = "MEX_POINTING_DESC.TXT"
RIGHT_ASCENSION = -1e+32
DECLINATION = -1e+32
OFFSET_ANGLE = -1e+32
SPACECRAFT_SOLAR_DISTANCE = 2.4707e+08
TARGET_NAME = MARS
/* CAMERA DATA ELEMENTS */
DETECTOR_TEMPERATURE = 18.1666
FOCAL_PLANE_TEMPERATURE = 7.9716
INST_CMPRS_NAME = "DISCRETE COSINE TRANSFORMATION (DCT)"
INST_CMPRS_RATIO = 6.17727
INST_CMPRS_QUALITY = 0
INST_CMPRS_QUANTZ_TBL_ID = 0
INSTRUMENT_TEMPERATURE = 12.2535
LENS_TEMPERATURE = 8.3794
MACROPIXEL_SIZE = 1
MISSING_FRAMES = 4
PIXEL_SUBSAMPLING_FLAG = N
SIGNAL_CHAIN_ID = 0
/* RADIOMETRIC DATA ELEMENTS */
BANDWIDTH = 177.0
CENTER_FILTER_WAVELENGTH = 677.5
RADIANCE_OFFSET = 1.31257
RADIANCE_SCALING_FACTOR = 0.014848
REFLECTANCE_SCALING_FACTOR = 0.0004815
MEX:REFLECTANCE_OFFSET = 0.0425646
/* IMAGE OBJECT DEFINITIONS */
OBJECT = IMAGE
  INTERCHANGE_FORMAT = BINARY
  LINES = 27869
  LINE_SAMPLES = 10093
  SAMPLE_TYPE = UNSIGNED_INTEGER
  SAMPLE_BITS = 8
  BANDS = 1
  BAND_STORAGE_TYPE = BAND_SEQUENTIAL
  MAXIMUM = 138
  MEAN = 57.689
  MINIMUM = 22
  STANDARD_DEVIATION = 5.91679
END_OBJECT = IMAGE
/* MAP OBJECT DEFINITIONS */
OBJECT = IMAGE_MAP_PROJECTION
  ^DATA_SET_MAP_PROJECTION_CATALOG= "DSMAP.CAT"
  A_AXIS_RADIUS = 3396.0
  B_AXIS_RADIUS = 3396.0
  C_AXIS_RADIUS = 3396.0
  CENTER_LATITUDE = 0.0
  CENTER_LONGITUDE = 65.0
  COORDINATE_SYSTEM_NAME = PLANETOGRAPHIC
  COORDINATE_SYSTEM_TYPE = "BODY-FIXED ROTATING"
  EASTERNMOST_LONGITUDE = 66.74420000000001
  FIRST_STANDARD_PARALLEL = "N/A"
  LINE_FIRST_PIXEL = 1
  LINE_LAST_PIXEL = 27869
  LINE_PROJECTION_OFFSET = -55505.0
  MAP_PROJECTION_ROTATION = 0.0
  MAP_PROJECTION_TYPE = SINUSOIDAL
  MAP_RESOLUTION = 2370.85521546667
  MAP_SCALE = 0.025
  MAXIMUM_LATITUDE = -23.4132
  MINIMUM_LATITUDE = -35.1656
  POSITIVE_LONGITUDE_DIRECTION = EAST
  REFERENCE_LATITUDE = "N/A"
  REFERENCE_LONGITUDE = "N/A"
  SAMPLE_FIRST_PIXEL = 1
  SAMPLE_LAST_PIXEL = 10093
  SAMPLE_PROJECTION_OFFSET = 6188.0
  SECOND_STANDARD_PARALLEL = "N/A"
  WESTERNMOST_LONGITUDE = 62.1967
END_OBJECT = IMAGE_MAP_PROJECTION
/* The JPEG2000 image data file associated with this label. */
OBJECT = COMPRESSED_FILE
  FILE_NAME = "H0510_0000_ND3.JP2"
  RECORD_TYPE = UNDEFINED
  FILE_RECORDS = UNK
  ENCODING_TYPE = "JP2"
  INTERCHANGE_FORMAT = BINARY
  UNCOMPRESSED_FILE_NAME = "H0510_0000_ND3.IMG"
  REQUIRED_STORAGE_BYTES = "281312096"
  ^DESCRIPTION = "JP2INFO.TXT"
END_OBJECT = COMPRESSED_FILE
END
