PDS_VERSION_ID = PDS3
/* FILE DATA ELEMENTS */
RECORD_TYPE = STREAM
/* POINTERS TO DATA OBJECTS */
^COMPRESSED_FILE = "H0511_0000_P13.JP2"
/* IDENTIFICATION DATA ELEMENTS */
DATA_SET_ID = "MEX-M-HRSC-5-REFDR-MAPPROJECTED-V3.0"
DATA_SET_NAME = "MARS EXPRESS HRSC MAP PROJECTED REFDR V3.0"
DETECTOR_ID = MEX_HRSC_P1
EVENT_TYPE = "MARS-REGIONAL-MAPPING-Te-Im-Fl"
INSTRUMENT_HOST_ID = MEX
INSTRUMENT_HOST_NAME = "MARS EXPRESS"
INSTRUMENT_ID = HRSC
INSTRUMENT_NAME = "HIGH RESOLUTION STEREO CAMERA"
MISSION_NAME = "MARS EXPRESS"
MISSION_PHASE_NAME = MR_Phase_1
PROCESSING_LEVEL_ID = 3
PRODUCT_CREATION_TIME = 2016-03-03T11:04:32.000Z
PRODUCT_ID = "H0511_0000_P13.JP2"
RELEASE_ID = 0008
REVISION_ID = 0000
/* QUALITY DATA ELEMENTS */
DATA_QUALITY_ID = 1
DATA_QUALITY_DESC = "Data calculated based on original SPICE kernels"
/* TIME DATA ELEMENTS */
SPACECRAFT_CLOCK_START_COUNT = "1/0035324283.56182"
SPACECRAFT_CLOCK_STOP_COUNT = "1/0035325171.32870"
START_TIME = 2004-06-14T20:18:31.630Z
STOP_TIME = 2004-06-14T20:26:17.408Z
/* ORBITAL DATA ELEMENTS */
ASCENDING_NODE_LONGITUDE = 218.35
MAXIMUM_RESOLUTION = 50
FOOTPRINT_POINT_LATITUDE = (-44.7788,-44.8207,-44.8054,-44.0445, -43.4573,-42.8622,-42.262,-41.4484, -41.0387,-40.626,-39.9853,-39.5572, -39.1229,-38.6845,-38.2425,-37.7941, -37.3401,-36.8803,-36.4179,-35.9565, -35.4855,-35.0071,-34.5235,-34.034, -33.5391,-33.0381,-32.532,-32.0145, -31.5015,-30.9761,-30.4456,-29.9075, -29.3615,-28.8089,-28.2494,-27.6821, -27.1092,-26.5266,-25.9395,-25.3432, -24.7407,-24.1308,-23.5129,-22.888, -22.2464,-21.6018,-20.9477,-20.2829, -19.5443,-19.565,-19.5724,-19.5761, -19.5776,-19.5682,-19.8969,-20.5578, -21.2106,-21.8548,-22.4875,-23.1233, -23.7414,-24.3514,-24.954,-25.5487, -26.1349,-26.7144,-27.2791,-27.85, -28.4057,-29.2287,-29.7783,-30.3005, -30.8291,-31.6169,-32.129,-32.6306, -33.1317,-33.6303,-34.133,-34.6172, -35.0856,-35.5513,-36.0189,-36.4824, -36.9493,-37.402,-37.8487,-38.2918, -38.7303,-39.1645,-39.5946,-40.0202, -40.4409,-40.8587,-41.2705,-42.0855, -42.8841,-43.6556,-44.4219,-44.7788)
FOOTPRINT_POINT_LONGITUDE = (324.864,325.778,326.593,326.651, 326.695,326.738,326.779,326.832,326.857 ,326.882,326.921,326.946,326.971, 326.995,327.018,327.042,327.065,327.088 ,327.111,327.131,327.152,327.173, 327.193,327.213,327.233,327.253,327.272 ,327.292,327.308,327.326,327.343, 327.361,327.377,327.394,327.41,327.426, 327.441,327.456,327.47,327.484,327.497, 327.51,327.522,327.533,327.543,327.554, 327.564,327.575,327.332,326.564,326.096 ,325.456,324.514,323.566,323.184, 323.229,323.272,323.312,323.349,323.385 ,323.419,323.451,323.481,323.51,323.536 ,323.561,323.579,323.605,323.623, 323.649,323.671,323.677,323.691,323.714 ,323.723,323.729,323.737,323.746, 323.761,323.766,323.761,323.757,323.758 ,323.758,323.764,323.762,323.758, 323.753,323.748,323.742,323.735,323.728 ,323.719,323.711,323.7,323.679,323.654, 323.615,323.582,324.864)
ORBIT_NUMBER = 511
ORBITAL_ECCENTRICITY = 0.573
ORBITAL_INCLINATION = 86.57
ORBITAL_SEMIMAJOR_AXIS = 8529.28
PERIAPSIS_ALTITUDE = 265.04
PERIAPSIS_ARGUMENT_ANGLE = 272.29
PERIAPSIS_TIME = 2004-06-14T20:07:55.000Z
SPACECRAFT_ORIENTATION = (0.0,-1.0,0.0)
^MEX_ORIENTATION_DESC = "MEX_ORIENTATION_DESC.TXT"
SPACECRAFT_POINTING_MODE = ACROSSTRACK
^MEX_POINTING_DESC = "MEX_POINTING_DESC.TXT"
RIGHT_ASCENSION = -1e+32
DECLINATION = -1e+32
OFFSET_ANGLE = 0.65
SPACECRAFT_SOLAR_DISTANCE = 2.47092e+08
TARGET_NAME = MARS
/* CAMERA DATA ELEMENTS */
DETECTOR_TEMPERATURE = 17.5549
FOCAL_PLANE_TEMPERATURE = 8.5833
INST_CMPRS_NAME = "DISCRETE COSINE TRANSFORMATION (DCT)"
INST_CMPRS_RATIO = 9.649
INST_CMPRS_QUALITY = 0
INST_CMPRS_QUANTZ_TBL_ID = 0
INSTRUMENT_TEMPERATURE = 11.0301
LENS_TEMPERATURE = 8.9911
MACROPIXEL_SIZE = 2
MISSING_FRAMES = 1
PIXEL_SUBSAMPLING_FLAG = N
SIGNAL_CHAIN_ID = 3
/* RADIOMETRIC DATA ELEMENTS */
BANDWIDTH = 174.0
CENTER_FILTER_WAVELENGTH = 675.0
RADIANCE_OFFSET = 0.455353
RADIANCE_SCALING_FACTOR = 0.0151259
REFLECTANCE_SCALING_FACTOR = 0.00049674
MEX:REFLECTANCE_OFFSET = 0.0149539
/* IMAGE OBJECT DEFINITIONS */
OBJECT = IMAGE
  INTERCHANGE_FORMAT = BINARY
  LINES = 29955
  LINE_SAMPLES = 5600
  SAMPLE_TYPE = UNSIGNED_INTEGER
  SAMPLE_BITS = 8
  BANDS = 1
  BAND_STORAGE_TYPE = BAND_SEQUENTIAL
  MAXIMUM = 173
  MEAN = 73.5702
  MINIMUM = 13
  STANDARD_DEVIATION = 15.5267
END_OBJECT = IMAGE
/* MAP OBJECT DEFINITIONS */
OBJECT = IMAGE_MAP_PROJECTION
  ^DATA_SET_MAP_PROJECTION_CATALOG= "DSMAP.CAT"
  A_AXIS_RADIUS = 3396.0
  B_AXIS_RADIUS = 3396.0
  C_AXIS_RADIUS = 3396.0
  CENTER_LATITUDE = 0.0
  CENTER_LONGITUDE = 325.0
  COORDINATE_SYSTEM_NAME = PLANETOGRAPHIC
  COORDINATE_SYSTEM_TYPE = "BODY-FIXED ROTATING"
  EASTERNMOST_LONGITUDE = 327.575
  FIRST_STANDARD_PARALLEL = "N/A"
  LINE_FIRST_PIXEL = 1
  LINE_LAST_PIXEL = 29955
  LINE_PROJECTION_OFFSET = -23158.25
  MAP_PROJECTION_ROTATION = 0.0
  MAP_PROJECTION_TYPE = SINUSOIDAL
  MAP_RESOLUTION = 1185.42760773333
  MAP_SCALE = 0.05
  MAXIMUM_LATITUDE = -19.5443
  MINIMUM_LATITUDE = -44.8207
  POSITIVE_LONGITUDE_DIRECTION = EAST
  REFERENCE_LATITUDE = "N/A"
  REFERENCE_LONGITUDE = "N/A"
  SAMPLE_FIRST_PIXEL = 1
  SAMPLE_LAST_PIXEL = 5600
  SAMPLE_PROJECTION_OFFSET = 2415.25
  SECOND_STANDARD_PARALLEL = "N/A"
  WESTERNMOST_LONGITUDE = 323.184
END_OBJECT = IMAGE_MAP_PROJECTION
/* The JPEG2000 image data file associated with this label. */
OBJECT = COMPRESSED_FILE
  FILE_NAME = "H0511_0000_P13.JP2"
  RECORD_TYPE = UNDEFINED
  FILE_RECORDS = UNK
  ENCODING_TYPE = "JP2"
  INTERCHANGE_FORMAT = BINARY
  UNCOMPRESSED_FILE_NAME = "H0511_0000_P13.IMG"
  REQUIRED_STORAGE_BYTES = "167776000"
  ^DESCRIPTION = "JP2INFO.TXT"
END_OBJECT = COMPRESSED_FILE
END
