PDS_VERSION_ID = PDS3
/* FILE DATA ELEMENTS */
RECORD_TYPE = STREAM
/* POINTERS TO DATA OBJECTS */
^COMPRESSED_FILE = "H0515_0000_P13.JP2"
/* IDENTIFICATION DATA ELEMENTS */
DATA_SET_ID = "MEX-M-HRSC-5-REFDR-MAPPROJECTED-V3.0"
DATA_SET_NAME = "MARS EXPRESS HRSC MAP PROJECTED REFDR V3.0"
DETECTOR_ID = MEX_HRSC_P1
EVENT_TYPE = "MARS-REGIONAL-MAPPING-Te-Fl-Mw"
INSTRUMENT_HOST_ID = MEX
INSTRUMENT_HOST_NAME = "MARS EXPRESS"
INSTRUMENT_ID = HRSC
INSTRUMENT_NAME = "HIGH RESOLUTION STEREO CAMERA"
MISSION_NAME = "MARS EXPRESS"
MISSION_PHASE_NAME = MR_Phase_1
PROCESSING_LEVEL_ID = 3
PRODUCT_CREATION_TIME = 2016-03-03T11:04:32.000Z
PRODUCT_ID = "H0515_0000_P13.JP2"
RELEASE_ID = 0008
REVISION_ID = 0000
/* QUALITY DATA ELEMENTS */
DATA_QUALITY_ID = 1
DATA_QUALITY_DESC = "Data calculated based on original SPICE kernels"
/* TIME DATA ELEMENTS */
SPACECRAFT_CLOCK_START_COUNT = "1/0035421575.56183"
SPACECRAFT_CLOCK_STOP_COUNT = "1/0035423154.63866"
START_TIME = 2004-06-15T23:20:36.077Z
STOP_TIME = 2004-06-15T23:25:55.521Z
/* ORBITAL DATA ELEMENTS */
ASCENDING_NODE_LONGITUDE = 218.27
MAXIMUM_RESOLUTION = 105
FOOTPRINT_POINT_LATITUDE = (-17.1959,-17.1957,-17.1941,-17.1914, -17.1867,-17.1812,-17.1744,-17.1663, -17.1569,-17.1373,-17.1192,-16.8299, -16.5338,-16.2386,-15.9439,-15.6499, -15.3567,-15.0651,-14.7605,-14.4852, -14.197,-13.8893,-13.5798,-13.0364, -12.7308,-12.2846,-12.0052,-11.5999, -11.2126,-10.9403,-10.6624,-10.3854, -10.1121,-9.83648,-9.55904,-9.2848, -8.98852,-8.71765,-8.18259,-7.90197, -7.47336,-6.98239,-6.45017,-5.92099, -5.39475,-4.997,-4.47674,-3.83431, -3.32137,-3.26203,-3.29924,-3.32325, -3.342,-3.3769,-3.4012,-3.42178, -3.44571,-3.46532,-3.4803,-3.50677, -3.52103,-3.51308,-3.51473,-3.64197, -4.13541,-4.78502,-5.53351,-6.0438, -6.45182,-6.96623,-7.23977,-7.64557, -8.18166,-8.69969,-9.22284,-9.61404, -10.1438,-10.4135,-10.6885,-11.0979, -11.5107,-11.7854,-12.0665,-12.3553, -12.7768,-13.1923,-13.4699,-13.7702, -14.0719,-14.5004,-14.7863,-15.0735, -15.3614,-15.6503,-15.9396,-16.2298, -16.5204,-16.8125,-17.1055,-17.1959)
FOOTPRINT_POINT_LONGITUDE = (290.533,290.898,291.263,291.627, 292.036,292.399,292.762,293.124,293.486 ,294.12,294.618,294.721,294.723,294.724 ,294.726,294.728,294.73,294.731,294.738 ,294.733,294.734,294.742,294.751, 294.743,294.751,294.759,294.759,294.753 ,294.742,294.74,294.74,294.74,294.739, 294.739,294.739,294.739,294.747,294.746 ,294.743,294.746,294.754,294.737, 294.736,294.734,294.732,294.732,294.73, 294.726,294.723,294.365,293.826,293.466 ,293.168,292.63,292.213,291.855,291.377 ,290.958,290.598,289.938,289.517, 289.145,288.837,288.524,288.588,288.685 ,288.777,288.841,288.903,288.965, 289.004,289.06,289.128,289.184,289.239, 289.278,289.332,289.361,289.392,289.436 ,289.48,289.508,289.539,289.573,289.617 ,289.656,289.681,289.719,289.756, 289.797,289.824,289.85,289.876,289.902, 289.927,289.953,289.977,290.002,290.026 ,290.533)
ORBIT_NUMBER = 515
ORBITAL_ECCENTRICITY = 0.573
ORBITAL_INCLINATION = 86.55
ORBITAL_SEMIMAJOR_AXIS = 8530.17
PERIAPSIS_ALTITUDE = 264.93
PERIAPSIS_ARGUMENT_ANGLE = 271.59
PERIAPSIS_TIME = 2004-06-15T23:01:07.000Z
SPACECRAFT_ORIENTATION = (0.0,-1.0,0.0)
^MEX_ORIENTATION_DESC = "MEX_ORIENTATION_DESC.TXT"
SPACECRAFT_POINTING_MODE = ACROSSTRACK
^MEX_POINTING_DESC = "MEX_POINTING_DESC.TXT"
RIGHT_ASCENSION = -1e+32
DECLINATION = -1e+32
OFFSET_ANGLE = 0.33
SPACECRAFT_SOLAR_DISTANCE = 2.4718e+08
TARGET_NAME = MARS
/* CAMERA DATA ELEMENTS */
DETECTOR_TEMPERATURE = 17.351
FOCAL_PLANE_TEMPERATURE = 8.5833
INST_CMPRS_NAME = "DISCRETE COSINE TRANSFORMATION (DCT)"
INST_CMPRS_RATIO = 7.17803
INST_CMPRS_QUALITY = 0
INST_CMPRS_QUANTZ_TBL_ID = 0
INSTRUMENT_TEMPERATURE = 11.0301
LENS_TEMPERATURE = 8.7872
MACROPIXEL_SIZE = 2
MISSING_FRAMES = 0
PIXEL_SUBSAMPLING_FLAG = N
SIGNAL_CHAIN_ID = 3
/* RADIOMETRIC DATA ELEMENTS */
BANDWIDTH = 174.0
CENTER_FILTER_WAVELENGTH = 675.0
RADIANCE_OFFSET = 1.11102
RADIANCE_SCALING_FACTOR = 0.0307991
REFLECTANCE_SCALING_FACTOR = 0.00101217
MEX:REFLECTANCE_OFFSET = 0.0365122
/* IMAGE OBJECT DEFINITIONS */
OBJECT = IMAGE
  INTERCHANGE_FORMAT = BINARY
  LINES = 7113
  LINE_SAMPLES = 4139
  SAMPLE_TYPE = UNSIGNED_INTEGER
  SAMPLE_BITS = 8
  BANDS = 1
  BAND_STORAGE_TYPE = BAND_SEQUENTIAL
  MAXIMUM = 245
  MEAN = 115.836
  MINIMUM = 25
  STANDARD_DEVIATION = 31.2234
END_OBJECT = IMAGE
/* MAP OBJECT DEFINITIONS */
OBJECT = IMAGE_MAP_PROJECTION
  ^DATA_SET_MAP_PROJECTION_CATALOG= "DSMAP.CAT"
  A_AXIS_RADIUS = 3396.0
  B_AXIS_RADIUS = 3396.0
  C_AXIS_RADIUS = 3396.0
  CENTER_LATITUDE = 0.0
  CENTER_LONGITUDE = 292.0
  COORDINATE_SYSTEM_NAME = PLANETOGRAPHIC
  COORDINATE_SYSTEM_TYPE = "BODY-FIXED ROTATING"
  EASTERNMOST_LONGITUDE = 294.759
  FIRST_STANDARD_PARALLEL = "N/A"
  LINE_FIRST_PIXEL = 1
  LINE_LAST_PIXEL = 7113
  LINE_PROJECTION_OFFSET = -3141.25
  MAP_PROJECTION_ROTATION = 0.0
  MAP_PROJECTION_TYPE = SINUSOIDAL
  MAP_RESOLUTION = 592.713803866667
  MAP_SCALE = 0.1
  MAXIMUM_LATITUDE = -3.26203
  MINIMUM_LATITUDE = -17.1959
  POSITIVE_LONGITUDE_DIRECTION = EAST
  REFERENCE_LATITUDE = "N/A"
  REFERENCE_LONGITUDE = "N/A"
  SAMPLE_FIRST_PIXEL = 1
  SAMPLE_LAST_PIXEL = 4139
  SAMPLE_PROJECTION_OFFSET = 2229.25
  SECOND_STANDARD_PARALLEL = "N/A"
  WESTERNMOST_LONGITUDE = 288.524
END_OBJECT = IMAGE_MAP_PROJECTION
/* The JPEG2000 image data file associated with this label. */
OBJECT = COMPRESSED_FILE
  FILE_NAME = "H0515_0000_P13.JP2"
  RECORD_TYPE = UNDEFINED
  FILE_RECORDS = UNK
  ENCODING_TYPE = "JP2"
  INTERCHANGE_FORMAT = BINARY
  UNCOMPRESSED_FILE_NAME = "H0515_0000_P13.IMG"
  REQUIRED_STORAGE_BYTES = "29465541"
  ^DESCRIPTION = "JP2INFO.TXT"
END_OBJECT = COMPRESSED_FILE
END
