PDS_VERSION_ID = PDS3
/* FILE DATA ELEMENTS */
RECORD_TYPE = STREAM
/* POINTERS TO DATA OBJECTS */
^COMPRESSED_FILE = "H0522_0004_SR3.JP2"
/* IDENTIFICATION DATA ELEMENTS */
DATA_SET_ID = "MEX-M-HRSC-5-REFDR-MAPPROJECTED-V3.0"
DATA_SET_NAME = "MARS EXPRESS HRSC MAP PROJECTED REFDR V3.0"
DETECTOR_ID = MEX_HRSC_SRC
EVENT_TYPE = "MARS-GLOBAL-COLOR-Te-Fl-Mw"
INSTRUMENT_HOST_ID = MEX
INSTRUMENT_HOST_NAME = "MARS EXPRESS"
INSTRUMENT_ID = HRSC
INSTRUMENT_NAME = "HIGH RESOLUTION STEREO CAMERA"
MISSION_NAME = "MARS EXPRESS"
MISSION_PHASE_NAME = MR_Phase_1
PROCESSING_LEVEL_ID = 3
PRODUCT_CREATION_TIME = 2016-03-03T11:04:32.000Z
PRODUCT_ID = "H0522_0004_SR3.JP2"
RELEASE_ID = 0008
REVISION_ID = 0000
/* QUALITY DATA ELEMENTS */
DATA_QUALITY_ID = 1
DATA_QUALITY_DESC = "Data calculated based on original SPICE kernels"
/* TIME DATA ELEMENTS */
SPACECRAFT_CLOCK_START_COUNT = "1/0035591101.57305"
SPACECRAFT_CLOCK_STOP_COUNT = "1/0035592046.33087"
IMAGE_TIME = 2004-06-17T22:29:46.400Z
START_TIME = 2004-06-17T22:29:46.398Z
STOP_TIME = 2004-06-17T22:29:46.403Z
/* ORBITAL DATA ELEMENTS */
ASCENDING_NODE_LONGITUDE = 218.12
MAXIMUM_RESOLUTION = 16.71
FOOTPRINT_POINT_LATITUDE = (-9.56968,-9.58715,-9.59701,-9.60547, -9.61364,-9.62407,-9.63337,-9.64183, -9.65479,-9.67227,-9.68326,-9.69171, -9.70327,-9.71849,-9.72892,-9.73765, -9.74949,-9.76752,-9.78161,-9.79204, -9.80331,-9.81261,-9.82642,-9.83967, -9.85124,-9.85178,-9.85247,-9.85317, -9.85386,-9.85456,-9.85525,-9.85594, -9.85664,-9.85733,-9.85802,-9.85872, -9.85941,-9.8601,-9.86079,-9.86148, -9.86217,-9.86286,-9.86355,-9.86424, -9.86493,-9.86562,-9.86631,-9.86699, -9.86768,-9.86837,-9.85951,-9.84767, -9.83978,-9.82992,-9.81272,-9.80229, -9.7882,-9.77664,-9.76142,-9.75184, -9.74197,-9.73408,-9.72478,-9.71182, -9.69603,-9.68391,-9.67236,-9.66418, -9.65544,-9.64502,-9.63149,-9.62331, -9.61091,-9.59682,-9.58479,-9.5841, -9.58342,-9.58273,-9.58204,-9.58136, -9.58067,-9.57998,-9.57929,-9.5786, -9.57791,-9.57722,-9.57653,-9.57584, -9.57515,-9.57446,-9.57377,-9.57308, -9.57238,-9.57169,-9.571,-9.5703, -9.56961,-9.56892,-9.56822,-9.56968)
FOOTPRINT_POINT_LONGITUDE = (324.259,324.26,324.261,324.261,324.262 ,324.262,324.263,324.264,324.264, 324.265,324.266,324.267,324.267,324.268 ,324.269,324.27,324.27,324.271,324.272, 324.273,324.274,324.274,324.275,324.276 ,324.276,324.268,324.256,324.245, 324.233,324.222,324.211,324.199,324.188 ,324.176,324.165,324.153,324.142,324.13 ,324.119,324.108,324.096,324.085, 324.073,324.062,324.05,324.039,324.028, 324.016,324.005,323.993,323.985,323.984 ,323.984,323.983,323.982,323.982, 323.981,323.98,323.979,323.979,323.978, 323.977,323.977,323.976,323.975,323.974 ,323.974,323.973,323.973,323.972, 323.971,323.971,323.97,323.969,323.971, 323.983,323.994,324.006,324.017,324.029 ,324.04,324.051,324.063,324.074,324.086 ,324.097,324.109,324.12,324.131,324.143 ,324.154,324.166,324.177,324.189,324.2, 324.211,324.223,324.234,324.246, 324.259)
ORBIT_NUMBER = 522
ORBITAL_ECCENTRICITY = 0.573
ORBITAL_INCLINATION = 86.57
ORBITAL_SEMIMAJOR_AXIS = 8529.39
PERIAPSIS_ALTITUDE = 265.19
PERIAPSIS_ARGUMENT_ANGLE = 270.37
PERIAPSIS_TIME = 2004-06-17T22:04:11.000Z
SPACECRAFT_ORIENTATION = (0.0,-1.0,0.0)
^MEX_ORIENTATION_DESC = "MEX_ORIENTATION_DESC.TXT"
SPACECRAFT_POINTING_MODE = NADIR
^MEX_POINTING_DESC = "MEX_POINTING_DESC.TXT"
RIGHT_ASCENSION = -1e+32
DECLINATION = -1e+32
OFFSET_ANGLE = -1e+32
SPACECRAFT_SOLAR_DISTANCE = 2.47329e+08
TARGET_NAME = MARS
/* CAMERA DATA ELEMENTS */
BUFFER_MODE_ID = BUFFER_8
EXPOSURE_DURATION = 5.04
INST_CMPRS_NAME = NONE
INST_CMPRS_RATIO = 1.0
INST_CMPRS_QUALITY = -2147483648
INST_CMPRS_QUANTZ_TBL_ID = -2147483648
INSTRUMENT_TEMPERATURE = 11.2121
MISSING_FRAMES = 0
START_BIT = 0
/* RADIOMETRIC DATA ELEMENTS */
BANDWIDTH = 250.0
CENTER_FILTER_WAVELENGTH = 600.0
RADIANCE_OFFSET = -9.99e+31
RADIANCE_SCALING_FACTOR = -9.99e+31
REFLECTANCE_SCALING_FACTOR = -9.99e+31
MEX:REFLECTANCE_OFFSET = -9.99e+31
/* IMAGE OBJECT DEFINITIONS */
OBJECT = IMAGE
  INTERCHANGE_FORMAT = BINARY
  LINES = 934
  LINE_SAMPLES = 941
  SAMPLE_TYPE = UNSIGNED_INTEGER
  SAMPLE_BITS = 8
  BANDS = 1
  BAND_STORAGE_TYPE = BAND_SEQUENTIAL
  MAXIMUM = 3751
  MEAN = 3053.64
  MINIMUM = 2363
  STANDARD_DEVIATION = 159.269
END_OBJECT = IMAGE
/* MAP OBJECT DEFINITIONS */
OBJECT = IMAGE_MAP_PROJECTION
  ^DATA_SET_MAP_PROJECTION_CATALOG= "DSMAP.CAT"
  A_AXIS_RADIUS = 3396.19
  B_AXIS_RADIUS = 3396.19
  C_AXIS_RADIUS = 3396.19
  CENTER_LATITUDE = 0.0
  CENTER_LONGITUDE = 324.0
  COORDINATE_SYSTEM_NAME = PLANETOGRAPHIC
  COORDINATE_SYSTEM_TYPE = "BODY-FIXED ROTATING"
  EASTERNMOST_LONGITUDE = 324.276
  FIRST_STANDARD_PARALLEL = "N/A"
  LINE_FIRST_PIXEL = 1
  LINE_LAST_PIXEL = 934
  LINE_PROJECTION_OFFSET = -28334.0
  MAP_PROJECTION_ROTATION = 0.0
  MAP_PROJECTION_TYPE = SINUSOIDAL
  MAP_RESOLUTION = 2963.73482560944
  MAP_SCALE = 0.02
  MAXIMUM_LATITUDE = -9.56822
  MINIMUM_LATITUDE = -9.868370000000001
  POSITIVE_LONGITUDE_DIRECTION = EAST
  REFERENCE_LATITUDE = "N/A"
  REFERENCE_LONGITUDE = "N/A"
  SAMPLE_FIRST_PIXEL = 1
  SAMPLE_LAST_PIXEL = 941
  SAMPLE_PROJECTION_OFFSET = 112.0
  SECOND_STANDARD_PARALLEL = "N/A"
  WESTERNMOST_LONGITUDE = 323.969
END_OBJECT = IMAGE_MAP_PROJECTION
/* The JPEG2000 image data file associated with this label. */
OBJECT = COMPRESSED_FILE
  FILE_NAME = "H0522_0004_SR3.JP2"
  RECORD_TYPE = UNDEFINED
  FILE_RECORDS = UNK
  ENCODING_TYPE = "JP2"
  INTERCHANGE_FORMAT = BINARY
  UNCOMPRESSED_FILE_NAME = "H0522_0004_SR3.IMG"
  REQUIRED_STORAGE_BYTES = "896773"
  ^DESCRIPTION = "JP2INFO.TXT"
END_OBJECT = COMPRESSED_FILE
END
