PDS_VERSION_ID = PDS3
/* FILE DATA ELEMENTS */
RECORD_TYPE = STREAM
/* POINTERS TO DATA OBJECTS */
^COMPRESSED_FILE = "H0530_0000_IR3.JP2"
/* IDENTIFICATION DATA ELEMENTS */
DATA_SET_ID = "MEX-M-HRSC-5-REFDR-MAPPROJECTED-V3.0"
DATA_SET_NAME = "MARS EXPRESS HRSC MAP PROJECTED REFDR V3.0"
DETECTOR_ID = MEX_HRSC_IR
EVENT_TYPE = "MARS-REGIONAL-MAPPING-Vo-Te-Fl"
INSTRUMENT_HOST_ID = MEX
INSTRUMENT_HOST_NAME = "MARS EXPRESS"
INSTRUMENT_ID = HRSC
INSTRUMENT_NAME = "HIGH RESOLUTION STEREO CAMERA"
MISSION_NAME = "MARS EXPRESS"
MISSION_PHASE_NAME = MR_Phase_1
PROCESSING_LEVEL_ID = 3
PRODUCT_CREATION_TIME = 2016-03-03T11:04:32.000Z
PRODUCT_ID = "H0530_0000_IR3.JP2"
RELEASE_ID = 0008
REVISION_ID = 0000
/* QUALITY DATA ELEMENTS */
DATA_QUALITY_ID = 1
DATA_QUALITY_DESC = "Data calculated based on original SPICE kernels"
/* TIME DATA ELEMENTS */
SPACECRAFT_CLOCK_START_COUNT = "1/0035784151.56199"
SPACECRAFT_CLOCK_STOP_COUNT = "1/0035784953.62758"
START_TIME = 2004-06-20T04:02:52.297Z
STOP_TIME = 2004-06-20T04:08:43.388Z
/* ORBITAL DATA ELEMENTS */
ASCENDING_NODE_LONGITUDE = 217.95
MAXIMUM_RESOLUTION = 119.1
FOOTPRINT_POINT_LATITUDE = (-41.5415,-41.56,-41.5821,-41.5887, -41.4166,-40.8022,-40.4805,-40.0005, -39.6802,-39.3563,-39.03,-38.7022, -38.3728,-38.042,-37.7086,-37.3729, -37.0348,-36.6898,-36.3428,-35.9935, -35.4692,-34.9343,-34.5748,-34.2141, -33.8465,-33.4762,-33.102,-32.7235, -32.3424,-31.9589,-31.5725,-31.1828, -30.5546,-30.1563,-29.7585,-29.3496, -28.9435,-28.5268,-28.1106,-27.4842, -26.8327,-26.1755,-25.7368,-25.0092, -24.5596,-24.1058,-23.6478,-23.1849, -22.7174,-22.4441,-22.466,-22.4823, -22.4912,-22.4995,-22.5006,-22.4972, -22.7298,-23.192,-23.6504,-24.1044, -24.555,-25.0011,-25.7225,-26.1578, -26.5904,-27.018,-27.4419,-27.8626, -28.2781,-28.8984,-29.3041,-29.9087, -30.5025,-30.9318,-31.3216,-31.7071, -32.0908,-32.4686,-32.8434,-33.2115, -33.5816,-34.1298,-34.4912,-34.851, -35.3898,-35.7381,-36.0881,-36.4349, -36.7792,-37.1191,-37.4572,-37.795, -38.1262,-38.4513,-38.7743,-39.4143, -40.2132,-40.836,-41.2994,-41.5415)
FOOTPRINT_POINT_LONGITUDE = (257.238,257.823,258.808,259.301, 259.975,260.0,260.018,260.041,260.055, 260.069,260.082,260.096,260.108,260.12, 260.132,260.143,260.153,260.166,260.178 ,260.189,260.204,260.22,260.23,260.24, 260.25,260.26,260.271,260.281,260.291, 260.301,260.31,260.319,260.333,260.341, 260.348,260.357,260.363,260.372,260.379 ,260.387,260.4,260.412,260.418,260.427, 260.432,260.437,260.442,260.447,260.451 ,260.169,259.511,258.856,258.365, 257.546,257.055,256.399,256.072,256.103 ,256.132,256.16,256.188,256.214,256.255 ,256.279,256.303,256.325,256.346, 256.367,256.386,256.416,256.433,256.458 ,256.481,256.497,256.511,256.524, 256.537,256.548,256.559,256.567,256.577 ,256.591,256.599,256.607,256.619, 256.624,256.63,256.635,256.64,256.643, 256.647,256.651,256.652,256.652,256.652 ,256.65,256.649,256.645,256.641, 257.238)
ORBIT_NUMBER = 530
ORBITAL_ECCENTRICITY = 0.573
ORBITAL_INCLINATION = 86.56
ORBITAL_SEMIMAJOR_AXIS = 8530.17
PERIAPSIS_ALTITUDE = 264.48
PERIAPSIS_ARGUMENT_ANGLE = 268.95
PERIAPSIS_TIME = 2004-06-20T03:50:35.000Z
SPACECRAFT_ORIENTATION = (0.0,-1.0,0.0)
^MEX_ORIENTATION_DESC = "MEX_ORIENTATION_DESC.TXT"
SPACECRAFT_POINTING_MODE = NADIR
^MEX_POINTING_DESC = "MEX_POINTING_DESC.TXT"
RIGHT_ASCENSION = -1e+32
DECLINATION = -1e+32
OFFSET_ANGLE = -1e+32
SPACECRAFT_SOLAR_DISTANCE = 2.47492e+08
TARGET_NAME = MARS
/* CAMERA DATA ELEMENTS */
DETECTOR_TEMPERATURE = 17.1471
FOCAL_PLANE_TEMPERATURE = 7.7677
INST_CMPRS_NAME = "DISCRETE COSINE TRANSFORMATION (DCT)"
INST_CMPRS_RATIO = 8.06102
INST_CMPRS_QUALITY = 0
INST_CMPRS_QUANTZ_TBL_ID = 0
INSTRUMENT_TEMPERATURE = 10.8262
LENS_TEMPERATURE = 7.9716
MACROPIXEL_SIZE = 4
MISSING_FRAMES = 5
PIXEL_SUBSAMPLING_FLAG = N
SIGNAL_CHAIN_ID = 2
/* RADIOMETRIC DATA ELEMENTS */
BANDWIDTH = 81.0
CENTER_FILTER_WAVELENGTH = 955.5
RADIANCE_OFFSET = 0.113181
RADIANCE_SCALING_FACTOR = 0.00525221
REFLECTANCE_SCALING_FACTOR = 0.000694057
MEX:REFLECTANCE_OFFSET = 0.0149564
/* IMAGE OBJECT DEFINITIONS */
OBJECT = IMAGE
  INTERCHANGE_FORMAT = BINARY
  LINES = 11361
  LINE_SAMPLES = 2847
  SAMPLE_TYPE = UNSIGNED_INTEGER
  SAMPLE_BITS = 8
  BANDS = 1
  BAND_STORAGE_TYPE = BAND_SEQUENTIAL
  MAXIMUM = 181
  MEAN = 52.5988
  MINIMUM = 9
  STANDARD_DEVIATION = 19.4554
END_OBJECT = IMAGE
/* MAP OBJECT DEFINITIONS */
OBJECT = IMAGE_MAP_PROJECTION
  ^DATA_SET_MAP_PROJECTION_CATALOG= "DSMAP.CAT"
  A_AXIS_RADIUS = 3396.0
  B_AXIS_RADIUS = 3396.0
  C_AXIS_RADIUS = 3396.0
  CENTER_LATITUDE = 0.0
  CENTER_LONGITUDE = 258.0
  COORDINATE_SYSTEM_NAME = PLANETOGRAPHIC
  COORDINATE_SYSTEM_TYPE = "BODY-FIXED ROTATING"
  EASTERNMOST_LONGITUDE = 260.451
  FIRST_STANDARD_PARALLEL = "N/A"
  LINE_FIRST_PIXEL = 1
  LINE_LAST_PIXEL = 11361
  LINE_PROJECTION_OFFSET = -13270.875
  MAP_PROJECTION_ROTATION = 0.0
  MAP_PROJECTION_TYPE = SINUSOIDAL
  MAP_RESOLUTION = 592.713803866667
  MAP_SCALE = 0.1
  MAXIMUM_LATITUDE = -22.4441
  MINIMUM_LATITUDE = -41.5887
  POSITIVE_LONGITUDE_DIRECTION = EAST
  REFERENCE_LATITUDE = "N/A"
  REFERENCE_LONGITUDE = "N/A"
  SAMPLE_FIRST_PIXEL = 1
  SAMPLE_LAST_PIXEL = 2847
  SAMPLE_PROJECTION_OFFSET = 1300.375
  SECOND_STANDARD_PARALLEL = "N/A"
  WESTERNMOST_LONGITUDE = 256.072
END_OBJECT = IMAGE_MAP_PROJECTION
/* The JPEG2000 image data file associated with this label. */
OBJECT = COMPRESSED_FILE
  FILE_NAME = "H0530_0000_IR3.JP2"
  RECORD_TYPE = UNDEFINED
  FILE_RECORDS = UNK
  ENCODING_TYPE = "JP2"
  INTERCHANGE_FORMAT = BINARY
  UNCOMPRESSED_FILE_NAME = "H0530_0000_IR3.IMG"
  REQUIRED_STORAGE_BYTES = "32367543"
  ^DESCRIPTION = "JP2INFO.TXT"
END_OBJECT = COMPRESSED_FILE
END
