PDS_VERSION_ID = PDS3
/* FILE DATA ELEMENTS */
RECORD_TYPE = STREAM
/* POINTERS TO DATA OBJECTS */
^COMPRESSED_FILE = "H0532_0000_RE3.JP2"
/* IDENTIFICATION DATA ELEMENTS */
DATA_SET_ID = "MEX-M-HRSC-5-REFDR-MAPPROJECTED-V3.0"
DATA_SET_NAME = "MARS EXPRESS HRSC MAP PROJECTED REFDR V3.0"
DETECTOR_ID = MEX_HRSC_RED
EVENT_TYPE = "MARS-REGIONAL-MAPPING-Fl-Lc-Mw"
INSTRUMENT_HOST_ID = MEX
INSTRUMENT_HOST_NAME = "MARS EXPRESS"
INSTRUMENT_ID = HRSC
INSTRUMENT_NAME = "HIGH RESOLUTION STEREO CAMERA"
MISSION_NAME = "MARS EXPRESS"
MISSION_PHASE_NAME = MR_Phase_1
PROCESSING_LEVEL_ID = 3
PRODUCT_CREATION_TIME = 2016-03-03T11:04:32.000Z
PRODUCT_ID = "H0532_0000_RE3.JP2"
RELEASE_ID = 0008
REVISION_ID = 0000
/* QUALITY DATA ELEMENTS */
DATA_QUALITY_ID = 1
DATA_QUALITY_DESC = "Data calculated based on original SPICE kernels"
/* TIME DATA ELEMENTS */
SPACECRAFT_CLOCK_START_COUNT = "1/0035832649.57285"
SPACECRAFT_CLOCK_STOP_COUNT = "1/0035834442.46305"
START_TIME = 2004-06-20T17:34:31.453Z
STOP_TIME = 2004-06-20T17:54:45.895Z
/* ORBITAL DATA ELEMENTS */
ASCENDING_NODE_LONGITUDE = 217.9
MAXIMUM_RESOLUTION = 186.4
FOOTPRINT_POINT_LATITUDE = (-35.8727,-35.8685,-35.8587,-35.8502, -35.9206,-35.3099,-34.3801,-33.7558, -33.1128,-32.4658,-31.8142,-31.1569, -30.4863,-29.8061,-28.7533,-28.0581, -26.9924,-25.9104,-24.8044,-24.0713, -22.9761,-22.2703,-21.5801,-20.5703, -19.5871,-18.9465,-18.3198,-17.7086, -17.1091,-16.5217,-15.9478,-15.389, -14.8401,-14.301,-13.774,-13.257, -12.2534,-11.2965,-10.3725,-9.48703, -8.63448,-8.01394,-7.21979,-6.54235, -6.59935,-6.6835,-6.75826,-6.81651, -6.87106,-6.92249,-7.01216,-7.10654, -7.21244,-7.27934,-7.39074,-7.50608, -7.62893,-7.70745,-7.99754,-8.69627, -9.4227,-10.1869,-11.2119,-12.0536, -12.9449,-13.8794,-14.854,-15.3522, -15.8672,-16.3987,-16.9419,-17.4833, -18.0507,-18.635,-19.2278,-19.8377, -20.4615,-21.1028,-21.7512,-22.4169, -23.0961,-23.785,-24.5065,-25.5812, -26.2889,-26.9878,-27.6797,-28.7068, -29.3976,-30.0841,-30.749,-31.4044, -32.0549,-32.6962,-33.3296,-33.956, -34.5742,-35.1842,-35.7882,-35.8727)
FOOTPRINT_POINT_LONGITUDE = (60.6356,61.4776,62.6285,63.3373,64.235 ,64.2712,64.3259,64.3649,64.399,64.4348 ,64.4727,64.5119,64.5491,64.5859, 64.6337,64.6745,64.7331,64.795,64.8566, 64.9054,64.9714,65.0177,65.0644,65.1339 ,65.2012,65.2453,65.2899,65.336,65.3818 ,65.4278,65.4749,65.5238,65.5723, 65.6205,65.6696,65.7187,65.8177,65.9215 ,66.0244,66.1298,66.2358,66.3149, 66.4241,66.5276,65.7175,64.705,63.9006, 63.2996,62.801,62.3015,61.5043,60.8083, 59.9105,59.4118,58.613,57.8132,57.0096, 56.5056,55.8079,55.9849,56.1636,56.3416 ,56.5595,56.739,56.9156,57.0912,57.267, 57.3562,57.4436,57.5294,57.6149,57.7042 ,57.789,57.8721,57.9561,58.0382,58.1196 ,58.1991,58.2801,58.3592,58.4379, 58.5175,58.5899,58.6988,58.7668,58.8318 ,58.8935,58.9786,59.0256,59.068,59.1132 ,59.1566,59.1961,59.2338,59.269,59.3018 ,59.3327,59.3615,59.3876,60.6356)
ORBIT_NUMBER = 532
ORBITAL_ECCENTRICITY = 0.573
ORBITAL_INCLINATION = 86.56
ORBITAL_SEMIMAJOR_AXIS = 8529.58
PERIAPSIS_ALTITUDE = 264.47
PERIAPSIS_ARGUMENT_ANGLE = 268.62
PERIAPSIS_TIME = 2004-06-20T17:17:11.000Z
SPACECRAFT_ORIENTATION = (0.0,-1.0,0.0)
^MEX_ORIENTATION_DESC = "MEX_ORIENTATION_DESC.TXT"
SPACECRAFT_POINTING_MODE = NADIR
^MEX_POINTING_DESC = "MEX_POINTING_DESC.TXT"
RIGHT_ASCENSION = -1e+32
DECLINATION = -1e+32
OFFSET_ANGLE = -1e+32
SPACECRAFT_SOLAR_DISTANCE = 2.47532e+08
TARGET_NAME = MARS
/* CAMERA DATA ELEMENTS */
DETECTOR_TEMPERATURE = 18.3705
FOCAL_PLANE_TEMPERATURE = 6.7482
INST_CMPRS_NAME = "DISCRETE COSINE TRANSFORMATION (DCT)"
INST_CMPRS_RATIO = 10.2189
INST_CMPRS_QUALITY = 0
INST_CMPRS_QUANTZ_TBL_ID = 0
INSTRUMENT_TEMPERATURE = 10.8262
LENS_TEMPERATURE = 7.9716
MACROPIXEL_SIZE = 4
MISSING_FRAMES = 0
PIXEL_SUBSAMPLING_FLAG = N
SIGNAL_CHAIN_ID = 2
/* RADIOMETRIC DATA ELEMENTS */
BANDWIDTH = 48.0
CENTER_FILTER_WAVELENGTH = 748.0
RADIANCE_OFFSET = 0.333392
RADIANCE_SCALING_FACTOR = 0.00459273
REFLECTANCE_SCALING_FACTOR = 0.000642186
MEX:REFLECTANCE_OFFSET = 0.0466171
/* IMAGE OBJECT DEFINITIONS */
OBJECT = IMAGE
  INTERCHANGE_FORMAT = BINARY
  LINES = 8627
  LINE_SAMPLES = 2146
  SAMPLE_TYPE = UNSIGNED_INTEGER
  SAMPLE_BITS = 8
  BANDS = 1
  BAND_STORAGE_TYPE = BAND_SEQUENTIAL
  MAXIMUM = 189
  MEAN = 96.4328
  MINIMUM = 36
  STANDARD_DEVIATION = 12.7292
END_OBJECT = IMAGE
/* MAP OBJECT DEFINITIONS */
OBJECT = IMAGE_MAP_PROJECTION
  ^DATA_SET_MAP_PROJECTION_CATALOG= "DSMAP.CAT"
  A_AXIS_RADIUS = 3396.0
  B_AXIS_RADIUS = 3396.0
  C_AXIS_RADIUS = 3396.0
  CENTER_LATITUDE = 0.0
  CENTER_LONGITUDE = 62.0
  COORDINATE_SYSTEM_NAME = PLANETOGRAPHIC
  COORDINATE_SYSTEM_TYPE = "BODY-FIXED ROTATING"
  EASTERNMOST_LONGITUDE = 66.52760000000001
  FIRST_STANDARD_PARALLEL = "N/A"
  LINE_FIRST_PIXEL = 1
  LINE_LAST_PIXEL = 8627
  LINE_PROJECTION_OFFSET = -2005.875
  MAP_PROJECTION_ROTATION = 0.0
  MAP_PROJECTION_TYPE = SINUSOIDAL
  MAP_RESOLUTION = 296.356901933333
  MAP_SCALE = 0.2
  MAXIMUM_LATITUDE = -6.54235
  MINIMUM_LATITUDE = -35.9206
  POSITIVE_LONGITUDE_DIRECTION = EAST
  REFERENCE_LATITUDE = "N/A"
  REFERENCE_LONGITUDE = "N/A"
  SAMPLE_FIRST_PIXEL = 1
  SAMPLE_LAST_PIXEL = 2146
  SAMPLE_PROJECTION_OFFSET = 1426.625
  SECOND_STANDARD_PARALLEL = "N/A"
  WESTERNMOST_LONGITUDE = 55.8079
END_OBJECT = IMAGE_MAP_PROJECTION
/* The JPEG2000 image data file associated with this label. */
OBJECT = COMPRESSED_FILE
  FILE_NAME = "H0532_0000_RE3.JP2"
  RECORD_TYPE = UNDEFINED
  FILE_RECORDS = UNK
  ENCODING_TYPE = "JP2"
  INTERCHANGE_FORMAT = BINARY
  UNCOMPRESSED_FILE_NAME = "H0532_0000_RE3.IMG"
  REQUIRED_STORAGE_BYTES = "18535002"
  ^DESCRIPTION = "JP2INFO.TXT"
END_OBJECT = COMPRESSED_FILE
END
