PDS_VERSION_ID = PDS3
/* FILE DATA ELEMENTS */
RECORD_TYPE = STREAM
/* POINTERS TO DATA OBJECTS */
^COMPRESSED_FILE = "H0532_0002_SR3.JP2"
/* IDENTIFICATION DATA ELEMENTS */
DATA_SET_ID = "MEX-M-HRSC-5-REFDR-MAPPROJECTED-V3.0"
DATA_SET_NAME = "MARS EXPRESS HRSC MAP PROJECTED REFDR V3.0"
DETECTOR_ID = MEX_HRSC_SRC
EVENT_TYPE = "MARS-REGIONAL-MAPPING-Fl-Lc-Mw"
INSTRUMENT_HOST_ID = MEX
INSTRUMENT_HOST_NAME = "MARS EXPRESS"
INSTRUMENT_ID = HRSC
INSTRUMENT_NAME = "HIGH RESOLUTION STEREO CAMERA"
MISSION_NAME = "MARS EXPRESS"
MISSION_PHASE_NAME = MR_Phase_1
PROCESSING_LEVEL_ID = 3
PRODUCT_CREATION_TIME = 2016-03-03T11:04:32.000Z
PRODUCT_ID = "H0532_0002_SR3.JP2"
RELEASE_ID = 0008
REVISION_ID = 0000
/* QUALITY DATA ELEMENTS */
DATA_QUALITY_ID = 1
DATA_QUALITY_DESC = "Data calculated based on original SPICE kernels"
/* TIME DATA ELEMENTS */
SPACECRAFT_CLOCK_START_COUNT = "1/0035832649.57285"
SPACECRAFT_CLOCK_STOP_COUNT = "1/0035834442.46305"
IMAGE_TIME = 2004-06-20T17:32:58.512Z
START_TIME = 2004-06-20T17:32:58.510Z
STOP_TIME = 2004-06-20T17:32:58.515Z
/* ORBITAL DATA ELEMENTS */
ASCENDING_NODE_LONGITUDE = 217.9
MAXIMUM_RESOLUTION = 8.928
FOOTPRINT_POINT_LATITUDE = (-34.6464,-34.6537,-34.662,-34.6693, -34.6735,-34.681,-34.6886,-34.695, -34.6996,-34.706,-34.7107,-34.7184, -34.7229,-34.729,-34.7379,-34.743, -34.7482,-34.7523,-34.7579,-34.7629, -34.7689,-34.7777,-34.7843,-34.7893, -34.7936,-34.7976,-34.7976,-34.7976, -34.7976,-34.7976,-34.7976,-34.7976, -34.7976,-34.7976,-34.7976,-34.7976, -34.7975,-34.7975,-34.7975,-34.7975, -34.7975,-34.7975,-34.7975,-34.7974, -34.7974,-34.7974,-34.7974,-34.7974, -34.7974,-34.7974,-34.7925,-34.7875, -34.7833,-34.7772,-34.773,-34.7676, -34.7599,-34.7546,-34.7499,-34.7455, -34.7387,-34.7296,-34.7218,-34.716, -34.7071,-34.7009,-34.6935,-34.6867, -34.6772,-34.6716,-34.6637,-34.6549, -34.6493,-34.6451,-34.6451,-34.6451, -34.6451,-34.6452,-34.6452,-34.6452, -34.6452,-34.6452,-34.6452,-34.6452, -34.6453,-34.6453,-34.6453,-34.6453, -34.6453,-34.6453,-34.6453,-34.6453, -34.6453,-34.6453,-34.6453,-34.6453, -34.6453,-34.6454,-34.6454,-34.6464)
FOOTPRINT_POINT_LONGITUDE = (61.8537,61.8537,61.8537,61.8537, 61.8537,61.8537,61.8537,61.8537,61.8537 ,61.8537,61.8537,61.8536,61.8536, 61.8536,61.8536,61.8536,61.8536,61.8536 ,61.8536,61.8536,61.8536,61.8536, 61.8536,61.8536,61.8536,61.8479,61.8405 ,61.835,61.8258,61.8202,61.811,61.8018, 61.7945,61.7871,61.7797,61.7724,61.765, 61.7576,61.7503,61.7429,61.7355,61.7282 ,61.7208,61.7134,61.7061,61.6987, 61.6914,61.684,61.6766,61.6693,61.6663, 61.6663,61.6664,61.6664,61.6664,61.6664 ,61.6664,61.6664,61.6665,61.6665, 61.6665,61.6665,61.6666,61.6666,61.6666 ,61.6666,61.6666,61.6667,61.6667, 61.6667,61.6667,61.6668,61.6668,61.6707 ,61.678,61.6854,61.6927,61.7001,61.7074 ,61.7148,61.7221,61.7295,61.7368, 61.7442,61.7515,61.7589,61.7662,61.7736 ,61.7809,61.7864,61.792,61.7975,61.803, 61.8103,61.8177,61.825,61.8324,61.8397, 61.8471,61.8537)
ORBIT_NUMBER = 532
ORBITAL_ECCENTRICITY = 0.573
ORBITAL_INCLINATION = 86.56
ORBITAL_SEMIMAJOR_AXIS = 8529.58
PERIAPSIS_ALTITUDE = 264.47
PERIAPSIS_ARGUMENT_ANGLE = 268.62
PERIAPSIS_TIME = 2004-06-20T17:17:11.000Z
SPACECRAFT_ORIENTATION = (0.0,-1.0,0.0)
^MEX_ORIENTATION_DESC = "MEX_ORIENTATION_DESC.TXT"
SPACECRAFT_POINTING_MODE = NADIR
^MEX_POINTING_DESC = "MEX_POINTING_DESC.TXT"
RIGHT_ASCENSION = -1e+32
DECLINATION = -1e+32
OFFSET_ANGLE = -1e+32
SPACECRAFT_SOLAR_DISTANCE = 2.47532e+08
TARGET_NAME = MARS
/* CAMERA DATA ELEMENTS */
BUFFER_MODE_ID = BUFFER_8
EXPOSURE_DURATION = 5.04
INST_CMPRS_NAME = NONE
INST_CMPRS_RATIO = 1.0
INST_CMPRS_QUALITY = -2147483648
INST_CMPRS_QUANTZ_TBL_ID = -2147483648
INSTRUMENT_TEMPERATURE = 7.7123
MISSING_FRAMES = 52
START_BIT = 0
/* RADIOMETRIC DATA ELEMENTS */
BANDWIDTH = 250.0
CENTER_FILTER_WAVELENGTH = 600.0
RADIANCE_OFFSET = -9.99e+31
RADIANCE_SCALING_FACTOR = -9.99e+31
REFLECTANCE_SCALING_FACTOR = -9.99e+31
MEX:REFLECTANCE_OFFSET = -9.99e+31
/* IMAGE OBJECT DEFINITIONS */
OBJECT = IMAGE
  INTERCHANGE_FORMAT = BINARY
  LINES = 951
  LINE_SAMPLES = 959
  SAMPLE_TYPE = UNSIGNED_INTEGER
  SAMPLE_BITS = 8
  BANDS = 1
  BAND_STORAGE_TYPE = BAND_SEQUENTIAL
  MAXIMUM = 2617
  MEAN = 2330.21
  MINIMUM = 1986
  STANDARD_DEVIATION = 67.132
END_OBJECT = IMAGE
/* MAP OBJECT DEFINITIONS */
OBJECT = IMAGE_MAP_PROJECTION
  ^DATA_SET_MAP_PROJECTION_CATALOG= "DSMAP.CAT"
  A_AXIS_RADIUS = 3396.19
  B_AXIS_RADIUS = 3396.19
  C_AXIS_RADIUS = 3396.19
  CENTER_LATITUDE = 0.0
  CENTER_LONGITUDE = 62.0
  COORDINATE_SYSTEM_NAME = PLANETOGRAPHIC
  COORDINATE_SYSTEM_TYPE = "BODY-FIXED ROTATING"
  EASTERNMOST_LONGITUDE = 61.8537
  FIRST_STANDARD_PARALLEL = "N/A"
  LINE_FIRST_PIXEL = 1
  LINE_LAST_PIXEL = 951
  LINE_PROJECTION_OFFSET = -205195.0
  MAP_PROJECTION_ROTATION = 0.0
  MAP_PROJECTION_TYPE = SINUSOIDAL
  MAP_RESOLUTION = 5927.46965121889
  MAP_SCALE = 0.01
  MAXIMUM_LATITUDE = -34.6451
  MINIMUM_LATITUDE = -34.7976
  POSITIVE_LONGITUDE_DIRECTION = EAST
  REFERENCE_LATITUDE = "N/A"
  REFERENCE_LONGITUDE = "N/A"
  SAMPLE_FIRST_PIXEL = 1
  SAMPLE_LAST_PIXEL = 959
  SAMPLE_PROJECTION_OFFSET = 1646.0
  SECOND_STANDARD_PARALLEL = "N/A"
  WESTERNMOST_LONGITUDE = 61.6663
END_OBJECT = IMAGE_MAP_PROJECTION
/* The JPEG2000 image data file associated with this label. */
OBJECT = COMPRESSED_FILE
  FILE_NAME = "H0532_0002_SR3.JP2"
  RECORD_TYPE = UNDEFINED
  FILE_RECORDS = UNK
  ENCODING_TYPE = "JP2"
  INTERCHANGE_FORMAT = BINARY
  UNCOMPRESSED_FILE_NAME = "H0532_0002_SR3.IMG"
  REQUIRED_STORAGE_BYTES = "930230"
  ^DESCRIPTION = "JP2INFO.TXT"
END_OBJECT = COMPRESSED_FILE
END
