PDS_VERSION_ID = PDS3
/* FILE DATA ELEMENTS */
RECORD_TYPE = STREAM
/* POINTERS TO DATA OBJECTS */
^COMPRESSED_FILE = "H0532_0003_SR3.JP2"
/* IDENTIFICATION DATA ELEMENTS */
DATA_SET_ID = "MEX-M-HRSC-5-REFDR-MAPPROJECTED-V3.0"
DATA_SET_NAME = "MARS EXPRESS HRSC MAP PROJECTED REFDR V3.0"
DETECTOR_ID = MEX_HRSC_SRC
EVENT_TYPE = "MARS-REGIONAL-MAPPING-Fl-Lc-Mw"
INSTRUMENT_HOST_ID = MEX
INSTRUMENT_HOST_NAME = "MARS EXPRESS"
INSTRUMENT_ID = HRSC
INSTRUMENT_NAME = "HIGH RESOLUTION STEREO CAMERA"
MISSION_NAME = "MARS EXPRESS"
MISSION_PHASE_NAME = MR_Phase_1
PROCESSING_LEVEL_ID = 3
PRODUCT_CREATION_TIME = 2016-03-03T11:04:32.000Z
PRODUCT_ID = "H0532_0003_SR3.JP2"
RELEASE_ID = 0008
REVISION_ID = 0000
/* QUALITY DATA ELEMENTS */
DATA_QUALITY_ID = 1
DATA_QUALITY_DESC = "Data calculated based on original SPICE kernels"
/* TIME DATA ELEMENTS */
SPACECRAFT_CLOCK_START_COUNT = "1/0035832649.57285"
SPACECRAFT_CLOCK_STOP_COUNT = "1/0035834442.46305"
IMAGE_TIME = 2004-06-20T17:33:01.237Z
START_TIME = 2004-06-20T17:33:01.235Z
STOP_TIME = 2004-06-20T17:33:01.240Z
/* ORBITAL DATA ELEMENTS */
ASCENDING_NODE_LONGITUDE = 217.9
MAXIMUM_RESOLUTION = 8.96
FOOTPRINT_POINT_LATITUDE = (-34.5194,-34.524,-34.5291,-34.5379, -34.5443,-34.5496,-34.5566,-34.566, -34.5706,-34.5783,-34.5856,-34.592, -34.5959,-34.6015,-34.6062,-34.6108, -34.6194,-34.6253,-34.6305,-34.6358, -34.6411,-34.6472,-34.6545,-34.6622, -34.6671,-34.6697,-34.6697,-34.6697, -34.6697,-34.6696,-34.6696,-34.6696, -34.6696,-34.6696,-34.6696,-34.6696, -34.6696,-34.6696,-34.6696,-34.6696, -34.6695,-34.6695,-34.6695,-34.6695, -34.6695,-34.6695,-34.6695,-34.6695, -34.6695,-34.6694,-34.6658,-34.6591, -34.6543,-34.6471,-34.6414,-34.6332, -34.6289,-34.623,-34.6187,-34.6136, -34.6089,-34.6021,-34.597,-34.5917, -34.5828,-34.577,-34.5702,-34.5638, -34.5583,-34.5492,-34.5445,-34.5363, -34.5313,-34.526,-34.5166,-34.5166, -34.5166,-34.5167,-34.5167,-34.5167, -34.5167,-34.5167,-34.5167,-34.5167, -34.5167,-34.5167,-34.5168,-34.5168, -34.5168,-34.5168,-34.5168,-34.5168, -34.5168,-34.5168,-34.5168,-34.5168, -34.5168,-34.5168,-34.5168,-34.5194)
FOOTPRINT_POINT_LONGITUDE = (61.8542,61.8542,61.8542,61.8542, 61.8542,61.8542,61.8542,61.8542,61.8542 ,61.8542,61.8541,61.8541,61.8541, 61.8541,61.8541,61.8541,61.8541,61.8541 ,61.8541,61.8541,61.8541,61.8541, 61.8541,61.8541,61.8541,61.8484,61.841, 61.8355,61.8281,61.8226,61.8133,61.8059 ,61.8004,61.793,61.7856,61.7783,61.7709 ,61.7635,61.7561,61.7469,61.7395, 61.7321,61.7248,61.7174,61.71,61.7026, 61.6952,61.6878,61.6805,61.6731,61.6665 ,61.6665,61.6665,61.6665,61.6665, 61.6665,61.6666,61.6666,61.6666,61.6666 ,61.6666,61.6666,61.6666,61.6667, 61.6667,61.6667,61.6667,61.6667,61.6668 ,61.6668,61.6668,61.6668,61.6668, 61.6668,61.6689,61.6763,61.6836,61.691, 61.6984,61.7057,61.7131,61.7205,61.7278 ,61.7352,61.7426,61.7499,61.7573, 61.7647,61.772,61.7794,61.7868,61.7941, 61.7997,61.8089,61.8162,61.8236,61.831, 61.8383,61.8457,61.8542)
ORBIT_NUMBER = 532
ORBITAL_ECCENTRICITY = 0.573
ORBITAL_INCLINATION = 86.56
ORBITAL_SEMIMAJOR_AXIS = 8529.58
PERIAPSIS_ALTITUDE = 264.47
PERIAPSIS_ARGUMENT_ANGLE = 268.62
PERIAPSIS_TIME = 2004-06-20T17:17:11.000Z
SPACECRAFT_ORIENTATION = (0.0,-1.0,0.0)
^MEX_ORIENTATION_DESC = "MEX_ORIENTATION_DESC.TXT"
SPACECRAFT_POINTING_MODE = NADIR
^MEX_POINTING_DESC = "MEX_POINTING_DESC.TXT"
RIGHT_ASCENSION = -1e+32
DECLINATION = -1e+32
OFFSET_ANGLE = -1e+32
SPACECRAFT_SOLAR_DISTANCE = 2.47532e+08
TARGET_NAME = MARS
/* CAMERA DATA ELEMENTS */
BUFFER_MODE_ID = BUFFER_8
EXPOSURE_DURATION = 5.04
INST_CMPRS_NAME = NONE
INST_CMPRS_RATIO = 1.0
INST_CMPRS_QUALITY = -2147483648
INST_CMPRS_QUANTZ_TBL_ID = -2147483648
INSTRUMENT_TEMPERATURE = 7.97027
MISSING_FRAMES = 0
START_BIT = 0
/* RADIOMETRIC DATA ELEMENTS */
BANDWIDTH = 250.0
CENTER_FILTER_WAVELENGTH = 600.0
RADIANCE_OFFSET = -9.99e+31
RADIANCE_SCALING_FACTOR = -9.99e+31
REFLECTANCE_SCALING_FACTOR = -9.99e+31
MEX:REFLECTANCE_OFFSET = -9.99e+31
/* IMAGE OBJECT DEFINITIONS */
OBJECT = IMAGE
  INTERCHANGE_FORMAT = BINARY
  LINES = 954
  LINE_SAMPLES = 963
  SAMPLE_TYPE = UNSIGNED_INTEGER
  SAMPLE_BITS = 8
  BANDS = 1
  BAND_STORAGE_TYPE = BAND_SEQUENTIAL
  MAXIMUM = 2740
  MEAN = 2369.92
  MINIMUM = 1962
  STANDARD_DEVIATION = 83.6971
END_OBJECT = IMAGE
/* MAP OBJECT DEFINITIONS */
OBJECT = IMAGE_MAP_PROJECTION
  ^DATA_SET_MAP_PROJECTION_CATALOG= "DSMAP.CAT"
  A_AXIS_RADIUS = 3396.19
  B_AXIS_RADIUS = 3396.19
  C_AXIS_RADIUS = 3396.19
  CENTER_LATITUDE = 0.0
  CENTER_LONGITUDE = 62.0
  COORDINATE_SYSTEM_NAME = PLANETOGRAPHIC
  COORDINATE_SYSTEM_TYPE = "BODY-FIXED ROTATING"
  EASTERNMOST_LONGITUDE = 61.8542
  FIRST_STANDARD_PARALLEL = "N/A"
  LINE_FIRST_PIXEL = 1
  LINE_LAST_PIXEL = 954
  LINE_PROJECTION_OFFSET = -204435.0
  MAP_PROJECTION_ROTATION = 0.0
  MAP_PROJECTION_TYPE = SINUSOIDAL
  MAP_RESOLUTION = 5927.46965121889
  MAP_SCALE = 0.01
  MAXIMUM_LATITUDE = -34.5166
  MINIMUM_LATITUDE = -34.6697
  POSITIVE_LONGITUDE_DIRECTION = EAST
  REFERENCE_LATITUDE = "N/A"
  REFERENCE_LONGITUDE = "N/A"
  SAMPLE_FIRST_PIXEL = 1
  SAMPLE_LAST_PIXEL = 963
  SAMPLE_PROJECTION_OFFSET = 1648.0
  SECOND_STANDARD_PARALLEL = "N/A"
  WESTERNMOST_LONGITUDE = 61.6665
END_OBJECT = IMAGE_MAP_PROJECTION
/* The JPEG2000 image data file associated with this label. */
OBJECT = COMPRESSED_FILE
  FILE_NAME = "H0532_0003_SR3.JP2"
  RECORD_TYPE = UNDEFINED
  FILE_RECORDS = UNK
  ENCODING_TYPE = "JP2"
  INTERCHANGE_FORMAT = BINARY
  UNCOMPRESSED_FILE_NAME = "H0532_0003_SR3.IMG"
  REQUIRED_STORAGE_BYTES = "936999"
  ^DESCRIPTION = "JP2INFO.TXT"
END_OBJECT = COMPRESSED_FILE
END
