PDS_VERSION_ID = PDS3
/* FILE DATA ELEMENTS */
RECORD_TYPE = STREAM
/* POINTERS TO DATA OBJECTS */
^COMPRESSED_FILE = "H0532_0006_SR3.JP2"
/* IDENTIFICATION DATA ELEMENTS */
DATA_SET_ID = "MEX-M-HRSC-5-REFDR-MAPPROJECTED-V3.0"
DATA_SET_NAME = "MARS EXPRESS HRSC MAP PROJECTED REFDR V3.0"
DETECTOR_ID = MEX_HRSC_SRC
EVENT_TYPE = "MARS-REGIONAL-MAPPING-Fl-Lc-Mw"
INSTRUMENT_HOST_ID = MEX
INSTRUMENT_HOST_NAME = "MARS EXPRESS"
INSTRUMENT_ID = HRSC
INSTRUMENT_NAME = "HIGH RESOLUTION STEREO CAMERA"
MISSION_NAME = "MARS EXPRESS"
MISSION_PHASE_NAME = MR_Phase_1
PROCESSING_LEVEL_ID = 3
PRODUCT_CREATION_TIME = 2016-03-03T11:04:32.000Z
PRODUCT_ID = "H0532_0006_SR3.JP2"
RELEASE_ID = 0008
REVISION_ID = 0000
/* QUALITY DATA ELEMENTS */
DATA_QUALITY_ID = 1
DATA_QUALITY_DESC = "Data calculated based on original SPICE kernels"
/* TIME DATA ELEMENTS */
SPACECRAFT_CLOCK_START_COUNT = "1/0035832649.57285"
SPACECRAFT_CLOCK_STOP_COUNT = "1/0035834442.46305"
IMAGE_TIME = 2004-06-20T17:33:08.868Z
START_TIME = 2004-06-20T17:33:08.865Z
STOP_TIME = 2004-06-20T17:33:08.870Z
/* ORBITAL DATA ELEMENTS */
ASCENDING_NODE_LONGITUDE = 217.9
MAXIMUM_RESOLUTION = 9.052
FOOTPRINT_POINT_LATITUDE = (-34.1621,-34.1672,-34.1735,-34.1824, -34.1884,-34.1968,-34.204,-34.2111, -34.2204,-34.2258,-34.2308,-34.2388, -34.2442,-34.2502,-34.2552,-34.2607, -34.2652,-34.2722,-34.2771,-34.2825, -34.2916,-34.2972,-34.3026,-34.3084, -34.3124,-34.3124,-34.3124,-34.3124, -34.3124,-34.3124,-34.3124,-34.3124, -34.3124,-34.3124,-34.3124,-34.3124, -34.3124,-34.3124,-34.3124,-34.3124, -34.3124,-34.3124,-34.3124,-34.3124, -34.3124,-34.3124,-34.3124,-34.3124, -34.3123,-34.3067,-34.2979,-34.2916, -34.2849,-34.2758,-34.2673,-34.2604, -34.2561,-34.2501,-34.2458,-34.2412, -34.2341,-34.2291,-34.2223,-34.2167, -34.2119,-34.2068,-34.1993,-34.1944, -34.19,-34.1828,-34.1743,-34.1687, -34.1642,-34.159,-34.1579,-34.1579, -34.158,-34.158,-34.158,-34.158,-34.158 ,-34.158,-34.158,-34.158,-34.158, -34.158,-34.158,-34.158,-34.158,-34.158 ,-34.158,-34.158,-34.158,-34.158, -34.158,-34.158,-34.158,-34.158,-34.158 ,-34.1621)
FOOTPRINT_POINT_LONGITUDE = (61.8552,61.8552,61.8552,61.8552, 61.8552,61.8552,61.8552,61.8553,61.8553 ,61.8553,61.8553,61.8553,61.8553, 61.8553,61.8553,61.8553,61.8553,61.8553 ,61.8553,61.8553,61.8553,61.8553, 61.8553,61.8553,61.8496,61.8421,61.8347 ,61.8273,61.8217,61.8143,61.8069, 61.8013,61.7939,61.7864,61.779,61.7716, 61.7642,61.7567,61.7475,61.74,61.7326, 61.7252,61.7178,61.7103,61.7029,61.6955 ,61.688,61.6806,61.6732,61.6667,61.6667 ,61.6667,61.6667,61.6668,61.6668, 61.6668,61.6668,61.6668,61.6668,61.6668 ,61.6668,61.6668,61.6669,61.6669, 61.6669,61.6669,61.6669,61.6669,61.6669 ,61.6669,61.667,61.667,61.667,61.667, 61.6746,61.682,61.6894,61.6968,61.7042, 61.7116,61.719,61.7264,61.7339,61.7413, 61.7487,61.7561,61.7635,61.7709,61.7783 ,61.7839,61.7931,61.7987,61.8043, 61.8117,61.8191,61.8265,61.8339,61.8413 ,61.8487,61.8552)
ORBIT_NUMBER = 532
ORBITAL_ECCENTRICITY = 0.573
ORBITAL_INCLINATION = 86.56
ORBITAL_SEMIMAJOR_AXIS = 8529.58
PERIAPSIS_ALTITUDE = 264.47
PERIAPSIS_ARGUMENT_ANGLE = 268.62
PERIAPSIS_TIME = 2004-06-20T17:17:11.000Z
SPACECRAFT_ORIENTATION = (0.0,-1.0,0.0)
^MEX_ORIENTATION_DESC = "MEX_ORIENTATION_DESC.TXT"
SPACECRAFT_POINTING_MODE = NADIR
^MEX_POINTING_DESC = "MEX_POINTING_DESC.TXT"
RIGHT_ASCENSION = -1e+32
DECLINATION = -1e+32
OFFSET_ANGLE = -1e+32
SPACECRAFT_SOLAR_DISTANCE = 2.47532e+08
TARGET_NAME = MARS
/* CAMERA DATA ELEMENTS */
BUFFER_MODE_ID = BUFFER_8
EXPOSURE_DURATION = 5.04
INST_CMPRS_NAME = NONE
INST_CMPRS_RATIO = 1.0
INST_CMPRS_QUALITY = -2147483648
INST_CMPRS_QUANTZ_TBL_ID = -2147483648
INSTRUMENT_TEMPERATURE = 8.18182
MISSING_FRAMES = 0
START_BIT = 0
/* RADIOMETRIC DATA ELEMENTS */
BANDWIDTH = 250.0
CENTER_FILTER_WAVELENGTH = 600.0
RADIANCE_OFFSET = -9.99e+31
RADIANCE_SCALING_FACTOR = -9.99e+31
REFLECTANCE_SCALING_FACTOR = -9.99e+31
MEX:REFLECTANCE_OFFSET = -9.99e+31
/* IMAGE OBJECT DEFINITIONS */
OBJECT = IMAGE
  INTERCHANGE_FORMAT = BINARY
  LINES = 963
  LINE_SAMPLES = 972
  SAMPLE_TYPE = UNSIGNED_INTEGER
  SAMPLE_BITS = 8
  BANDS = 1
  BAND_STORAGE_TYPE = BAND_SEQUENTIAL
  MAXIMUM = 2679
  MEAN = 2388.95
  MINIMUM = 1990
  STANDARD_DEVIATION = 61.2264
END_OBJECT = IMAGE
/* MAP OBJECT DEFINITIONS */
OBJECT = IMAGE_MAP_PROJECTION
  ^DATA_SET_MAP_PROJECTION_CATALOG= "DSMAP.CAT"
  A_AXIS_RADIUS = 3396.19
  B_AXIS_RADIUS = 3396.19
  C_AXIS_RADIUS = 3396.19
  CENTER_LATITUDE = 0.0
  CENTER_LONGITUDE = 62.0
  COORDINATE_SYSTEM_NAME = PLANETOGRAPHIC
  COORDINATE_SYSTEM_TYPE = "BODY-FIXED ROTATING"
  EASTERNMOST_LONGITUDE = 61.8553
  FIRST_STANDARD_PARALLEL = "N/A"
  LINE_FIRST_PIXEL = 1
  LINE_LAST_PIXEL = 963
  LINE_PROJECTION_OFFSET = -202313.0
  MAP_PROJECTION_ROTATION = 0.0
  MAP_PROJECTION_TYPE = SINUSOIDAL
  MAP_RESOLUTION = 5927.46965121889
  MAP_SCALE = 0.01
  MAXIMUM_LATITUDE = -34.1579
  MINIMUM_LATITUDE = -34.3124
  POSITIVE_LONGITUDE_DIRECTION = EAST
  REFERENCE_LATITUDE = "N/A"
  REFERENCE_LONGITUDE = "N/A"
  SAMPLE_FIRST_PIXEL = 1
  SAMPLE_LAST_PIXEL = 972
  SAMPLE_PROJECTION_OFFSET = 1654.0
  SECOND_STANDARD_PARALLEL = "N/A"
  WESTERNMOST_LONGITUDE = 61.6667
END_OBJECT = IMAGE_MAP_PROJECTION
/* The JPEG2000 image data file associated with this label. */
OBJECT = COMPRESSED_FILE
  FILE_NAME = "H0532_0006_SR3.JP2"
  RECORD_TYPE = UNDEFINED
  FILE_RECORDS = UNK
  ENCODING_TYPE = "JP2"
  INTERCHANGE_FORMAT = BINARY
  UNCOMPRESSED_FILE_NAME = "H0532_0006_SR3.IMG"
  REQUIRED_STORAGE_BYTES = "954504"
  ^DESCRIPTION = "JP2INFO.TXT"
END_OBJECT = COMPRESSED_FILE
END
