PDS_VERSION_ID = PDS3
/* FILE DATA ELEMENTS */
RECORD_TYPE = STREAM
/* POINTERS TO DATA OBJECTS */
^COMPRESSED_FILE = "H0544_0000_P23.JP2"
/* IDENTIFICATION DATA ELEMENTS */
DATA_SET_ID = "MEX-M-HRSC-5-REFDR-MAPPROJECTED-V3.0"
DATA_SET_NAME = "MARS EXPRESS HRSC MAP PROJECTED REFDR V3.0"
DETECTOR_ID = MEX_HRSC_P2
EVENT_TYPE = "MARS-REGIONAL-MAPPING-Fl-Mw-At"
INSTRUMENT_HOST_ID = MEX
INSTRUMENT_HOST_NAME = "MARS EXPRESS"
INSTRUMENT_ID = HRSC
INSTRUMENT_NAME = "HIGH RESOLUTION STEREO CAMERA"
MISSION_NAME = "MARS EXPRESS"
MISSION_PHASE_NAME = MR_Phase_1
PROCESSING_LEVEL_ID = 3
PRODUCT_CREATION_TIME = 2016-03-03T11:04:32.000Z
PRODUCT_ID = "H0544_0000_P23.JP2"
RELEASE_ID = 0008
REVISION_ID = 0000
/* QUALITY DATA ELEMENTS */
DATA_QUALITY_ID = 1
DATA_QUALITY_DESC = "Data calculated based on original SPICE kernels"
/* TIME DATA ELEMENTS */
SPACECRAFT_CLOCK_START_COUNT = "1/0036122743.56175"
SPACECRAFT_CLOCK_STOP_COUNT = "1/0036123301.20290"
START_TIME = 2004-06-24T02:07:26.587Z
STOP_TIME = 2004-06-24T02:14:04.223Z
/* ORBITAL DATA ELEMENTS */
ASCENDING_NODE_LONGITUDE = 217.65
MAXIMUM_RESOLUTION = 101.6
FOOTPRINT_POINT_LATITUDE = (-54.9843,-55.0114,-55.0443,-55.059, -54.8439,-54.25,-53.6467,-53.0342, -52.4109,-52.0957,-51.7797,-51.4605, -51.1336,-50.8139,-50.4878,-50.1568, -49.8263,-49.3205,-48.8142,-48.4726, -48.1273,-47.7794,-47.4289,-47.0753, -46.7188,-46.3587,-45.996,-45.6305, -45.0722,-44.7011,-44.3253,-43.9395, -43.5585,-42.9711,-42.3816,-41.9886, -41.5888,-41.1896,-40.5768,-40.1662, -39.7509,-39.3303,-38.9078,-38.4798, -38.0471,-37.6126,-37.1725,-36.9985, -37.0038,-37.0068,-37.0099,-37.0121, -37.0138,-37.0132,-37.016,-37.4469, -37.8829,-38.3105,-38.7379,-39.1538, -39.7769,-40.1876,-40.5952,-40.9967, -41.4008,-41.7967,-42.3857,-42.7755, -43.1627,-43.5475,-43.9288,-44.3055, -44.6787,-45.0487,-45.4159,-45.7797, -46.1404,-46.4975,-46.8516,-47.2039, -47.5541,-47.9007,-48.2441,-48.5859, -48.9247,-49.2604,-49.594,-49.9248, -50.2531,-50.5786,-50.9013,-51.3828, -51.7002,-52.015,-52.6385,-53.2515, -53.7066,-54.3056,-54.8948,-54.9843)
FOOTPRINT_POINT_LONGITUDE = (320.078,320.793,321.816,322.362, 323.037,323.111,323.183,323.253,323.321 ,323.354,323.388,323.42,323.45,323.485, 323.518,323.548,323.58,323.624,323.672, 323.702,323.732,323.762,323.791,323.821 ,323.849,323.878,323.906,323.934, 323.973,324.002,324.029,324.052,324.08, 324.116,324.154,324.182,324.208,324.236 ,324.273,324.299,324.324,324.349, 324.374,324.398,324.421,324.446,324.469 ,323.807,323.266,322.817,322.144, 321.515,320.931,320.346,319.652,319.669 ,319.679,319.692,319.701,319.714, 319.727,319.735,319.742,319.749,319.752 ,319.757,319.761,319.762,319.761, 319.759,319.756,319.753,319.75,319.746, 319.741,319.735,319.729,319.722,319.714 ,319.705,319.695,319.684,319.673,319.66 ,319.647,319.633,319.618,319.602, 319.586,319.569,319.551,319.522,319.502 ,319.481,319.436,319.389,319.351, 319.298,319.243,320.078)
ORBIT_NUMBER = 544
ORBITAL_ECCENTRICITY = 0.573
ORBITAL_INCLINATION = 86.56
ORBITAL_SEMIMAJOR_AXIS = 8529.9
PERIAPSIS_ALTITUDE = 264.95
PERIAPSIS_ARGUMENT_ANGLE = 266.53
PERIAPSIS_TIME = 2004-06-24T01:56:47.000Z
SPACECRAFT_ORIENTATION = (0.0,-1.0,0.0)
^MEX_ORIENTATION_DESC = "MEX_ORIENTATION_DESC.TXT"
SPACECRAFT_POINTING_MODE = NADIR
^MEX_POINTING_DESC = "MEX_POINTING_DESC.TXT"
RIGHT_ASCENSION = -1e+32
DECLINATION = -1e+32
OFFSET_ANGLE = -1e+32
SPACECRAFT_SOLAR_DISTANCE = 2.47761e+08
TARGET_NAME = MARS
/* CAMERA DATA ELEMENTS */
DETECTOR_TEMPERATURE = 18.9822
FOCAL_PLANE_TEMPERATURE = 8.3794
INST_CMPRS_NAME = "DISCRETE COSINE TRANSFORMATION (DCT)"
INST_CMPRS_RATIO = 11.1368
INST_CMPRS_QUALITY = 0
INST_CMPRS_QUANTZ_TBL_ID = 0
INSTRUMENT_TEMPERATURE = 11.0301
LENS_TEMPERATURE = 8.9911
MACROPIXEL_SIZE = 4
MISSING_FRAMES = 0
PIXEL_SUBSAMPLING_FLAG = N
SIGNAL_CHAIN_ID = 1
/* RADIOMETRIC DATA ELEMENTS */
BANDWIDTH = 177.0
CENTER_FILTER_WAVELENGTH = 676.5
RADIANCE_OFFSET = 0.132341
RADIANCE_SCALING_FACTOR = 0.00848695
REFLECTANCE_SCALING_FACTOR = 0.000276234
MEX:REFLECTANCE_OFFSET = 0.00430746
/* IMAGE OBJECT DEFINITIONS */
OBJECT = IMAGE
  INTERCHANGE_FORMAT = BINARY
  LINES = 10753
  LINE_SAMPLES = 2042
  SAMPLE_TYPE = UNSIGNED_INTEGER
  SAMPLE_BITS = 8
  BANDS = 1
  BAND_STORAGE_TYPE = BAND_SEQUENTIAL
  MAXIMUM = 310
  MEAN = 110.502
  MINIMUM = 17
  STANDARD_DEVIATION = 53.3658
END_OBJECT = IMAGE
/* MAP OBJECT DEFINITIONS */
OBJECT = IMAGE_MAP_PROJECTION
  ^DATA_SET_MAP_PROJECTION_CATALOG= "DSMAP.CAT"
  A_AXIS_RADIUS = 3396.0
  B_AXIS_RADIUS = 3396.0
  C_AXIS_RADIUS = 3396.0
  CENTER_LATITUDE = 0.0
  CENTER_LONGITUDE = 322.0
  COORDINATE_SYSTEM_NAME = PLANETOGRAPHIC
  COORDINATE_SYSTEM_TYPE = "BODY-FIXED ROTATING"
  EASTERNMOST_LONGITUDE = 324.469
  FIRST_STANDARD_PARALLEL = "N/A"
  LINE_FIRST_PIXEL = 1
  LINE_LAST_PIXEL = 10753
  LINE_PROJECTION_OFFSET = -21923.75
  MAP_PROJECTION_ROTATION = 0.0
  MAP_PROJECTION_TYPE = SINUSOIDAL
  MAP_RESOLUTION = 592.713803866667
  MAP_SCALE = 0.1
  MAXIMUM_LATITUDE = -36.9985
  MINIMUM_LATITUDE = -55.059
  POSITIVE_LONGITUDE_DIRECTION = EAST
  REFERENCE_LATITUDE = "N/A"
  REFERENCE_LONGITUDE = "N/A"
  SAMPLE_FIRST_PIXEL = 1
  SAMPLE_LAST_PIXEL = 2042
  SAMPLE_PROJECTION_OFFSET = 1003.75
  SECOND_STANDARD_PARALLEL = "N/A"
  WESTERNMOST_LONGITUDE = 319.243
END_OBJECT = IMAGE_MAP_PROJECTION
/* The JPEG2000 image data file associated with this label. */
OBJECT = COMPRESSED_FILE
  FILE_NAME = "H0544_0000_P23.JP2"
  RECORD_TYPE = UNDEFINED
  FILE_RECORDS = UNK
  ENCODING_TYPE = "JP2"
  INTERCHANGE_FORMAT = BINARY
  UNCOMPRESSED_FILE_NAME = "H0544_0000_P23.IMG"
  REQUIRED_STORAGE_BYTES = "21978046"
  ^DESCRIPTION = "JP2INFO.TXT"
END_OBJECT = COMPRESSED_FILE
END
