PDS_VERSION_ID = PDS3
/* FILE DATA ELEMENTS */
RECORD_TYPE = STREAM
/* POINTERS TO DATA OBJECTS */
^COMPRESSED_FILE = "H0550_0007_SR3.JP2"
/* IDENTIFICATION DATA ELEMENTS */
DATA_SET_ID = "MEX-M-HRSC-5-REFDR-MAPPROJECTED-V3.0"
DATA_SET_NAME = "MARS EXPRESS HRSC MAP PROJECTED REFDR V3.0"
DETECTOR_ID = MEX_HRSC_SRC
EVENT_TYPE = "MARS-LOCAL-STEREO-Vo-Fl-Mw"
INSTRUMENT_HOST_ID = MEX
INSTRUMENT_HOST_NAME = "MARS EXPRESS"
INSTRUMENT_ID = HRSC
INSTRUMENT_NAME = "HIGH RESOLUTION STEREO CAMERA"
MISSION_NAME = "MARS EXPRESS"
MISSION_PHASE_NAME = MR_Phase_1
PROCESSING_LEVEL_ID = 3
PRODUCT_CREATION_TIME = 2016-03-03T11:04:32.000Z
PRODUCT_ID = "H0550_0007_SR3.JP2"
RELEASE_ID = 0008
REVISION_ID = 0000
/* QUALITY DATA ELEMENTS */
DATA_QUALITY_ID = 1
DATA_QUALITY_DESC = "Data calculated based on original SPICE kernels"
/* TIME DATA ELEMENTS */
SPACECRAFT_CLOCK_START_COUNT = "1/0036268245.57300"
SPACECRAFT_CLOCK_STOP_COUNT = "1/0036268834.61324"
IMAGE_TIME = 2004-06-25T18:35:23.291Z
START_TIME = 2004-06-25T18:35:23.289Z
STOP_TIME = 2004-06-25T18:35:23.294Z
/* ORBITAL DATA ELEMENTS */
ASCENDING_NODE_LONGITUDE = 217.52
MAXIMUM_RESOLUTION = 11.109
FOOTPRINT_POINT_LATITUDE = (-29.7693,-29.7778,-29.7849,-29.795, -29.8042,-29.8123,-29.8215,-29.8313, -29.8378,-29.8478,-29.8551,-29.8602, -29.8662,-29.8718,-29.8774,-29.8849, -29.8932,-29.8996,-29.908,-29.9189, -29.9259,-29.9345,-29.9394,-29.9456, -29.9552,-29.9553,-29.9554,-29.9555, -29.9556,-29.9557,-29.9559,-29.956, -29.9561,-29.9562,-29.9563,-29.9564, -29.9565,-29.9566,-29.9567,-29.9568, -29.9569,-29.9571,-29.9572,-29.9573, -29.9574,-29.9575,-29.9576,-29.9577, -29.9578,-29.9579,-29.9553,-29.9467, -29.9385,-29.9328,-29.9276,-29.9197, -29.9135,-29.9041,-29.8966,-29.887, -29.8805,-29.8698,-29.8615,-29.8529, -29.8457,-29.835,-29.827,-29.818, -29.8073,-29.7996,-29.7947,-29.7898, -29.7828,-29.7738,-29.7689,-29.7688, -29.7687,-29.7686,-29.7685,-29.7684, -29.7683,-29.7682,-29.7681,-29.7679, -29.7678,-29.7677,-29.7676,-29.7675, -29.7674,-29.7673,-29.7672,-29.7671, -29.767,-29.7669,-29.7668,-29.7666, -29.7665,-29.7664,-29.7663,-29.7693)
FOOTPRINT_POINT_LONGITUDE = (92.2267,92.2269,92.227,92.2272,92.2274 ,92.2275,92.2277,92.2279,92.228,92.2282 ,92.2283,92.2284,92.2285,92.2286, 92.2287,92.2288,92.229,92.2291,92.2293, 92.2295,92.2296,92.2297,92.2298,92.2299 ,92.2299,92.2212,92.2126,92.2039, 92.1952,92.1866,92.1779,92.1692,92.1627 ,92.1541,92.1454,92.1367,92.1281, 92.1194,92.1107,92.1021,92.0934,92.0847 ,92.0761,92.0674,92.0588,92.0501, 92.0414,92.0328,92.0241,92.0154,92.0102 ,92.01,92.0099,92.0098,92.0097,92.0096, 92.0095,92.0094,92.0092,92.0091,92.009, 92.0088,92.0087,92.0085,92.0084,92.0082 ,92.0081,92.008,92.0078,92.0077,92.0076 ,92.0075,92.0074,92.0073,92.0118, 92.0204,92.0291,92.0377,92.0463,92.055, 92.0636,92.0723,92.0809,92.0896,92.0982 ,92.1069,92.1155,92.122,92.1307,92.1393 ,92.1458,92.1544,92.1631,92.1717, 92.1804,92.189,92.1977,92.2063,92.215, 92.2267)
ORBIT_NUMBER = 550
ORBITAL_ECCENTRICITY = 0.573
ORBITAL_INCLINATION = 86.57
ORBITAL_SEMIMAJOR_AXIS = 8529.58
PERIAPSIS_ALTITUDE = 264.08
PERIAPSIS_ARGUMENT_ANGLE = 265.46
PERIAPSIS_TIME = 2004-06-25T18:16:36.000Z
SPACECRAFT_ORIENTATION = (0.0,-1.0,0.0)
^MEX_ORIENTATION_DESC = "MEX_ORIENTATION_DESC.TXT"
SPACECRAFT_POINTING_MODE = NADIR
^MEX_POINTING_DESC = "MEX_POINTING_DESC.TXT"
RIGHT_ASCENSION = -1e+32
DECLINATION = -1e+32
OFFSET_ANGLE = -1e+32
SPACECRAFT_SOLAR_DISTANCE = 2.4787e+08
TARGET_NAME = MARS
/* CAMERA DATA ELEMENTS */
BUFFER_MODE_ID = BUFFER_8
EXPOSURE_DURATION = 5.04
INST_CMPRS_NAME = NONE
INST_CMPRS_RATIO = 1.0
INST_CMPRS_QUALITY = -2147483648
INST_CMPRS_QUANTZ_TBL_ID = -2147483648
INSTRUMENT_TEMPERATURE = 11.2121
MISSING_FRAMES = 0
START_BIT = 0
/* RADIOMETRIC DATA ELEMENTS */
BANDWIDTH = 250.0
CENTER_FILTER_WAVELENGTH = 600.0
RADIANCE_OFFSET = -9.99e+31
RADIANCE_SCALING_FACTOR = -9.99e+31
REFLECTANCE_SCALING_FACTOR = -9.99e+31
MEX:REFLECTANCE_OFFSET = -9.99e+31
/* IMAGE OBJECT DEFINITIONS */
OBJECT = IMAGE
  INTERCHANGE_FORMAT = BINARY
  LINES = 1183
  LINE_SAMPLES = 1190
  SAMPLE_TYPE = UNSIGNED_INTEGER
  SAMPLE_BITS = 8
  BANDS = 1
  BAND_STORAGE_TYPE = BAND_SEQUENTIAL
  MAXIMUM = 2582
  MEAN = 1862.1
  MINIMUM = 1003
  STANDARD_DEVIATION = 137.265
END_OBJECT = IMAGE
/* MAP OBJECT DEFINITIONS */
OBJECT = IMAGE_MAP_PROJECTION
  ^DATA_SET_MAP_PROJECTION_CATALOG= "DSMAP.CAT"
  A_AXIS_RADIUS = 3396.19
  B_AXIS_RADIUS = 3396.19
  C_AXIS_RADIUS = 3396.19
  CENTER_LATITUDE = 0.0
  CENTER_LONGITUDE = 92.0
  COORDINATE_SYSTEM_NAME = PLANETOGRAPHIC
  COORDINATE_SYSTEM_TYPE = "BODY-FIXED ROTATING"
  EASTERNMOST_LONGITUDE = 92.2299
  FIRST_STANDARD_PARALLEL = "N/A"
  LINE_FIRST_PIXEL = 1
  LINE_LAST_PIXEL = 1183
  LINE_PROJECTION_OFFSET = -176328.0
  MAP_PROJECTION_ROTATION = 0.0
  MAP_PROJECTION_TYPE = SINUSOIDAL
  MAP_RESOLUTION = 5927.46965121889
  MAP_SCALE = 0.01
  MAXIMUM_LATITUDE = -29.7663
  MINIMUM_LATITUDE = -29.9579
  POSITIVE_LONGITUDE_DIRECTION = EAST
  REFERENCE_LATITUDE = "N/A"
  REFERENCE_LONGITUDE = "N/A"
  SAMPLE_FIRST_PIXEL = 1
  SAMPLE_LAST_PIXEL = 1190
  SAMPLE_PROJECTION_OFFSET = -14.0
  SECOND_STANDARD_PARALLEL = "N/A"
  WESTERNMOST_LONGITUDE = 92.0073
END_OBJECT = IMAGE_MAP_PROJECTION
/* The JPEG2000 image data file associated with this label. */
OBJECT = COMPRESSED_FILE
  FILE_NAME = "H0550_0007_SR3.JP2"
  RECORD_TYPE = UNDEFINED
  FILE_RECORDS = UNK
  ENCODING_TYPE = "JP2"
  INTERCHANGE_FORMAT = BINARY
  UNCOMPRESSED_FILE_NAME = "H0550_0007_SR3.IMG"
  REQUIRED_STORAGE_BYTES = "1426810"
  ^DESCRIPTION = "JP2INFO.TXT"
END_OBJECT = COMPRESSED_FILE
END
