PDS_VERSION_ID = PDS3
/* FILE DATA ELEMENTS */
RECORD_TYPE = STREAM
/* POINTERS TO DATA OBJECTS */
^COMPRESSED_FILE = "H0554_0002_SR3.JP2"
/* IDENTIFICATION DATA ELEMENTS */
DATA_SET_ID = "MEX-M-HRSC-5-REFDR-MAPPROJECTED-V3.0"
DATA_SET_NAME = "MARS EXPRESS HRSC MAP PROJECTED REFDR V3.0"
DETECTOR_ID = MEX_HRSC_SRC
EVENT_TYPE = "MARS-GLOBAL-MAPPING-Im-Fl-La"
INSTRUMENT_HOST_ID = MEX
INSTRUMENT_HOST_NAME = "MARS EXPRESS"
INSTRUMENT_ID = HRSC
INSTRUMENT_NAME = "HIGH RESOLUTION STEREO CAMERA"
MISSION_NAME = "MARS EXPRESS"
MISSION_PHASE_NAME = MR_Phase_1
PROCESSING_LEVEL_ID = 3
PRODUCT_CREATION_TIME = 2016-03-03T11:04:32.000Z
PRODUCT_ID = "H0554_0002_SR3.JP2"
RELEASE_ID = 0008
REVISION_ID = 0000
/* QUALITY DATA ELEMENTS */
DATA_QUALITY_ID = 1
DATA_QUALITY_DESC = "Data calculated based on original SPICE kernels"
/* TIME DATA ELEMENTS */
SPACECRAFT_CLOCK_START_COUNT = "1/0036365055.56195"
SPACECRAFT_CLOCK_STOP_COUNT = "1/0036365884.57048"
IMAGE_TIME = 2004-06-26T21:27:04.812Z
START_TIME = 2004-06-26T21:27:04.810Z
STOP_TIME = 2004-06-26T21:27:04.815Z
/* ORBITAL DATA ELEMENTS */
ASCENDING_NODE_LONGITUDE = 217.43
MAXIMUM_RESOLUTION = 10.075
FOOTPRINT_POINT_LATITUDE = (-34.2264,-34.2338,-34.2385,-34.2455, -34.2532,-34.2607,-34.2684,-34.2774, -34.2882,-34.2969,-34.3025,-34.307, -34.3126,-34.3172,-34.3225,-34.3271, -34.3339,-34.3399,-34.3486,-34.3539, -34.3621,-34.3679,-34.3744,-34.3798, -34.3882,-34.393,-34.3942,-34.3942, -34.3942,-34.3943,-34.3943,-34.3943, -34.3943,-34.3944,-34.3944,-34.3944, -34.3944,-34.3945,-34.3945,-34.3945, -34.3945,-34.3945,-34.3946,-34.3946, -34.3946,-34.3946,-34.3946,-34.3946, -34.3947,-34.3947,-34.3947,-34.3898, -34.3838,-34.3751,-34.3684,-34.3631, -34.3537,-34.3483,-34.3389,-34.3343, -34.3264,-34.3215,-34.314,-34.3082, -34.2998,-34.2935,-34.2857,-34.2805, -34.2737,-34.2633,-34.2527,-34.2427, -34.2336,-34.2271,-34.2229,-34.2229, -34.2228,-34.2228,-34.2228,-34.2228, -34.2228,-34.2228,-34.2227,-34.2227, -34.2227,-34.2227,-34.2227,-34.2226, -34.2226,-34.2226,-34.2226,-34.2225, -34.2225,-34.2225,-34.2225,-34.2224, -34.2224,-34.2224,-34.2224,-34.2264)
FOOTPRINT_POINT_LONGITUDE = (59.0323,59.0324,59.0324,59.0324, 59.0325,59.0325,59.0325,59.0326,59.0326 ,59.0327,59.0327,59.0327,59.0327, 59.0328,59.0328,59.0328,59.0329,59.0329 ,59.0329,59.033,59.033,59.033,59.0331, 59.0331,59.0331,59.0332,59.0247,59.0164 ,59.0081,58.9999,58.9916,58.9854, 58.9751,58.9689,58.9606,58.9523,58.944, 58.9358,58.9275,58.9192,58.911,58.9027, 58.8944,58.8861,58.8779,58.8696,58.8613 ,58.8531,58.8448,58.8365,58.8282, 58.8235,58.8235,58.8234,58.8234,58.8234 ,58.8234,58.8234,58.8233,58.8233, 58.8233,58.8233,58.8233,58.8233,58.8232 ,58.8232,58.8232,58.8232,58.8232, 58.8232,58.8231,58.8231,58.8231,58.8231 ,58.8253,58.8336,58.8418,58.8501, 58.8583,58.8666,58.8748,58.8831,58.8914 ,58.8996,58.9079,58.9161,58.9244, 58.9326,58.9409,58.9491,58.9595,58.9677 ,58.9739,58.9822,58.9904,58.9987, 59.0069,59.0152,59.0234,59.0323)
ORBIT_NUMBER = 554
ORBITAL_ECCENTRICITY = 0.573
ORBITAL_INCLINATION = 86.56
ORBITAL_SEMIMAJOR_AXIS = 8530.08
PERIAPSIS_ALTITUDE = 264.36
PERIAPSIS_ARGUMENT_ANGLE = 264.77
PERIAPSIS_TIME = 2004-06-26T21:09:44.000Z
SPACECRAFT_ORIENTATION = (0.0,-1.0,0.0)
^MEX_ORIENTATION_DESC = "MEX_ORIENTATION_DESC.TXT"
SPACECRAFT_POINTING_MODE = NADIR
^MEX_POINTING_DESC = "MEX_POINTING_DESC.TXT"
RIGHT_ASCENSION = -1e+32
DECLINATION = -1e+32
OFFSET_ANGLE = -1e+32
SPACECRAFT_SOLAR_DISTANCE = 2.4794e+08
TARGET_NAME = MARS
/* CAMERA DATA ELEMENTS */
BUFFER_MODE_ID = BUFFER_8
EXPOSURE_DURATION = 5.04
INST_CMPRS_NAME = NONE
INST_CMPRS_RATIO = 1.0
INST_CMPRS_QUALITY = -2147483648
INST_CMPRS_QUANTZ_TBL_ID = -2147483648
INSTRUMENT_TEMPERATURE = 8.18182
MISSING_FRAMES = 1
START_BIT = 0
/* RADIOMETRIC DATA ELEMENTS */
BANDWIDTH = 250.0
CENTER_FILTER_WAVELENGTH = 600.0
RADIANCE_OFFSET = -9.99e+31
RADIANCE_SCALING_FACTOR = -9.99e+31
REFLECTANCE_SCALING_FACTOR = -9.99e+31
MEX:REFLECTANCE_OFFSET = -9.99e+31
/* IMAGE OBJECT DEFINITIONS */
OBJECT = IMAGE
  INTERCHANGE_FORMAT = BINARY
  LINES = 1069
  LINE_SAMPLES = 1076
  SAMPLE_TYPE = UNSIGNED_INTEGER
  SAMPLE_BITS = 8
  BANDS = 1
  BAND_STORAGE_TYPE = BAND_SEQUENTIAL
  MAXIMUM = 2311
  MEAN = 2035.27
  MINIMUM = 1664
  STANDARD_DEVIATION = 59.7238
END_OBJECT = IMAGE
/* MAP OBJECT DEFINITIONS */
OBJECT = IMAGE_MAP_PROJECTION
  ^DATA_SET_MAP_PROJECTION_CATALOG= "DSMAP.CAT"
  A_AXIS_RADIUS = 3396.19
  B_AXIS_RADIUS = 3396.19
  C_AXIS_RADIUS = 3396.19
  CENTER_LATITUDE = 0.0
  CENTER_LONGITUDE = 59.0
  COORDINATE_SYSTEM_NAME = PLANETOGRAPHIC
  COORDINATE_SYSTEM_TYPE = "BODY-FIXED ROTATING"
  EASTERNMOST_LONGITUDE = 59.0332
  FIRST_STANDARD_PARALLEL = "N/A"
  LINE_FIRST_PIXEL = 1
  LINE_LAST_PIXEL = 1069
  LINE_PROJECTION_OFFSET = -202694.0
  MAP_PROJECTION_ROTATION = 0.0
  MAP_PROJECTION_TYPE = SINUSOIDAL
  MAP_RESOLUTION = 5927.46965121889
  MAP_SCALE = 0.01
  MAXIMUM_LATITUDE = -34.2224
  MINIMUM_LATITUDE = -34.3947
  POSITIVE_LONGITUDE_DIRECTION = EAST
  REFERENCE_LATITUDE = "N/A"
  REFERENCE_LONGITUDE = "N/A"
  SAMPLE_FIRST_PIXEL = 1
  SAMPLE_LAST_PIXEL = 1076
  SAMPLE_PROJECTION_OFFSET = 889.0
  SECOND_STANDARD_PARALLEL = "N/A"
  WESTERNMOST_LONGITUDE = 58.8231
END_OBJECT = IMAGE_MAP_PROJECTION
/* The JPEG2000 image data file associated with this label. */
OBJECT = COMPRESSED_FILE
  FILE_NAME = "H0554_0002_SR3.JP2"
  RECORD_TYPE = UNDEFINED
  FILE_RECORDS = UNK
  ENCODING_TYPE = "JP2"
  INTERCHANGE_FORMAT = BINARY
  UNCOMPRESSED_FILE_NAME = "H0554_0002_SR3.IMG"
  REQUIRED_STORAGE_BYTES = "1168536"
  ^DESCRIPTION = "JP2INFO.TXT"
END_OBJECT = COMPRESSED_FILE
END
