PDS_VERSION_ID = PDS3
/* FILE DATA ELEMENTS */
RECORD_TYPE = STREAM
/* POINTERS TO DATA OBJECTS */
^COMPRESSED_FILE = "H0561_0000_ND3.JP2"
/* IDENTIFICATION DATA ELEMENTS */
DATA_SET_ID = "MEX-M-HRSC-5-REFDR-MAPPROJECTED-V3.0"
DATA_SET_NAME = "MARS EXPRESS HRSC MAP PROJECTED REFDR V3.0"
DETECTOR_ID = MEX_HRSC_NADIR
EVENT_TYPE = "MARS-REGIONAL-COLOR-Vo-Fl-Lc"
INSTRUMENT_HOST_ID = MEX
INSTRUMENT_HOST_NAME = "MARS EXPRESS"
INSTRUMENT_ID = HRSC
INSTRUMENT_NAME = "HIGH RESOLUTION STEREO CAMERA"
MISSION_NAME = "MARS EXPRESS"
MISSION_PHASE_NAME = MR_Phase_1
PROCESSING_LEVEL_ID = 3
PRODUCT_CREATION_TIME = 2016-03-03T11:04:32.000Z
PRODUCT_ID = "H0561_0000_ND3.JP2"
RELEASE_ID = 0008
REVISION_ID = 0000
/* QUALITY DATA ELEMENTS */
DATA_QUALITY_ID = 1
DATA_QUALITY_DESC = "Data calculated based on original SPICE kernels"
/* TIME DATA ELEMENTS */
SPACECRAFT_CLOCK_START_COUNT = "1/0036534720.57941"
SPACECRAFT_CLOCK_STOP_COUNT = "1/0036536059.43149"
START_TIME = 2004-06-28T20:36:15.776Z
STOP_TIME = 2004-06-28T20:40:17.213Z
/* ORBITAL DATA ELEMENTS */
ASCENDING_NODE_LONGITUDE = 217.28
MAXIMUM_RESOLUTION = 64.8
FOOTPRINT_POINT_LATITUDE = (-21.2416,-21.236,-21.2299,-21.2236, -21.2169,-21.2099,-21.2026,-21.195, -21.187,-21.1786,-21.17,-21.161, -21.1518,-21.1397,-21.1297,-21.1193, -21.1086,-21.0891,-21.0775,-21.0656, -21.047,-21.0341,-21.021,-21.0051, -20.7032,-20.3996,-20.0943,-19.7873, -19.4788,-19.1686,-18.8564,-18.5428, -18.2275,-17.9104,-17.5915,-17.2709, -16.9487,-16.6246,-16.2987,-15.971, -15.6415,-15.3103,-14.9772,-14.6422, -14.3054,-13.9667,-13.6261,-13.2838, -12.9396,-12.9461,-12.9679,-12.9893, -13.0052,-13.0261,-13.0466,-13.0618, -13.0817,-13.1014,-13.1208,-13.1399, -13.1587,-13.1772,-13.1954,-13.2132, -13.2308,-13.2482,-13.2609,-13.2777, -13.2941,-13.3103,-13.3302,-13.3458, -13.3651,-13.38,-13.6397,-13.9712, -14.3015,-14.6301,-14.9567,-15.282, -15.6056,-15.9274,-16.2478,-16.5665, -16.8835,-17.1991,-17.513,-17.8253, -18.136,-18.4452,-18.753,-19.059, -19.3636,-19.6667,-19.9682,-20.2683, -20.5668,-20.8638,-21.1592,-21.2416)
FOOTPRINT_POINT_LONGITUDE = (87.5644,87.8055,88.0461,88.2865, 88.5265,88.7663,89.0059,89.2457,89.4854 ,89.7249,89.9642,90.2034,90.4426, 90.7414,90.9803,91.2191,91.4581,91.8769 ,92.1161,92.3557,92.7159,92.9562, 93.1965,93.4623,93.4703,93.4733,93.4756 ,93.4803,93.4846,93.4896,93.4926, 93.4966,93.5004,93.5041,93.5076,93.511, 93.5142,93.5169,93.5201,93.5239,93.5272 ,93.5305,93.5333,93.5367,93.54,93.543, 93.5448,93.5498,93.551,93.2697,92.9868, 92.704,92.4921,92.2098,91.9282,91.7175, 91.4361,91.1547,90.8738,90.5931,90.3122 ,90.0312,89.75,89.4688,89.1875,88.9061, 88.6949,88.4132,88.1318,87.8497,87.4967 ,87.2146,86.8588,86.5746,86.4363, 86.4843,86.5303,86.5742,86.6208,86.6654 ,86.709,86.7517,86.7938,86.8347,86.8754 ,86.9153,86.9546,86.993,87.0312,87.0682 ,87.1037,87.1394,87.1749,87.2091, 87.2423,87.2752,87.3076,87.3396,87.3709 ,87.5644)
ORBIT_NUMBER = 561
ORBITAL_ECCENTRICITY = 0.573
ORBITAL_INCLINATION = 86.57
ORBITAL_SEMIMAJOR_AXIS = 8529.97
PERIAPSIS_ALTITUDE = 264.09
PERIAPSIS_ARGUMENT_ANGLE = 263.54
PERIAPSIS_TIME = 2004-06-28T20:12:51.000Z
SPACECRAFT_ORIENTATION = (0.0,-1.0,0.0)
^MEX_ORIENTATION_DESC = "MEX_ORIENTATION_DESC.TXT"
SPACECRAFT_POINTING_MODE = NADIR
^MEX_POINTING_DESC = "MEX_POINTING_DESC.TXT"
RIGHT_ASCENSION = -1e+32
DECLINATION = -1e+32
OFFSET_ANGLE = -1e+32
SPACECRAFT_SOLAR_DISTANCE = 2.48058e+08
TARGET_NAME = MARS
/* CAMERA DATA ELEMENTS */
DETECTOR_TEMPERATURE = 18.1666
FOCAL_PLANE_TEMPERATURE = 7.5638
INST_CMPRS_NAME = "DISCRETE COSINE TRANSFORMATION (DCT)"
INST_CMPRS_RATIO = 4.85415
INST_CMPRS_QUALITY = 0
INST_CMPRS_QUANTZ_TBL_ID = 0
INSTRUMENT_TEMPERATURE = 10.8262
LENS_TEMPERATURE = 7.9716
MACROPIXEL_SIZE = 1
MISSING_FRAMES = 0
PIXEL_SUBSAMPLING_FLAG = N
SIGNAL_CHAIN_ID = 0
/* RADIOMETRIC DATA ELEMENTS */
BANDWIDTH = 177.0
CENTER_FILTER_WAVELENGTH = 677.5
RADIANCE_OFFSET = 0.757272
RADIANCE_SCALING_FACTOR = 0.0147742
REFLECTANCE_SCALING_FACTOR = 0.000482946
MEX:REFLECTANCE_OFFSET = 0.024754
/* IMAGE OBJECT DEFINITIONS */
OBJECT = IMAGE
  INTERCHANGE_FORMAT = BINARY
  LINES = 9865
  LINE_SAMPLES = 8388
  SAMPLE_TYPE = UNSIGNED_INTEGER
  SAMPLE_BITS = 8
  BANDS = 1
  BAND_STORAGE_TYPE = BAND_SEQUENTIAL
  MAXIMUM = 279
  MEAN = 114.775
  MINIMUM = 34
  STANDARD_DEVIATION = 16.5199
END_OBJECT = IMAGE
/* MAP OBJECT DEFINITIONS */
OBJECT = IMAGE_MAP_PROJECTION
  ^DATA_SET_MAP_PROJECTION_CATALOG= "DSMAP.CAT"
  A_AXIS_RADIUS = 3396.0
  B_AXIS_RADIUS = 3396.0
  C_AXIS_RADIUS = 3396.0
  CENTER_LATITUDE = 0.0
  CENTER_LONGITUDE = 90.0
  COORDINATE_SYSTEM_NAME = PLANETOGRAPHIC
  COORDINATE_SYSTEM_TYPE = "BODY-FIXED ROTATING"
  EASTERNMOST_LONGITUDE = 93.551
  FIRST_STANDARD_PARALLEL = "N/A"
  LINE_FIRST_PIXEL = 1
  LINE_LAST_PIXEL = 9865
  LINE_PROJECTION_OFFSET = -15322.0
  MAP_PROJECTION_ROTATION = 0.0
  MAP_PROJECTION_TYPE = SINUSOIDAL
  MAP_RESOLUTION = 1185.42760773333
  MAP_SCALE = 0.05
  MAXIMUM_LATITUDE = -12.9396
  MINIMUM_LATITUDE = -21.2416
  POSITIVE_LONGITUDE_DIRECTION = EAST
  REFERENCE_LATITUDE = "N/A"
  REFERENCE_LONGITUDE = "N/A"
  SAMPLE_FIRST_PIXEL = 1
  SAMPLE_LAST_PIXEL = 8388
  SAMPLE_PROJECTION_OFFSET = 4209.0
  SECOND_STANDARD_PARALLEL = "N/A"
  WESTERNMOST_LONGITUDE = 86.4363
END_OBJECT = IMAGE_MAP_PROJECTION
/* The JPEG2000 image data file associated with this label. */
OBJECT = COMPRESSED_FILE
  FILE_NAME = "H0561_0000_ND3.JP2"
  RECORD_TYPE = UNDEFINED
  FILE_RECORDS = UNK
  ENCODING_TYPE = "JP2"
  INTERCHANGE_FORMAT = BINARY
  UNCOMPRESSED_FILE_NAME = "H0561_0000_ND3.IMG"
  REQUIRED_STORAGE_BYTES = "82781172"
  ^DESCRIPTION = "JP2INFO.TXT"
END_OBJECT = COMPRESSED_FILE
END
