PDS_VERSION_ID = PDS3
/* FILE DATA ELEMENTS */
RECORD_TYPE = STREAM
/* POINTERS TO DATA OBJECTS */
^COMPRESSED_FILE = "H0577_0000_P13.JP2"
/* IDENTIFICATION DATA ELEMENTS */
DATA_SET_ID = "MEX-M-HRSC-5-REFDR-MAPPROJECTED-V3.0"
DATA_SET_NAME = "MARS EXPRESS HRSC MAP PROJECTED REFDR V3.0"
DETECTOR_ID = MEX_HRSC_P1
EVENT_TYPE = "MARS-LOCAL-VARIABLE-At"
INSTRUMENT_HOST_ID = MEX
INSTRUMENT_HOST_NAME = "MARS EXPRESS"
INSTRUMENT_ID = HRSC
INSTRUMENT_NAME = "HIGH RESOLUTION STEREO CAMERA"
MISSION_NAME = "MARS EXPRESS"
MISSION_PHASE_NAME = MR_Phase_1
PROCESSING_LEVEL_ID = 3
PRODUCT_CREATION_TIME = 2016-03-03T13:17:52.000Z
PRODUCT_ID = "H0577_0000_P13.JP2"
RELEASE_ID = 0009
REVISION_ID = 0000
/* QUALITY DATA ELEMENTS */
DATA_QUALITY_ID = 1
DATA_QUALITY_DESC = "Data calculated based on original SPICE kernels"
/* TIME DATA ELEMENTS */
SPACECRAFT_CLOCK_START_COUNT = "1/0036921434.57158"
SPACECRAFT_CLOCK_STOP_COUNT = "1/0036922222.53370"
START_TIME = 2004-07-03T07:57:46.901Z
STOP_TIME = 2004-07-03T08:03:52.318Z
/* ORBITAL DATA ELEMENTS */
ASCENDING_NODE_LONGITUDE = 216.95
MAXIMUM_RESOLUTION = 117.6
FOOTPRINT_POINT_LATITUDE = (-50.7181,-50.7469,-50.766,-50.7817, -50.7939,-50.7384,-50.1,-49.4509, -48.9566,-48.6251,-48.2912,-47.9531, -47.6129,-47.2703,-46.9252,-46.5763, -46.224,-45.8701,-45.5131,-45.1532, -44.7899,-44.4236,-44.055,-43.6842, -43.3108,-42.9341,-42.5531,-41.9736, -41.5814,-40.9936,-40.5925,-40.1886, -39.7816,-39.3714,-38.9578,-38.5401, -38.119,-37.7044,-37.2695,-36.8342, -36.3937,-35.95,-35.285,-34.6251, -33.9718,-33.5334,-33.0944,-32.6615, -32.2286,-31.7992,-31.371,-31.3771, -31.3927,-31.3949,-31.3916,-31.3828, -31.3665,-31.7903,-32.2158,-32.6442, -33.2902,-33.7224,-34.1568,-34.5937, -35.033,-35.6871,-36.1284,-36.5629, -36.9936,-37.4236,-38.0532,-38.4722, -38.8878,-39.2981,-39.9094,-40.5105, -40.9104,-41.2999,-41.8827,-42.2678, -42.8387,-43.2126,-43.5861,-43.9539, -44.4938,-44.8528,-45.2189,-45.7515, -46.1066,-46.6307,-46.9771,-47.3182, -47.8283,-48.1633,-48.4955,-48.9904, -49.3177,-49.9634,-50.5977,-50.7181)
FOOTPRINT_POINT_LONGITUDE = (316.359,317.078,317.654,318.23,318.807 ,319.334,319.387,319.438,319.476,319.5, 319.524,319.548,319.571,319.594,319.616 ,319.638,319.661,319.682,319.703, 319.724,319.744,319.764,319.783,319.801 ,319.819,319.836,319.853,319.88,319.898 ,319.92,319.938,319.954,319.97,319.985, 320.0,320.014,320.028,320.036,320.052, 320.066,320.08,320.093,320.11,320.124, 320.136,320.147,320.158,320.166,320.175 ,320.183,320.19,319.381,318.255,317.4, 316.905,316.229,315.355,315.377,315.398 ,315.418,315.448,315.466,315.483,315.5, 315.517,315.535,315.549,315.561,315.571 ,315.583,315.594,315.602,315.609, 315.615,315.624,315.629,315.633,315.633 ,315.634,315.633,315.631,315.627, 315.624,315.619,315.606,315.598,315.595 ,315.582,315.575,315.561,315.551,315.54 ,315.522,315.509,315.495,315.473, 315.457,315.424,315.387,316.359)
ORBIT_NUMBER = 577
ORBITAL_ECCENTRICITY = 0.573
ORBITAL_INCLINATION = 86.56
ORBITAL_SEMIMAJOR_AXIS = 8532.34
PERIAPSIS_ALTITUDE = 265.0
PERIAPSIS_ARGUMENT_ANGLE = 260.76
PERIAPSIS_TIME = 2004-07-03T07:45:35.000Z
SPACECRAFT_ORIENTATION = (0.0,-1.0,0.0)
^MEX_ORIENTATION_DESC = "MEX_ORIENTATION_DESC.TXT"
SPACECRAFT_POINTING_MODE = NADIR
^MEX_POINTING_DESC = "MEX_POINTING_DESC.TXT"
RIGHT_ASCENSION = -1e+32
DECLINATION = -1e+32
OFFSET_ANGLE = -1e+32
SPACECRAFT_SOLAR_DISTANCE = 2.48309e+08
TARGET_NAME = MARS
/* CAMERA DATA ELEMENTS */
DETECTOR_TEMPERATURE = 17.351
FOCAL_PLANE_TEMPERATURE = 7.7677
INST_CMPRS_NAME = "DISCRETE COSINE TRANSFORMATION (DCT)"
INST_CMPRS_RATIO = 11.0459
INST_CMPRS_QUALITY = 0
INST_CMPRS_QUANTZ_TBL_ID = 0
INSTRUMENT_TEMPERATURE = 10.8262
LENS_TEMPERATURE = 8.5833
MACROPIXEL_SIZE = 4
MISSING_FRAMES = 0
PIXEL_SUBSAMPLING_FLAG = N
SIGNAL_CHAIN_ID = 1
/* RADIOMETRIC DATA ELEMENTS */
BANDWIDTH = 174.0
CENTER_FILTER_WAVELENGTH = 675.0
RADIANCE_OFFSET = 0.0844965
RADIANCE_SCALING_FACTOR = 0.00888042
REFLECTANCE_SCALING_FACTOR = 0.000294513
MEX:REFLECTANCE_OFFSET = 0.00280226
/* IMAGE OBJECT DEFINITIONS */
OBJECT = IMAGE
  INTERCHANGE_FORMAT = BINARY
  LINES = 11494
  LINE_SAMPLES = 2789
  SAMPLE_TYPE = UNSIGNED_INTEGER
  SAMPLE_BITS = 8
  BANDS = 1
  BAND_STORAGE_TYPE = BAND_SEQUENTIAL
  MAXIMUM = 150
  MEAN = 43.6119
  MINIMUM = 5
  STANDARD_DEVIATION = 19.5147
END_OBJECT = IMAGE
/* MAP OBJECT DEFINITIONS */
OBJECT = IMAGE_MAP_PROJECTION
  ^DATA_SET_MAP_PROJECTION_CATALOG= "DSMAP.CAT"
  A_AXIS_RADIUS = 3396.0
  B_AXIS_RADIUS = 3396.0
  C_AXIS_RADIUS = 3396.0
  CENTER_LATITUDE = 0.0
  CENTER_LONGITUDE = 318.0
  COORDINATE_SYSTEM_NAME = PLANETOGRAPHIC
  COORDINATE_SYSTEM_TYPE = "BODY-FIXED ROTATING"
  EASTERNMOST_LONGITUDE = 320.19
  FIRST_STANDARD_PARALLEL = "N/A"
  LINE_FIRST_PIXEL = 1
  LINE_LAST_PIXEL = 11494
  LINE_PROJECTION_OFFSET = -18587.0
  MAP_PROJECTION_ROTATION = 0.0
  MAP_PROJECTION_TYPE = SINUSOIDAL
  MAP_RESOLUTION = 592.713803866667
  MAP_SCALE = 0.1
  MAXIMUM_LATITUDE = -31.3665
  MINIMUM_LATITUDE = -50.7939
  POSITIVE_LONGITUDE_DIRECTION = EAST
  REFERENCE_LATITUDE = "N/A"
  REFERENCE_LONGITUDE = "N/A"
  SAMPLE_FIRST_PIXEL = 1
  SAMPLE_LAST_PIXEL = 2789
  SAMPLE_PROJECTION_OFFSET = 1527.0
  SECOND_STANDARD_PARALLEL = "N/A"
  WESTERNMOST_LONGITUDE = 315.355
END_OBJECT = IMAGE_MAP_PROJECTION
/* The JPEG2000 image data file associated with this label. */
OBJECT = COMPRESSED_FILE
  FILE_NAME = "H0577_0000_P13.JP2"
  RECORD_TYPE = UNDEFINED
  FILE_RECORDS = UNK
  ENCODING_TYPE = "JP2"
  INTERCHANGE_FORMAT = BINARY
  UNCOMPRESSED_FILE_NAME = "H0577_0000_P13.IMG"
  REQUIRED_STORAGE_BYTES = "32079078"
  ^DESCRIPTION = "JP2INFO.TXT"
END_OBJECT = COMPRESSED_FILE
END
