PDS_VERSION_ID = PDS3
/* FILE DATA ELEMENTS */
RECORD_TYPE = STREAM
/* POINTERS TO DATA OBJECTS */
^COMPRESSED_FILE = "H0637_0000_ND3.JP2"
/* IDENTIFICATION DATA ELEMENTS */
DATA_SET_ID = "MEX-M-HRSC-5-REFDR-MAPPROJECTED-V3.0"
DATA_SET_NAME = "MARS EXPRESS HRSC MAP PROJECTED REFDR V3.0"
DETECTOR_ID = MEX_HRSC_NADIR
EVENT_TYPE = "MARS-LOCAL-VARIABLE-Vo-Tc-At"
INSTRUMENT_HOST_ID = MEX
INSTRUMENT_HOST_NAME = "MARS EXPRESS"
INSTRUMENT_ID = HRSC
INSTRUMENT_NAME = "HIGH RESOLUTION STEREO CAMERA"
MISSION_NAME = "MARS EXPRESS"
MISSION_PHASE_NAME = MR_Phase_1
PROCESSING_LEVEL_ID = 3
PRODUCT_CREATION_TIME = 2016-03-04T06:22:19.000Z
PRODUCT_ID = "H0637_0000_ND3.JP2"
RELEASE_ID = 0010
REVISION_ID = 0000
/* QUALITY DATA ELEMENTS */
DATA_QUALITY_ID = 1
DATA_QUALITY_DESC = "Data calculated based on original SPICE kernels"
/* TIME DATA ELEMENTS */
SPACECRAFT_CLOCK_START_COUNT = "1/0038373890.57143"
SPACECRAFT_CLOCK_STOP_COUNT = "1/0038376236.17377"
START_TIME = 2004-07-20T03:29:11.484Z
STOP_TIME = 2004-07-20T03:44:46.545Z
/* ORBITAL DATA ELEMENTS */
ASCENDING_NODE_LONGITUDE = 215.67
MAXIMUM_RESOLUTION = 148.3
FOOTPRINT_POINT_LATITUDE = (-29.5279,-29.518,-29.5058,-29.4806, -29.462,-29.4266,-29.3982,-29.3705, -29.3402,-29.283,-28.6704,-28.0642, -27.4644,-26.8708,-26.2834,-25.7022, -25.127,-24.5576,-23.994,-23.4362, -22.8839,-22.3373,-21.7961,-21.2603, -20.7298,-20.2045,-19.6843,-19.1692, -18.6591,-18.1539,-17.6534,-17.1576, -16.6668,-16.1804,-15.6986,-15.2211, -14.7475,-13.8147,-12.8982,-11.9982, -11.1137,-10.2449,-9.39099,-8.5515, -7.72594,-6.914,-6.1153,-5.32943, -4.98561,-5.12008,-5.25286,-5.38362, -5.5451,-5.6567,-5.78312,-5.90816, -5.98614,-6.06347,-6.17069,-6.29243, -6.38351,-6.50398,-6.56969,-7.27899, -8.00195,-8.73889,-9.49038,-10.2569, -11.0391,-11.8369,-12.6512,-13.482, -14.3305,-15.1963,-16.081,-16.9848, -17.9078,-18.3767,-18.8508,-19.3305, -19.8147,-20.3046,-20.8,-21.3008, -21.8073,-22.3193,-22.8372,-23.3609, -23.8905,-24.4261,-24.9677,-25.5155, -26.0696,-26.63,-27.1969,-27.7704, -28.3505,-28.9374,-29.5312,-29.5279)
FOOTPRINT_POINT_LONGITUDE = (176.196,176.772,177.347,178.28,178.854 ,179.784,180.429,181.002,181.578, 182.548,182.555,182.562,182.569,182.576 ,182.581,182.584,182.587,182.592, 182.594,182.596,182.598,182.599,182.599 ,182.6,182.599,182.598,182.597,182.595, 182.593,182.591,182.589,182.589,182.584 ,182.581,182.577,182.575,182.58,182.567 ,182.561,182.551,182.545,182.533, 182.521,182.509,182.497,182.484,182.472 ,182.459,182.116,181.213,180.314,179.42 ,178.306,177.528,176.637,175.747, 175.189,174.63,173.847,172.95,172.273, 171.367,170.871,171.064,171.256,171.448 ,171.638,171.827,172.012,172.198, 172.381,172.565,172.743,172.925,173.1, 173.272,173.443,173.529,173.613,173.693 ,173.78,173.861,173.941,174.022,174.1, 174.178,174.255,174.33,174.405,174.48, 174.553,174.626,174.698,174.768,174.838 ,174.906,174.972,175.036,175.099, 176.196)
ORBIT_NUMBER = 637
ORBITAL_ECCENTRICITY = 0.573
ORBITAL_INCLINATION = 86.55
ORBITAL_SEMIMAJOR_AXIS = 8541.2
PERIAPSIS_ALTITUDE = 265.41
PERIAPSIS_ARGUMENT_ANGLE = 250.24
PERIAPSIS_TIME = 2004-07-20T03:03:19.000Z
SPACECRAFT_ORIENTATION = (0.0,-1.0,0.0)
^MEX_ORIENTATION_DESC = "MEX_ORIENTATION_DESC.TXT"
SPACECRAFT_POINTING_MODE = NADIR
^MEX_POINTING_DESC = "MEX_POINTING_DESC.TXT"
RIGHT_ASCENSION = -1e+32
DECLINATION = -1e+32
OFFSET_ANGLE = -1e+32
SPACECRAFT_SOLAR_DISTANCE = 2.48986e+08
TARGET_NAME = MARS
/* CAMERA DATA ELEMENTS */
DETECTOR_TEMPERATURE = 17.7588
FOCAL_PLANE_TEMPERATURE = 7.3599
INST_CMPRS_NAME = "DISCRETE COSINE TRANSFORMATION (DCT)"
INST_CMPRS_RATIO = 6.91416
INST_CMPRS_QUALITY = 0
INST_CMPRS_QUANTZ_TBL_ID = 0
INSTRUMENT_TEMPERATURE = 10.4184
LENS_TEMPERATURE = 7.7677
MACROPIXEL_SIZE = 2
MISSING_FRAMES = 0
PIXEL_SUBSAMPLING_FLAG = N
SIGNAL_CHAIN_ID = 0
/* RADIOMETRIC DATA ELEMENTS */
BANDWIDTH = 177.0
CENTER_FILTER_WAVELENGTH = 677.5
RADIANCE_OFFSET = 0.178143
RADIANCE_SCALING_FACTOR = 0.0215168
REFLECTANCE_SCALING_FACTOR = 0.000708624
MEX:REFLECTANCE_OFFSET = 0.00586685
/* IMAGE OBJECT DEFINITIONS */
OBJECT = IMAGE
  INTERCHANGE_FORMAT = BINARY
  LINES = 14584
  LINE_SAMPLES = 6874
  SAMPLE_TYPE = UNSIGNED_INTEGER
  SAMPLE_BITS = 8
  BANDS = 1
  BAND_STORAGE_TYPE = BAND_SEQUENTIAL
  MAXIMUM = 181
  MEAN = 57.6236
  MINIMUM = 2
  STANDARD_DEVIATION = 27.9157
END_OBJECT = IMAGE
/* MAP OBJECT DEFINITIONS */
OBJECT = IMAGE_MAP_PROJECTION
  ^DATA_SET_MAP_PROJECTION_CATALOG= "DSMAP.CAT"
  A_AXIS_RADIUS = 3396.0
  B_AXIS_RADIUS = 3396.0
  C_AXIS_RADIUS = 3396.0
  CENTER_LATITUDE = 0.0
  CENTER_LONGITUDE = 178.0
  COORDINATE_SYSTEM_NAME = PLANETOGRAPHIC
  COORDINATE_SYSTEM_TYPE = "BODY-FIXED ROTATING"
  EASTERNMOST_LONGITUDE = 182.6
  FIRST_STANDARD_PARALLEL = "N/A"
  LINE_FIRST_PIXEL = 1
  LINE_LAST_PIXEL = 14584
  LINE_PROJECTION_OFFSET = -2927.0
  MAP_PROJECTION_ROTATION = 0.0
  MAP_PROJECTION_TYPE = SINUSOIDAL
  MAP_RESOLUTION = 592.713803866667
  MAP_SCALE = 0.1
  MAXIMUM_LATITUDE = -4.98561
  MINIMUM_LATITUDE = -29.5312
  POSITIVE_LONGITUDE_DIRECTION = EAST
  REFERENCE_LATITUDE = "N/A"
  REFERENCE_LONGITUDE = "N/A"
  SAMPLE_FIRST_PIXEL = 1
  SAMPLE_LAST_PIXEL = 6874
  SAMPLE_PROJECTION_OFFSET = 4190.0
  SECOND_STANDARD_PARALLEL = "N/A"
  WESTERNMOST_LONGITUDE = 170.871
END_OBJECT = IMAGE_MAP_PROJECTION
/* The JPEG2000 image data file associated with this label. */
OBJECT = COMPRESSED_FILE
  FILE_NAME = "H0637_0000_ND3.JP2"
  RECORD_TYPE = UNDEFINED
  FILE_RECORDS = UNK
  ENCODING_TYPE = "JP2"
  INTERCHANGE_FORMAT = BINARY
  UNCOMPRESSED_FILE_NAME = "H0637_0000_ND3.IMG"
  REQUIRED_STORAGE_BYTES = "100284786"
  ^DESCRIPTION = "JP2INFO.TXT"
END_OBJECT = COMPRESSED_FILE
END
