PDS_VERSION_ID = PDS3
/* FILE DATA ELEMENTS */
RECORD_TYPE = STREAM
/* POINTERS TO DATA OBJECTS */
^COMPRESSED_FILE = "H0644_0000_BL3.JP2"
/* IDENTIFICATION DATA ELEMENTS */
DATA_SET_ID = "MEX-M-HRSC-5-REFDR-MAPPROJECTED-V3.0"
DATA_SET_NAME = "MARS EXPRESS HRSC MAP PROJECTED REFDR V3.0"
DETECTOR_ID = MEX_HRSC_BLUE
EVENT_TYPE = "MARS-LOCAL-VARIABLE-At"
INSTRUMENT_HOST_ID = MEX
INSTRUMENT_HOST_NAME = "MARS EXPRESS"
INSTRUMENT_ID = HRSC
INSTRUMENT_NAME = "HIGH RESOLUTION STEREO CAMERA"
MISSION_NAME = "MARS EXPRESS"
MISSION_PHASE_NAME = MR_Phase_1
PROCESSING_LEVEL_ID = 3
PRODUCT_CREATION_TIME = 2016-03-04T06:22:19.000Z
PRODUCT_ID = "H0644_0000_BL3.JP2"
RELEASE_ID = 0010
REVISION_ID = 0000
/* QUALITY DATA ELEMENTS */
DATA_QUALITY_ID = 1
DATA_QUALITY_DESC = "Data calculated based on original SPICE kernels"
/* TIME DATA ELEMENTS */
SPACECRAFT_CLOCK_START_COUNT = "1/0038543189.57290"
SPACECRAFT_CLOCK_STOP_COUNT = "1/0038545515.44921"
START_TIME = 2004-07-22T02:31:06.529Z
STOP_TIME = 2004-07-22T02:50:22.643Z
/* ORBITAL DATA ELEMENTS */
ASCENDING_NODE_LONGITUDE = 215.52
MAXIMUM_RESOLUTION = 567.2
FOOTPRINT_POINT_LATITUDE = (-34.2712,-34.2549,-34.2336,-34.2013, -34.1604,-34.1334,-34.0939,-33.3495, -32.615,-31.8905,-31.1749,-30.4703, -29.7756,-29.0897,-28.4132,-27.7457, -27.0873,-26.4377,-25.7964,-25.1632, -24.5376,-23.9209,-23.3129,-22.712, -22.1181,-21.5312,-20.9526,-20.3809, -19.8162,-19.2582,-18.707,-18.1626, -17.6245,-17.0927,-16.5672,-16.0477, -15.5342,-14.5246,-13.5377,-12.5716, -11.6285,-10.7046,-9.80013,-8.91444, -8.04686,-7.19684,-6.36364,-6.56163, -6.74487,-6.89017,-7.01812,-7.10819, -7.25469,-7.38033,-7.52595,-7.61663, -7.70781,-7.85457,-7.94583,-8.14822, -8.2916,-9.0334,-9.79342,-10.5721, -11.3694,-12.1867,-13.0259,-13.889, -14.7724,-15.6783,-16.6099,-17.5669, -18.5498,-19.0527,-19.561,-20.0779, -20.6012,-21.1313,-21.6696,-22.216, -22.7702,-23.3319,-23.9016,-24.4772, -25.0631,-25.6582,-26.2602,-26.8725, -27.4961,-28.1271,-28.7677,-29.418, -30.0757,-30.746,-31.4266,-32.1162, -32.8171,-33.5288,-34.2511,-34.2712)
FOOTPRINT_POINT_LONGITUDE = (208.737,209.845,210.814,211.919, 213.025,213.649,214.531,214.551,214.569 ,214.586,214.598,214.613,214.628,214.64 ,214.651,214.662,214.673,214.682, 214.691,214.699,214.705,214.712,214.72, 214.727,214.732,214.735,214.74,214.745, 214.749,214.752,214.756,214.759,214.762 ,214.764,214.766,214.768,214.77,214.772 ,214.774,214.773,214.776,214.777, 214.776,214.776,214.775,214.775,214.774 ,213.394,212.232,211.307,210.501, 209.926,209.006,208.2,207.278,206.702, 206.124,205.197,204.616,203.332,202.431 ,202.645,202.858,203.07,203.283,203.494 ,203.703,203.908,204.114,204.32,204.523 ,204.723,204.921,205.017,205.115,205.21 ,205.306,205.401,205.495,205.587, 205.679,205.77,205.86,205.952,206.041, 206.128,206.216,206.301,206.381,206.462 ,206.542,206.62,206.7,206.774,206.846, 206.919,206.987,207.054,207.118, 208.737)
ORBIT_NUMBER = 644
ORBITAL_ECCENTRICITY = 0.574
ORBITAL_INCLINATION = 86.56
ORBITAL_SEMIMAJOR_AXIS = 8542.71
PERIAPSIS_ALTITUDE = 264.38
PERIAPSIS_ARGUMENT_ANGLE = 249.03
PERIAPSIS_TIME = 2004-07-22T02:06:09.000Z
SPACECRAFT_ORIENTATION = (0.0,-1.0,0.0)
^MEX_ORIENTATION_DESC = "MEX_ORIENTATION_DESC.TXT"
SPACECRAFT_POINTING_MODE = NADIR
^MEX_POINTING_DESC = "MEX_POINTING_DESC.TXT"
RIGHT_ASCENSION = -1e+32
DECLINATION = -1e+32
OFFSET_ANGLE = -1e+32
SPACECRAFT_SOLAR_DISTANCE = 2.49038e+08
TARGET_NAME = MARS
/* CAMERA DATA ELEMENTS */
DETECTOR_TEMPERATURE = 17.9627
FOCAL_PLANE_TEMPERATURE = 7.3599
INST_CMPRS_NAME = "DISCRETE COSINE TRANSFORMATION (DCT)"
INST_CMPRS_RATIO = 9.50855
INST_CMPRS_QUALITY = 0
INST_CMPRS_QUANTZ_TBL_ID = 0
INSTRUMENT_TEMPERATURE = 10.8262
LENS_TEMPERATURE = 7.7677
MACROPIXEL_SIZE = 8
MISSING_FRAMES = 0
PIXEL_SUBSAMPLING_FLAG = N
SIGNAL_CHAIN_ID = 2
/* RADIOMETRIC DATA ELEMENTS */
BANDWIDTH = 76.0
CENTER_FILTER_WAVELENGTH = 444.0
RADIANCE_OFFSET = 0.0376915
RADIANCE_SCALING_FACTOR = 0.00294388
REFLECTANCE_SCALING_FACTOR = 0.000187591
MEX:REFLECTANCE_OFFSET = 0.00240179
/* IMAGE OBJECT DEFINITIONS */
OBJECT = IMAGE
  INTERCHANGE_FORMAT = BINARY
  LINES = 4118
  LINE_SAMPLES = 1707
  SAMPLE_TYPE = UNSIGNED_INTEGER
  SAMPLE_BITS = 8
  BANDS = 1
  BAND_STORAGE_TYPE = BAND_SEQUENTIAL
  MAXIMUM = 252
  MEAN = 89.4247
  MINIMUM = 13
  STANDARD_DEVIATION = 38.1611
END_OBJECT = IMAGE
/* MAP OBJECT DEFINITIONS */
OBJECT = IMAGE_MAP_PROJECTION
  ^DATA_SET_MAP_PROJECTION_CATALOG= "DSMAP.CAT"
  A_AXIS_RADIUS = 3396.0
  B_AXIS_RADIUS = 3396.0
  C_AXIS_RADIUS = 3396.0
  CENTER_LATITUDE = 0.0
  CENTER_LONGITUDE = 210.0
  COORDINATE_SYSTEM_NAME = PLANETOGRAPHIC
  COORDINATE_SYSTEM_TYPE = "BODY-FIXED ROTATING"
  EASTERNMOST_LONGITUDE = 214.777
  FIRST_STANDARD_PARALLEL = "N/A"
  LINE_FIRST_PIXEL = 1
  LINE_LAST_PIXEL = 4118
  LINE_PROJECTION_OFFSET = -958.375
  MAP_PROJECTION_ROTATION = 0.0
  MAP_PROJECTION_TYPE = SINUSOIDAL
  MAP_RESOLUTION = 148.178450966667
  MAP_SCALE = 0.4
  MAXIMUM_LATITUDE = -6.36364
  MINIMUM_LATITUDE = -34.2712
  POSITIVE_LONGITUDE_DIRECTION = EAST
  REFERENCE_LATITUDE = "N/A"
  REFERENCE_LONGITUDE = "N/A"
  SAMPLE_FIRST_PIXEL = 1
  SAMPLE_LAST_PIXEL = 1707
  SAMPLE_PROJECTION_OFFSET = 1045.125
  SECOND_STANDARD_PARALLEL = "N/A"
  WESTERNMOST_LONGITUDE = 202.431
END_OBJECT = IMAGE_MAP_PROJECTION
/* The JPEG2000 image data file associated with this label. */
OBJECT = COMPRESSED_FILE
  FILE_NAME = "H0644_0000_BL3.JP2"
  RECORD_TYPE = UNDEFINED
  FILE_RECORDS = UNK
  ENCODING_TYPE = "JP2"
  INTERCHANGE_FORMAT = BINARY
  UNCOMPRESSED_FILE_NAME = "H0644_0000_BL3.IMG"
  REQUIRED_STORAGE_BYTES = "7049910"
  ^DESCRIPTION = "JP2INFO.TXT"
END_OBJECT = COMPRESSED_FILE
END
