PDS_VERSION_ID = PDS3
/* FILE DATA ELEMENTS */
RECORD_TYPE = STREAM
/* POINTERS TO DATA OBJECTS */
^COMPRESSED_FILE = "H0644_0000_GR3.JP2"
/* IDENTIFICATION DATA ELEMENTS */
DATA_SET_ID = "MEX-M-HRSC-5-REFDR-MAPPROJECTED-V3.0"
DATA_SET_NAME = "MARS EXPRESS HRSC MAP PROJECTED REFDR V3.0"
DETECTOR_ID = MEX_HRSC_GREEN
EVENT_TYPE = "MARS-LOCAL-VARIABLE-At"
INSTRUMENT_HOST_ID = MEX
INSTRUMENT_HOST_NAME = "MARS EXPRESS"
INSTRUMENT_ID = HRSC
INSTRUMENT_NAME = "HIGH RESOLUTION STEREO CAMERA"
MISSION_NAME = "MARS EXPRESS"
MISSION_PHASE_NAME = MR_Phase_1
PROCESSING_LEVEL_ID = 3
PRODUCT_CREATION_TIME = 2016-03-04T06:22:19.000Z
PRODUCT_ID = "H0644_0000_GR3.JP2"
RELEASE_ID = 0010
REVISION_ID = 0000
/* QUALITY DATA ELEMENTS */
DATA_QUALITY_ID = 1
DATA_QUALITY_DESC = "Data calculated based on original SPICE kernels"
/* TIME DATA ELEMENTS */
SPACECRAFT_CLOCK_START_COUNT = "1/0038543189.57290"
SPACECRAFT_CLOCK_STOP_COUNT = "1/0038545515.44921"
START_TIME = 2004-07-22T02:29:30.481Z
STOP_TIME = 2004-07-22T02:44:56.996Z
/* ORBITAL DATA ELEMENTS */
ASCENDING_NODE_LONGITUDE = 215.52
MAXIMUM_RESOLUTION = 519.6
FOOTPRINT_POINT_LATITUDE = (-34.2189,-34.221,-34.2137,-34.1963, -34.1697,-34.1335,-33.7565,-33.0704, -32.3924,-31.7193,-31.0535,-30.3949, -29.743,-29.0979,-28.4589,-27.826, -27.1997,-26.5795,-25.9659,-25.3587, -24.7564,-24.1593,-23.5686,-22.9835, -22.4043,-21.8306,-21.2623,-20.6993, -20.1415,-19.5888,-19.0412,-18.4988, -17.9611,-17.4281,-16.9001,-16.3769, -15.8584,-15.3444,-14.8351,-14.3302, -13.3335,-12.3546,-11.6298,-10.6778, -9.74273,-8.82328,-7.91704,-7.02567, -6.70421,-6.81455,-6.96165,-7.11684, -7.24105,-7.32603,-7.44387,-7.52442, -7.60281,-7.69006,-7.79623,-7.87729, -8.69698,-9.53084,-10.3814,-11.2483, -12.132,-13.0339,-13.9531,-14.8901, -15.8456,-16.8209,-17.8168,-18.3226, -18.8315,-19.3478,-19.8683,-20.3948, -20.9269,-21.4647,-22.0079,-22.556, -23.1107,-23.6713,-24.2395,-24.8124, -25.391,-25.9762,-26.5683,-27.1663, -27.771,-28.3821,-28.9989,-29.6234, -30.2544,-30.893,-31.5383,-32.1914, -32.851,-33.5177,-34.1922,-34.2189)
FOOTPRINT_POINT_LONGITUDE = (208.407,209.868,210.692,211.706, 212.719,213.737,214.233,214.243,214.249 ,214.258,214.265,214.27,214.274,214.277 ,214.279,214.281,214.282,214.282, 214.281,214.278,214.276,214.274,214.271 ,214.267,214.263,214.257,214.252, 214.245,214.239,214.232,214.224,214.216 ,214.208,214.199,214.19,214.181,214.171 ,214.16,214.15,214.139,214.116,214.091, 214.073,214.049,214.021,213.993,213.965 ,213.937,213.034,212.232,211.134, 209.939,208.945,208.249,207.252,206.553 ,205.852,205.049,204.041,203.262, 203.469,203.671,203.872,204.071,204.267 ,204.464,204.656,204.844,205.029, 205.211,205.392,205.481,205.565,205.653 ,205.738,205.822,205.907,205.99,206.072 ,206.15,206.23,206.308,206.389,206.466, 206.54,206.614,206.688,206.759,206.829, 206.898,206.963,207.028,207.091,207.153 ,207.213,207.273,207.329,207.383, 207.435,208.407)
ORBIT_NUMBER = 644
ORBITAL_ECCENTRICITY = 0.574
ORBITAL_INCLINATION = 86.56
ORBITAL_SEMIMAJOR_AXIS = 8542.71
PERIAPSIS_ALTITUDE = 264.38
PERIAPSIS_ARGUMENT_ANGLE = 249.03
PERIAPSIS_TIME = 2004-07-22T02:06:09.000Z
SPACECRAFT_ORIENTATION = (0.0,-1.0,0.0)
^MEX_ORIENTATION_DESC = "MEX_ORIENTATION_DESC.TXT"
SPACECRAFT_POINTING_MODE = NADIR
^MEX_POINTING_DESC = "MEX_POINTING_DESC.TXT"
RIGHT_ASCENSION = -1e+32
DECLINATION = -1e+32
OFFSET_ANGLE = -1e+32
SPACECRAFT_SOLAR_DISTANCE = 2.49038e+08
TARGET_NAME = MARS
/* CAMERA DATA ELEMENTS */
DETECTOR_TEMPERATURE = 17.9627
FOCAL_PLANE_TEMPERATURE = 7.3599
INST_CMPRS_NAME = "DISCRETE COSINE TRANSFORMATION (DCT)"
INST_CMPRS_RATIO = 7.14218
INST_CMPRS_QUALITY = 0
INST_CMPRS_QUANTZ_TBL_ID = 0
INSTRUMENT_TEMPERATURE = 10.8262
LENS_TEMPERATURE = 7.7677
MACROPIXEL_SIZE = 8
MISSING_FRAMES = 0
PIXEL_SUBSAMPLING_FLAG = N
SIGNAL_CHAIN_ID = 2
/* RADIOMETRIC DATA ELEMENTS */
BANDWIDTH = 88.0
CENTER_FILTER_WAVELENGTH = 538.0
RADIANCE_OFFSET = 0.0616258
RADIANCE_SCALING_FACTOR = 0.00644453
REFLECTANCE_SCALING_FACTOR = 0.000344123
MEX:REFLECTANCE_OFFSET = 0.00329068
/* IMAGE OBJECT DEFINITIONS */
OBJECT = IMAGE
  INTERCHANGE_FORMAT = BINARY
  LINES = 4118
  LINE_SAMPLES = 1707
  SAMPLE_TYPE = UNSIGNED_INTEGER
  SAMPLE_BITS = 8
  BANDS = 1
  BAND_STORAGE_TYPE = BAND_SEQUENTIAL
  MAXIMUM = 254
  MEAN = 85.6094
  MINIMUM = 8
  STANDARD_DEVIATION = 40.3541
END_OBJECT = IMAGE
/* MAP OBJECT DEFINITIONS */
OBJECT = IMAGE_MAP_PROJECTION
  ^DATA_SET_MAP_PROJECTION_CATALOG= "DSMAP.CAT"
  A_AXIS_RADIUS = 3396.0
  B_AXIS_RADIUS = 3396.0
  C_AXIS_RADIUS = 3396.0
  CENTER_LATITUDE = 0.0
  CENTER_LONGITUDE = 210.0
  COORDINATE_SYSTEM_NAME = PLANETOGRAPHIC
  COORDINATE_SYSTEM_TYPE = "BODY-FIXED ROTATING"
  EASTERNMOST_LONGITUDE = 214.282
  FIRST_STANDARD_PARALLEL = "N/A"
  LINE_FIRST_PIXEL = 1
  LINE_LAST_PIXEL = 4118
  LINE_PROJECTION_OFFSET = -958.375
  MAP_PROJECTION_ROTATION = 0.0
  MAP_PROJECTION_TYPE = SINUSOIDAL
  MAP_RESOLUTION = 148.178450966667
  MAP_SCALE = 0.4
  MAXIMUM_LATITUDE = -6.70421
  MINIMUM_LATITUDE = -34.221
  POSITIVE_LONGITUDE_DIRECTION = EAST
  REFERENCE_LATITUDE = "N/A"
  REFERENCE_LONGITUDE = "N/A"
  SAMPLE_FIRST_PIXEL = 1
  SAMPLE_LAST_PIXEL = 1707
  SAMPLE_PROJECTION_OFFSET = 1045.125
  SECOND_STANDARD_PARALLEL = "N/A"
  WESTERNMOST_LONGITUDE = 203.262
END_OBJECT = IMAGE_MAP_PROJECTION
/* The JPEG2000 image data file associated with this label. */
OBJECT = COMPRESSED_FILE
  FILE_NAME = "H0644_0000_GR3.JP2"
  RECORD_TYPE = UNDEFINED
  FILE_RECORDS = UNK
  ENCODING_TYPE = "JP2"
  INTERCHANGE_FORMAT = BINARY
  UNCOMPRESSED_FILE_NAME = "H0644_0000_GR3.IMG"
  REQUIRED_STORAGE_BYTES = "7049910"
  ^DESCRIPTION = "JP2INFO.TXT"
END_OBJECT = COMPRESSED_FILE
END
