PDS_VERSION_ID = PDS3
/* FILE DATA ELEMENTS */
RECORD_TYPE = STREAM
/* POINTERS TO DATA OBJECTS */
^COMPRESSED_FILE = "H0648_0000_RE3.JP2"
/* IDENTIFICATION DATA ELEMENTS */
DATA_SET_ID = "MEX-M-HRSC-5-REFDR-MAPPROJECTED-V3.0"
DATA_SET_NAME = "MARS EXPRESS HRSC MAP PROJECTED REFDR V3.0"
DETECTOR_ID = MEX_HRSC_RED
EVENT_TYPE = "MARS-LOCAL-VARIABLE-Vo-Tc-At"
INSTRUMENT_HOST_ID = MEX
INSTRUMENT_HOST_NAME = "MARS EXPRESS"
INSTRUMENT_ID = HRSC
INSTRUMENT_NAME = "HIGH RESOLUTION STEREO CAMERA"
MISSION_NAME = "MARS EXPRESS"
MISSION_PHASE_NAME = MR_Phase_1
PROCESSING_LEVEL_ID = 3
PRODUCT_CREATION_TIME = 2016-03-04T06:22:19.000Z
PRODUCT_ID = "H0648_0000_RE3.JP2"
RELEASE_ID = 0010
REVISION_ID = 0000
/* QUALITY DATA ELEMENTS */
DATA_QUALITY_ID = 1
DATA_QUALITY_DESC = "Data calculated based on original SPICE kernels"
/* TIME DATA ELEMENTS */
SPACECRAFT_CLOCK_START_COUNT = "1/0038640142.57159"
SPACECRAFT_CLOCK_STOP_COUNT = "1/0038642345.59001"
START_TIME = 2004-07-23T05:36:57.279Z
STOP_TIME = 2004-07-23T05:59:12.978Z
/* ORBITAL DATA ELEMENTS */
ASCENDING_NODE_LONGITUDE = 215.43
MAXIMUM_RESOLUTION = 1028.6
FOOTPRINT_POINT_LATITUDE = (-27.9912,-27.9361,-27.8814,-27.827, -27.7729,-27.7193,-27.666,-27.613, -27.5603,-27.5079,-27.4558,-27.404, -27.3525,-27.3014,-27.2506,-27.2001, -27.1498,-27.0998,-27.0501,-27.0005, -26.9511,-26.9019,-26.8528,-26.8039, -26.7551,-26.7065,-26.5062,-26.1223, -25.746,-25.3773,-25.0148,-24.6581, -23.9647,-23.2955,-22.6454,-22.0229, -21.4258,-20.8476,-20.2876,-19.7501, -19.229,-18.7303,-18.1301,-17.6689, -17.2239,-16.7987,-16.0879,-15.4187, -15.0476,-14.6989,-14.3664,-13.962, -13.9534,-14.0064,-14.0834,-14.14, -14.2344,-14.3818,-14.4955,-14.6402, -14.7936,-14.8816,-15.0393,-15.1849, -15.3372,-15.4446,-15.5759,-15.7445, -15.9131,-16.0987,-16.2905,-16.432, -16.6268,-16.829,-16.9872,-17.1943, -17.4668,-17.6466,-17.8083,-17.9232, -18.159,-18.3846,-18.763,-19.1898, -19.675,-20.2994,-21.063,-21.8493, -22.2292,-22.8569,-23.6382,-24.107, -24.6066,-25.0049,-25.5462,-26.1335, -26.7411,-27.1977,-27.684,-27.9912)
FOOTPRINT_POINT_LONGITUDE = (172.366,172.823,173.279,173.733, 174.185,174.637,175.087,175.536,175.985 ,176.434,176.882,177.329,177.777, 178.223,178.67,179.116,179.563,180.01, 180.456,180.904,181.352,181.801,182.252 ,182.703,183.155,183.609,183.943, 184.008,184.074,184.14,184.207,184.273, 184.407,184.543,184.677,184.816,184.959 ,185.102,185.246,185.393,185.539, 185.691,185.881,186.035,186.191,186.35, 186.63,186.913,187.071,187.236,187.404, 187.611,186.963,186.597,186.049,185.687 ,185.152,184.258,183.543,182.845, 182.152,181.622,180.932,180.236,179.544 ,179.023,178.509,177.82,177.131,176.444 ,175.756,175.238,174.548,173.856, 173.337,172.641,171.768,171.241,170.712 ,170.358,169.647,168.99,169.184,169.384 ,169.59,169.828,170.107,170.368,170.486 ,170.664,170.879,171.006,171.133, 171.228,171.358,171.485,171.615,171.718 ,171.818,172.366)
ORBIT_NUMBER = 648
ORBITAL_ECCENTRICITY = 0.573
ORBITAL_INCLINATION = 86.55
ORBITAL_SEMIMAJOR_AXIS = 8543.33
PERIAPSIS_ALTITUDE = 265.59
PERIAPSIS_ARGUMENT_ANGLE = 248.32
PERIAPSIS_TIME = 2004-07-23T04:59:16.000Z
SPACECRAFT_ORIENTATION = (0.0,-1.0,0.0)
^MEX_ORIENTATION_DESC = "MEX_ORIENTATION_DESC.TXT"
SPACECRAFT_POINTING_MODE = NADIR
^MEX_POINTING_DESC = "MEX_POINTING_DESC.TXT"
RIGHT_ASCENSION = -1e+32
DECLINATION = -1e+32
OFFSET_ANGLE = -1e+32
SPACECRAFT_SOLAR_DISTANCE = 2.49066e+08
TARGET_NAME = MARS
/* CAMERA DATA ELEMENTS */
DETECTOR_TEMPERATURE = 18.5744
FOCAL_PLANE_TEMPERATURE = 7.5638
INST_CMPRS_NAME = "DISCRETE COSINE TRANSFORMATION (DCT)"
INST_CMPRS_RATIO = 6.69822
INST_CMPRS_QUALITY = 0
INST_CMPRS_QUANTZ_TBL_ID = 0
INSTRUMENT_TEMPERATURE = 10.8262
LENS_TEMPERATURE = 7.9716
MACROPIXEL_SIZE = 8
MISSING_FRAMES = 0
PIXEL_SUBSAMPLING_FLAG = N
SIGNAL_CHAIN_ID = 2
/* RADIOMETRIC DATA ELEMENTS */
BANDWIDTH = 48.0
CENTER_FILTER_WAVELENGTH = 748.0
RADIANCE_OFFSET = 0.0432751
RADIANCE_SCALING_FACTOR = 0.00610942
REFLECTANCE_SCALING_FACTOR = 0.000864879
MEX:REFLECTANCE_OFFSET = 0.00612622
/* IMAGE OBJECT DEFINITIONS */
OBJECT = IMAGE
  INTERCHANGE_FORMAT = BINARY
  LINES = 1673
  LINE_SAMPLES = 900
  SAMPLE_TYPE = UNSIGNED_INTEGER
  SAMPLE_BITS = 8
  BANDS = 1
  BAND_STORAGE_TYPE = BAND_SEQUENTIAL
  MAXIMUM = 262
  MEAN = 99.037
  MINIMUM = 6
  STANDARD_DEVIATION = 44.4033
END_OBJECT = IMAGE
/* MAP OBJECT DEFINITIONS */
OBJECT = IMAGE_MAP_PROJECTION
  ^DATA_SET_MAP_PROJECTION_CATALOG= "DSMAP.CAT"
  A_AXIS_RADIUS = 3396.0
  B_AXIS_RADIUS = 3396.0
  C_AXIS_RADIUS = 3396.0
  CENTER_LATITUDE = 0.0
  CENTER_LONGITUDE = 176.0
  COORDINATE_SYSTEM_NAME = PLANETOGRAPHIC
  COORDINATE_SYSTEM_TYPE = "BODY-FIXED ROTATING"
  EASTERNMOST_LONGITUDE = 187.611
  FIRST_STANDARD_PARALLEL = "N/A"
  LINE_FIRST_PIXEL = 1
  LINE_LAST_PIXEL = 1673
  LINE_PROJECTION_OFFSET = -355.875
  MAP_PROJECTION_ROTATION = 0.0
  MAP_PROJECTION_TYPE = SINUSOIDAL
  MAP_RESOLUTION = 74.08922548333329
  MAP_SCALE = 0.8
  MAXIMUM_LATITUDE = -13.9534
  MINIMUM_LATITUDE = -27.9912
  POSITIVE_LONGITUDE_DIRECTION = EAST
  REFERENCE_LATITUDE = "N/A"
  REFERENCE_LONGITUDE = "N/A"
  SAMPLE_FIRST_PIXEL = 1
  SAMPLE_LAST_PIXEL = 900
  SAMPLE_PROJECTION_OFFSET = 511.125
  SECOND_STANDARD_PARALLEL = "N/A"
  WESTERNMOST_LONGITUDE = 168.99
END_OBJECT = IMAGE_MAP_PROJECTION
/* The JPEG2000 image data file associated with this label. */
OBJECT = COMPRESSED_FILE
  FILE_NAME = "H0648_0000_RE3.JP2"
  RECORD_TYPE = UNDEFINED
  FILE_RECORDS = UNK
  ENCODING_TYPE = "JP2"
  INTERCHANGE_FORMAT = BINARY
  UNCOMPRESSED_FILE_NAME = "H0648_0000_RE3.IMG"
  REQUIRED_STORAGE_BYTES = "1524600"
  ^DESCRIPTION = "JP2INFO.TXT"
END_OBJECT = COMPRESSED_FILE
END
