PDS_VERSION_ID = PDS3
/* FILE DATA ELEMENTS */
RECORD_TYPE = STREAM
/* POINTERS TO DATA OBJECTS */
^COMPRESSED_FILE = "H0665_0000_BL3.JP2"
/* IDENTIFICATION DATA ELEMENTS */
DATA_SET_ID = "MEX-M-HRSC-5-REFDR-MAPPROJECTED-V3.0"
DATA_SET_NAME = "MARS EXPRESS HRSC MAP PROJECTED REFDR V3.0"
DETECTOR_ID = MEX_HRSC_BLUE
EVENT_TYPE = "MARS-LOCAL-VARIABLE-At"
INSTRUMENT_HOST_ID = MEX
INSTRUMENT_HOST_NAME = "MARS EXPRESS"
INSTRUMENT_ID = HRSC
INSTRUMENT_NAME = "HIGH RESOLUTION STEREO CAMERA"
MISSION_NAME = "MARS EXPRESS"
MISSION_PHASE_NAME = MR_Phase_1
PROCESSING_LEVEL_ID = 3
PRODUCT_CREATION_TIME = 2016-03-04T06:29:32.000Z
PRODUCT_ID = "H0665_0000_BL3.JP2"
RELEASE_ID = 0011
REVISION_ID = 0000
/* QUALITY DATA ELEMENTS */
DATA_QUALITY_ID = 1
DATA_QUALITY_DESC = "Data calculated based on original SPICE kernels"
/* TIME DATA ELEMENTS */
SPACECRAFT_CLOCK_START_COUNT = "1/0039051636.57958"
SPACECRAFT_CLOCK_STOP_COUNT = "1/0039053869.13840"
START_TIME = 2004-07-27T23:59:17.314Z
STOP_TIME = 2004-07-28T00:12:32.192Z
/* ORBITAL DATA ELEMENTS */
ASCENDING_NODE_LONGITUDE = 215.07
MAXIMUM_RESOLUTION = 1142.8
FOOTPRINT_POINT_LATITUDE = (-11.9011,-11.8305,-11.7599,-11.6891, -11.6183,-11.5472,-11.476,-11.4046, -11.3331,-11.2614,-11.1895,-11.1173, -11.0451,-10.9726,-10.8999,-10.827, -10.7539,-10.6804,-10.6066,-10.5325, -10.4581,-10.3831,-10.3077,-10.232, -10.1561,-9.78153,-9.22727,-8.81628, -8.14756,-7.61235,-6.95551,-6.43706, -5.78918,-5.28433,-4.7853,-4.29314, -3.80624,-3.32494,-2.84908,-2.37891, -1.91369,-1.45365,-0.999237,-0.549443, -0.104412,0.335886,0.771518,1.20254, 1.62887,2.05083,2.05649,1.89561,1.73077 ,1.53616,1.40356,1.30446,1.13569, 1.00133,0.866114,0.764458,0.6282, 0.526614,0.387493,0.247179,0.0356207, -0.106783,-0.287804,-0.394945,-0.504916 ,-0.649826,-0.797511,-0.946715,-1.09735 ,-1.24963,-1.4032,-1.54993,-2.24591, -2.96115,-3.32604,-3.6956,-4.07928, -4.45063,-4.83625,-5.22732,-5.62367, -6.02595,-6.4341,-6.84781,-7.26628, -7.69453,-8.12738,-8.6779,-9.12574, -9.58001,-10.0429,-10.5131,-10.9889, -11.4761,-11.9695,-11.9011)
FOOTPRINT_POINT_LONGITUDE = (298.735,299.21,299.683,300.154,300.624 ,301.094,301.562,302.03,302.497,302.964 ,303.43,303.895,304.361,304.825,305.29, 305.755,306.22,306.685,307.151,307.617, 308.084,308.552,309.022,309.492,309.963 ,310.49,310.487,310.485,310.498,310.49, 310.486,310.482,310.455,310.449,310.443 ,310.439,310.434,310.429,310.423, 310.418,310.412,310.406,310.401,310.395 ,310.389,310.383,310.376,310.37,310.364 ,310.358,309.766,309.0,308.242,307.329, 306.728,306.277,305.53,304.933,304.337, 303.89,303.295,302.849,302.255,301.661, 300.77,300.175,299.431,298.984,298.537, 297.94,297.341,296.742,296.14,295.536, 294.929,294.373,294.664,294.955,295.1, 295.245,295.382,295.536,295.681,295.826 ,295.972,296.117,296.262,296.407, 296.554,296.697,296.842,297.022,297.167 ,297.312,297.455,297.598,297.742, 297.882,298.024,298.735)
ORBIT_NUMBER = 665
ORBITAL_ECCENTRICITY = 0.573
ORBITAL_INCLINATION = 86.56
ORBITAL_SEMIMAJOR_AXIS = 8547.63
PERIAPSIS_ALTITUDE = 266.23
PERIAPSIS_ARGUMENT_ANGLE = 245.36
PERIAPSIS_TIME = 2004-07-27T23:15:03.000Z
SPACECRAFT_ORIENTATION = (0.0,-1.0,0.0)
^MEX_ORIENTATION_DESC = "MEX_ORIENTATION_DESC.TXT"
SPACECRAFT_POINTING_MODE = NADIR
^MEX_POINTING_DESC = "MEX_POINTING_DESC.TXT"
RIGHT_ASCENSION = -1e+32
DECLINATION = -1e+32
OFFSET_ANGLE = -1e+32
SPACECRAFT_SOLAR_DISTANCE = 2.4916e+08
TARGET_NAME = MARS
/* CAMERA DATA ELEMENTS */
DETECTOR_TEMPERATURE = 17.9627
FOCAL_PLANE_TEMPERATURE = 7.3599
INST_CMPRS_NAME = "DISCRETE COSINE TRANSFORMATION (DCT)"
INST_CMPRS_RATIO = 8.17094
INST_CMPRS_QUALITY = 0
INST_CMPRS_QUANTZ_TBL_ID = 0
INSTRUMENT_TEMPERATURE = 10.6223
LENS_TEMPERATURE = 7.7677
MACROPIXEL_SIZE = 8
MISSING_FRAMES = 0
PIXEL_SUBSAMPLING_FLAG = N
SIGNAL_CHAIN_ID = 2
/* RADIOMETRIC DATA ELEMENTS */
BANDWIDTH = 76.0
CENTER_FILTER_WAVELENGTH = 444.0
RADIANCE_OFFSET = 0.156976
RADIANCE_SCALING_FACTOR = 0.00216112
REFLECTANCE_SCALING_FACTOR = 0.000137846
MEX:REFLECTANCE_OFFSET = 0.0100126
/* IMAGE OBJECT DEFINITIONS */
OBJECT = IMAGE
  INTERCHANGE_FORMAT = BINARY
  LINES = 722
  LINE_SAMPLES = 1113
  SAMPLE_TYPE = UNSIGNED_INTEGER
  SAMPLE_BITS = 8
  BANDS = 1
  BAND_STORAGE_TYPE = BAND_SEQUENTIAL
  MAXIMUM = 216
  MEAN = 113.21
  MINIMUM = 45
  STANDARD_DEVIATION = 26.7064
END_OBJECT = IMAGE
/* MAP OBJECT DEFINITIONS */
OBJECT = IMAGE_MAP_PROJECTION
  ^DATA_SET_MAP_PROJECTION_CATALOG= "DSMAP.CAT"
  A_AXIS_RADIUS = 3396.0
  B_AXIS_RADIUS = 3396.0
  C_AXIS_RADIUS = 3396.0
  CENTER_LATITUDE = 0.0
  CENTER_LONGITUDE = 303.0
  COORDINATE_SYSTEM_NAME = PLANETOGRAPHIC
  COORDINATE_SYSTEM_TYPE = "BODY-FIXED ROTATING"
  EASTERNMOST_LONGITUDE = 310.498
  FIRST_STANDARD_PARALLEL = "N/A"
  LINE_FIRST_PIXEL = 1
  LINE_LAST_PIXEL = 722
  LINE_PROJECTION_OFFSET = 141.375
  MAP_PROJECTION_ROTATION = 0.0
  MAP_PROJECTION_TYPE = SINUSOIDAL
  MAP_RESOLUTION = 74.08922548333329
  MAP_SCALE = 0.8
  MAXIMUM_LATITUDE = 2.05649
  MINIMUM_LATITUDE = -11.9695
  POSITIVE_LONGITUDE_DIRECTION = EAST
  REFERENCE_LATITUDE = "N/A"
  REFERENCE_LONGITUDE = "N/A"
  SAMPLE_FIRST_PIXEL = 1
  SAMPLE_LAST_PIXEL = 1113
  SAMPLE_PROJECTION_OFFSET = 591.125
  SECOND_STANDARD_PARALLEL = "N/A"
  WESTERNMOST_LONGITUDE = 294.373
END_OBJECT = IMAGE_MAP_PROJECTION
/* The JPEG2000 image data file associated with this label. */
OBJECT = COMPRESSED_FILE
  FILE_NAME = "H0665_0000_BL3.JP2"
  RECORD_TYPE = UNDEFINED
  FILE_RECORDS = UNK
  ENCODING_TYPE = "JP2"
  INTERCHANGE_FORMAT = BINARY
  UNCOMPRESSED_FILE_NAME = "H0665_0000_BL3.IMG"
  REQUIRED_STORAGE_BYTES = "822507"
  ^DESCRIPTION = "JP2INFO.TXT"
END_OBJECT = COMPRESSED_FILE
END
